BEGIN:VCALENDAR
VERSION:2.0
PRODID:-//New Covenant Christian Ministries - ECPv6.15.20//NONSGML v1.0//EN
CALSCALE:GREGORIAN
METHOD:PUBLISH
X-WR-CALNAME:New Covenant Christian Ministries
X-ORIGINAL-URL:https://newcov.org
X-WR-CALDESC:Events for New Covenant Christian Ministries
REFRESH-INTERVAL;VALUE=DURATION:PT1H
X-Robots-Tag:noindex
X-PUBLISHED-TTL:PT1H
BEGIN:VTIMEZONE
TZID:UTC
BEGIN:STANDARD
TZOFFSETFROM:+0000
TZOFFSETTO:+0000
TZNAME:UTC
DTSTART:20190101T000000
END:STANDARD
END:VTIMEZONE
BEGIN:VEVENT
DTSTART;TZID=UTC:20210307T080000
DTEND;TZID=UTC:20210307T113000
DTSTAMP:20260419T180620
CREATED:20210205T014631Z
LAST-MODIFIED:20210312T185858Z
UID:10000719-1615104000-1615116600@newcov.org
SUMMARY:Worship Service
DESCRIPTION:
URL:https://newcov.org/event/worship-service-2021-02-21/2021-03-07/
LOCATION:Zoom
ATTACH;FMTTYPE=image/jpeg:https://newcov.org/wp-content/uploads/2021/02/live-stream-service-1.jpg
END:VEVENT
BEGIN:VEVENT
DTSTART;TZID=UTC:20210305T200000
DTEND;TZID=UTC:20210305T200000
DTSTAMP:20260419T180620
CREATED:20210205T234911Z
LAST-MODIFIED:20210206T025643Z
UID:10000603-1614974400-1614974400@newcov.org
SUMMARY:Online Communion
DESCRIPTION:
URL:https://newcov.org/event/online-communion-2/
LOCATION:Zoom
ATTACH;FMTTYPE=image/jpeg:https://newcov.org/wp-content/uploads/2021/02/bread-wine-communion.jpg
END:VEVENT
BEGIN:VEVENT
DTSTART;TZID=UTC:20210228T093000
DTEND;TZID=UTC:20210228T093000
DTSTAMP:20260419T180620
CREATED:20210206T000408Z
LAST-MODIFIED:20210207T004418Z
UID:10000601-1614504600-1614504600@newcov.org
SUMMARY:Journey for a Lifetime - Session 1
DESCRIPTION:
URL:https://newcov.org/event/journey-for-a-lifetime/
LOCATION:Zoom
ATTACH;FMTTYPE=image/jpeg:https://newcov.org/wp-content/uploads/2021/02/adults-blur-couple-888899.jpg
END:VEVENT
BEGIN:VEVENT
DTSTART;TZID=UTC:20210228T080000
DTEND;TZID=UTC:20210228T113000
DTSTAMP:20260419T180620
CREATED:20210205T014631Z
LAST-MODIFIED:20210312T185858Z
UID:10000718-1614499200-1614511800@newcov.org
SUMMARY:Worship Service
DESCRIPTION:
URL:https://newcov.org/event/worship-service-2021-02-21/2021-02-28/
LOCATION:Zoom
ATTACH;FMTTYPE=image/jpeg:https://newcov.org/wp-content/uploads/2021/02/live-stream-service-1.jpg
END:VEVENT
BEGIN:VEVENT
DTSTART;TZID=UTC:20210221T080000
DTEND;TZID=UTC:20210221T113000
DTSTAMP:20260419T180620
CREATED:20210205T014631Z
LAST-MODIFIED:20210312T185858Z
UID:10000717-1613894400-1613907000@newcov.org
SUMMARY:Worship Service
DESCRIPTION:
URL:https://newcov.org/event/worship-service-2021-02-21/2021-02-21/
LOCATION:Zoom
ATTACH;FMTTYPE=image/jpeg:https://newcov.org/wp-content/uploads/2021/02/live-stream-service-1.jpg
END:VEVENT
BEGIN:VEVENT
DTSTART;TZID=UTC:20210214T113000
DTEND;TZID=UTC:20210214T123000
DTSTAMP:20260419T180620
CREATED:20210205T014631Z
LAST-MODIFIED:20210207T002115Z
UID:10000595-1613302200-1613305800@newcov.org
SUMMARY:Worship Service
DESCRIPTION:
URL:https://newcov.org/event/worship-service-2021-02-14/
LOCATION:Zoom
ATTACH;FMTTYPE=image/jpeg:https://newcov.org/wp-content/uploads/2021/02/bread-of-life-calendar.jpg
END:VEVENT
BEGIN:VEVENT
DTSTART;TZID=UTC:20210207T113000
DTEND;TZID=UTC:20210207T123000
DTSTAMP:20260419T180620
CREATED:20210205T014631Z
LAST-MODIFIED:20210207T003049Z
UID:10000594-1612697400-1612701000@newcov.org
SUMMARY:Worship Service
DESCRIPTION:
URL:https://newcov.org/event/worship-service/
LOCATION:Zoom
ATTACH;FMTTYPE=image/jpeg:https://newcov.org/wp-content/uploads/2021/02/living-savior-calendar.jpg
END:VEVENT
BEGIN:VEVENT
DTSTART;TZID=UTC:20210205T200000
DTEND;TZID=UTC:20210205T200000
DTSTAMP:20260419T180620
CREATED:20210205T234658Z
LAST-MODIFIED:20210205T234658Z
UID:10000604-1612555200-1612555200@newcov.org
SUMMARY:Online Communion
DESCRIPTION:
URL:https://newcov.org/event/online-communion/
LOCATION:Zoom
ATTACH;FMTTYPE=image/jpeg:https://newcov.org/wp-content/uploads/2021/02/bread-wine-communion.jpg
END:VEVENT
BEGIN:VEVENT
DTSTART;TZID=UTC:20201227T113000
DTEND;TZID=UTC:20201227T123000
DTSTAMP:20260419T180620
CREATED:20200909T225036Z
LAST-MODIFIED:20200910T071833Z
UID:10000586-1609068600-1609072200@newcov.org
SUMMARY:Live Stream Worship Service
DESCRIPTION:
URL:https://newcov.org/event/live-stream-worship-service/2020-12-27/
LOCATION:Zoom
ATTACH;FMTTYPE=image/jpeg:https://newcov.org/wp-content/uploads/2020/09/live-stream-service-1.jpg
END:VEVENT
BEGIN:VEVENT
DTSTART;TZID=UTC:20201220T113000
DTEND;TZID=UTC:20201220T123000
DTSTAMP:20260419T180620
CREATED:20200909T225036Z
LAST-MODIFIED:20200910T071833Z
UID:10000585-1608463800-1608467400@newcov.org
SUMMARY:Live Stream Worship Service
DESCRIPTION:
URL:https://newcov.org/event/live-stream-worship-service/2020-12-20/
LOCATION:Zoom
ATTACH;FMTTYPE=image/jpeg:https://newcov.org/wp-content/uploads/2020/09/live-stream-service-1.jpg
END:VEVENT
BEGIN:VEVENT
DTSTART;TZID=UTC:20201213T113000
DTEND;TZID=UTC:20201213T123000
DTSTAMP:20260419T180620
CREATED:20200909T225036Z
LAST-MODIFIED:20200910T071833Z
UID:10000584-1607859000-1607862600@newcov.org
SUMMARY:Live Stream Worship Service
DESCRIPTION:
URL:https://newcov.org/event/live-stream-worship-service/2020-12-13/
LOCATION:Zoom
ATTACH;FMTTYPE=image/jpeg:https://newcov.org/wp-content/uploads/2020/09/live-stream-service-1.jpg
END:VEVENT
BEGIN:VEVENT
DTSTART;TZID=UTC:20201206T113000
DTEND;TZID=UTC:20201206T123000
DTSTAMP:20260419T180620
CREATED:20200909T225036Z
LAST-MODIFIED:20200910T071833Z
UID:10000583-1607254200-1607257800@newcov.org
SUMMARY:Live Stream Worship Service
DESCRIPTION:
URL:https://newcov.org/event/live-stream-worship-service/2020-12-06/
LOCATION:Zoom
ATTACH;FMTTYPE=image/jpeg:https://newcov.org/wp-content/uploads/2020/09/live-stream-service-1.jpg
END:VEVENT
BEGIN:VEVENT
DTSTART;TZID=UTC:20201129T113000
DTEND;TZID=UTC:20201129T123000
DTSTAMP:20260419T180620
CREATED:20200909T225036Z
LAST-MODIFIED:20200910T071833Z
UID:10000582-1606649400-1606653000@newcov.org
SUMMARY:Live Stream Worship Service
DESCRIPTION:
URL:https://newcov.org/event/live-stream-worship-service/2020-11-29/
LOCATION:Zoom
ATTACH;FMTTYPE=image/jpeg:https://newcov.org/wp-content/uploads/2020/09/live-stream-service-1.jpg
END:VEVENT
BEGIN:VEVENT
DTSTART;TZID=UTC:20201122T113000
DTEND;TZID=UTC:20201122T123000
DTSTAMP:20260419T180620
CREATED:20200909T225036Z
LAST-MODIFIED:20200910T071833Z
UID:10000581-1606044600-1606048200@newcov.org
SUMMARY:Live Stream Worship Service
DESCRIPTION:
URL:https://newcov.org/event/live-stream-worship-service/2020-11-22/
LOCATION:Zoom
ATTACH;FMTTYPE=image/jpeg:https://newcov.org/wp-content/uploads/2020/09/live-stream-service-1.jpg
END:VEVENT
BEGIN:VEVENT
DTSTART;TZID=UTC:20201115T113000
DTEND;TZID=UTC:20201115T123000
DTSTAMP:20260419T180620
CREATED:20200909T225036Z
LAST-MODIFIED:20200910T071833Z
UID:10000580-1605439800-1605443400@newcov.org
SUMMARY:Live Stream Worship Service
DESCRIPTION:
URL:https://newcov.org/event/live-stream-worship-service/2020-11-15/
LOCATION:Zoom
ATTACH;FMTTYPE=image/jpeg:https://newcov.org/wp-content/uploads/2020/09/live-stream-service-1.jpg
END:VEVENT
BEGIN:VEVENT
DTSTART;TZID=UTC:20201108T113000
DTEND;TZID=UTC:20201108T123000
DTSTAMP:20260419T180620
CREATED:20200909T225036Z
LAST-MODIFIED:20200910T071833Z
UID:10000579-1604835000-1604838600@newcov.org
SUMMARY:Live Stream Worship Service
DESCRIPTION:
URL:https://newcov.org/event/live-stream-worship-service/2020-11-08/
LOCATION:Zoom
ATTACH;FMTTYPE=image/jpeg:https://newcov.org/wp-content/uploads/2020/09/live-stream-service-1.jpg
END:VEVENT
BEGIN:VEVENT
DTSTART;TZID=UTC:20201101T113000
DTEND;TZID=UTC:20201101T123000
DTSTAMP:20260419T180620
CREATED:20200909T225036Z
LAST-MODIFIED:20200910T071833Z
UID:10000578-1604230200-1604233800@newcov.org
SUMMARY:Live Stream Worship Service
DESCRIPTION:
URL:https://newcov.org/event/live-stream-worship-service/2020-11-01/
LOCATION:Zoom
ATTACH;FMTTYPE=image/jpeg:https://newcov.org/wp-content/uploads/2020/09/live-stream-service-1.jpg
END:VEVENT
BEGIN:VEVENT
DTSTART;TZID=UTC:20201025T113000
DTEND;TZID=UTC:20201025T123000
DTSTAMP:20260419T180620
CREATED:20200909T225036Z
LAST-MODIFIED:20200910T071833Z
UID:10000577-1603625400-1603629000@newcov.org
SUMMARY:Live Stream Worship Service
DESCRIPTION:
URL:https://newcov.org/event/live-stream-worship-service/2020-10-25/
LOCATION:Zoom
ATTACH;FMTTYPE=image/jpeg:https://newcov.org/wp-content/uploads/2020/09/live-stream-service-1.jpg
END:VEVENT
BEGIN:VEVENT
DTSTART;TZID=UTC:20201018T113000
DTEND;TZID=UTC:20201018T123000
DTSTAMP:20260419T180620
CREATED:20200909T225036Z
LAST-MODIFIED:20200910T071833Z
UID:10000576-1603020600-1603024200@newcov.org
SUMMARY:Live Stream Worship Service
DESCRIPTION:
URL:https://newcov.org/event/live-stream-worship-service/2020-10-18/
LOCATION:Zoom
ATTACH;FMTTYPE=image/jpeg:https://newcov.org/wp-content/uploads/2020/09/live-stream-service-1.jpg
END:VEVENT
BEGIN:VEVENT
DTSTART;TZID=UTC:20201011T113000
DTEND;TZID=UTC:20201011T123000
DTSTAMP:20260419T180620
CREATED:20200909T225036Z
LAST-MODIFIED:20200910T071833Z
UID:10000575-1602415800-1602419400@newcov.org
SUMMARY:Live Stream Worship Service
DESCRIPTION:
URL:https://newcov.org/event/live-stream-worship-service/2020-10-11/
LOCATION:Zoom
ATTACH;FMTTYPE=image/jpeg:https://newcov.org/wp-content/uploads/2020/09/live-stream-service-1.jpg
END:VEVENT
BEGIN:VEVENT
DTSTART;TZID=UTC:20201004T113000
DTEND;TZID=UTC:20201004T123000
DTSTAMP:20260419T180620
CREATED:20200909T225036Z
LAST-MODIFIED:20200910T071833Z
UID:10000574-1601811000-1601814600@newcov.org
SUMMARY:Live Stream Worship Service
DESCRIPTION:
URL:https://newcov.org/event/live-stream-worship-service/2020-10-04/
LOCATION:Zoom
ATTACH;FMTTYPE=image/jpeg:https://newcov.org/wp-content/uploads/2020/09/live-stream-service-1.jpg
END:VEVENT
BEGIN:VEVENT
DTSTART;TZID=UTC:20200930T193000
DTEND;TZID=UTC:20200930T203000
DTSTAMP:20260419T180620
CREATED:20200909T225521Z
LAST-MODIFIED:20200910T002638Z
UID:10000590-1601494200-1601497800@newcov.org
SUMMARY:The Journey of Faith
DESCRIPTION:Join Dr. D’Ann and her special guests for three weekly episodes of candid conversations regarding “The Journey of Faith.” The series will air on all New Covenant viewing platforms.
URL:https://newcov.org/event/the-journey-of-faith/2020-09-30/
LOCATION:Zoom
ATTACH;FMTTYPE=image/jpeg:https://newcov.org/wp-content/uploads/2020/09/The-Journey-of-Faith-Soc-Media.jpg
END:VEVENT
BEGIN:VEVENT
DTSTART;TZID=UTC:20200927T113000
DTEND;TZID=UTC:20200927T123000
DTSTAMP:20260419T180620
CREATED:20200909T225036Z
LAST-MODIFIED:20200910T071833Z
UID:10000573-1601206200-1601209800@newcov.org
SUMMARY:Live Stream Worship Service
DESCRIPTION:
URL:https://newcov.org/event/live-stream-worship-service/2020-09-27/
LOCATION:Zoom
ATTACH;FMTTYPE=image/jpeg:https://newcov.org/wp-content/uploads/2020/09/live-stream-service-1.jpg
END:VEVENT
BEGIN:VEVENT
DTSTART;TZID=UTC:20200925T193000
DTEND;TZID=UTC:20200925T213000
DTSTAMP:20260419T180620
CREATED:20200909T225734Z
LAST-MODIFIED:20200910T002725Z
UID:10000591-1601062200-1601069400@newcov.org
SUMMARY:Ladies Game Night
DESCRIPTION:
URL:https://newcov.org/event/ladies-game-night/
LOCATION:Zoom
ATTACH;FMTTYPE=image/jpeg:https://newcov.org/wp-content/uploads/2020/09/Ladies-Virtual-Game-Night.jpg
END:VEVENT
BEGIN:VEVENT
DTSTART;TZID=UTC:20200923T193000
DTEND;TZID=UTC:20200923T203000
DTSTAMP:20260419T180620
CREATED:20200909T225521Z
LAST-MODIFIED:20200910T002638Z
UID:10000589-1600889400-1600893000@newcov.org
SUMMARY:The Journey of Faith
DESCRIPTION:Join Dr. D’Ann and her special guests for three weekly episodes of candid conversations regarding “The Journey of Faith.” The series will air on all New Covenant viewing platforms.
URL:https://newcov.org/event/the-journey-of-faith/2020-09-23/
LOCATION:Zoom
ATTACH;FMTTYPE=image/jpeg:https://newcov.org/wp-content/uploads/2020/09/The-Journey-of-Faith-Soc-Media.jpg
END:VEVENT
BEGIN:VEVENT
DTSTART;TZID=UTC:20200920T113000
DTEND;TZID=UTC:20200920T123000
DTSTAMP:20260419T180620
CREATED:20200909T225036Z
LAST-MODIFIED:20200910T071833Z
UID:10000572-1600601400-1600605000@newcov.org
SUMMARY:Live Stream Worship Service
DESCRIPTION:
URL:https://newcov.org/event/live-stream-worship-service/2020-09-20/
LOCATION:Zoom
ATTACH;FMTTYPE=image/jpeg:https://newcov.org/wp-content/uploads/2020/09/live-stream-service-1.jpg
END:VEVENT
BEGIN:VEVENT
DTSTART;TZID=UTC:20200916T193000
DTEND;TZID=UTC:20200916T203000
DTSTAMP:20260419T180620
CREATED:20200909T225521Z
LAST-MODIFIED:20200910T002638Z
UID:10000588-1600284600-1600288200@newcov.org
SUMMARY:The Journey of Faith
DESCRIPTION:Join Dr. D’Ann and her special guests for three weekly episodes of candid conversations regarding “The Journey of Faith.” The series will air on all New Covenant viewing platforms.
URL:https://newcov.org/event/the-journey-of-faith/2020-09-16/
LOCATION:Zoom
ATTACH;FMTTYPE=image/jpeg:https://newcov.org/wp-content/uploads/2020/09/The-Journey-of-Faith-Soc-Media.jpg
END:VEVENT
BEGIN:VEVENT
DTSTART;TZID=UTC:20200913T113000
DTEND;TZID=UTC:20200913T123000
DTSTAMP:20260419T180620
CREATED:20200909T225036Z
LAST-MODIFIED:20200910T071833Z
UID:10000571-1599996600-1600000200@newcov.org
SUMMARY:Live Stream Worship Service
DESCRIPTION:
URL:https://newcov.org/event/live-stream-worship-service/2020-09-13/
LOCATION:Zoom
ATTACH;FMTTYPE=image/jpeg:https://newcov.org/wp-content/uploads/2020/09/live-stream-service-1.jpg
END:VEVENT
BEGIN:VEVENT
DTSTART;TZID=UTC:20200906T113000
DTEND;TZID=UTC:20200906T123000
DTSTAMP:20260419T180620
CREATED:20200909T225036Z
LAST-MODIFIED:20200910T071833Z
UID:10000570-1599391800-1599395400@newcov.org
SUMMARY:Live Stream Worship Service
DESCRIPTION:
URL:https://newcov.org/event/live-stream-worship-service/2020-09-06/
LOCATION:Zoom
ATTACH;FMTTYPE=image/jpeg:https://newcov.org/wp-content/uploads/2020/09/live-stream-service-1.jpg
END:VEVENT
BEGIN:VEVENT
DTSTART;TZID=UTC:20200904T200000
DTEND;TZID=UTC:20200904T210000
DTSTAMP:20260419T180620
CREATED:20200909T224632Z
LAST-MODIFIED:20200910T001721Z
UID:10000568-1599249600-1599253200@newcov.org
SUMMARY:Virtual Communion Service
DESCRIPTION:Gather your family and join Pastor Bill and Dr. D’Ann for a time of worship\, prayer\, and sharing in Holy Communion. Be prepared with bread and juice of your choice to represent the elements\, and connect on Zoom and Facebook live.
URL:https://newcov.org/event/virtual-communion-service/
LOCATION:Zoom
ATTACH;FMTTYPE=image/jpeg:https://newcov.org/wp-content/uploads/2020/09/Communion.jpg
END:VEVENT
END:VCALENDAR