BEGIN:VCALENDAR
VERSION:2.0
PRODID:-//New Covenant Christian Ministries - ECPv6.15.20//NONSGML v1.0//EN
CALSCALE:GREGORIAN
METHOD:PUBLISH
X-WR-CALNAME:New Covenant Christian Ministries
X-ORIGINAL-URL:https://newcov.org
X-WR-CALDESC:Events for New Covenant Christian Ministries
REFRESH-INTERVAL;VALUE=DURATION:PT1H
X-Robots-Tag:noindex
X-PUBLISHED-TTL:PT1H
BEGIN:VTIMEZONE
TZID:UTC
BEGIN:STANDARD
TZOFFSETFROM:+0000
TZOFFSETTO:+0000
TZNAME:UTC
DTSTART:20200101T000000
END:STANDARD
END:VTIMEZONE
BEGIN:VEVENT
DTSTART;TZID=UTC:20210929T191500
DTEND;TZID=UTC:20210929T191500
DTSTAMP:20260419T130016
CREATED:20210303T014703Z
LAST-MODIFIED:20210303T014716Z
UID:10000733-1632942900-1632942900@newcov.org
SUMMARY:Corporate Bible Study
DESCRIPTION:
URL:https://newcov.org/event/corporate-bible-study-9/
LOCATION:Zoom
ATTACH;FMTTYPE=image/jpeg:https://newcov.org/wp-content/uploads/2021/03/corporate-bible-study.jpg
END:VEVENT
BEGIN:VEVENT
DTSTART;TZID=UTC:20210922T191500
DTEND;TZID=UTC:20210922T191500
DTSTAMP:20260419T130016
CREATED:20210303T014354Z
LAST-MODIFIED:20210303T014454Z
UID:10000732-1632338100-1632338100@newcov.org
SUMMARY:Corporate Bible Study
DESCRIPTION:
URL:https://newcov.org/event/corporate-bible-study-8/
LOCATION:Zoom
ATTACH;FMTTYPE=image/jpeg:https://newcov.org/wp-content/uploads/2021/03/corporate-bible-study.jpg
END:VEVENT
BEGIN:VEVENT
DTSTART;TZID=UTC:20210915T191500
DTEND;TZID=UTC:20210915T191500
DTSTAMP:20260419T130016
CREATED:20210303T014215Z
LAST-MODIFIED:20210303T014215Z
UID:10000731-1631733300-1631733300@newcov.org
SUMMARY:Corporate Bible Study
DESCRIPTION:
URL:https://newcov.org/event/corporate-bible-study-7/
LOCATION:Zoom
ATTACH;FMTTYPE=image/jpeg:https://newcov.org/wp-content/uploads/2021/03/corporate-bible-study.jpg
END:VEVENT
BEGIN:VEVENT
DTSTART;TZID=UTC:20210912T123000
DTEND;TZID=UTC:20210912T123000
DTSTAMP:20260419T130016
CREATED:20210814T222423Z
LAST-MODIFIED:20210814T222423Z
UID:10000781-1631449800-1631449800@newcov.org
SUMMARY:"Journey for a Lifetime" - Session 2
DESCRIPTION:The “Journey for a Lifetime” classes are for engaged and married couples. These seven sessions will lay a foundation for marriage and are mandatory for any engaged couple who desires to be married by the leadership of New Covenant. Deadline to register is September 12th. Click here to register: http://events.constantcontact.com/register/event?llr=bwixiugab&oeidk=a07ehl4juuy1ae2716d
URL:https://newcov.org/event/journey-for-a-lifetime-session-2-2/
LOCATION:Zoom
ATTACH;FMTTYPE=image/png:https://newcov.org/wp-content/uploads/2021/08/holding-hands.png
END:VEVENT
BEGIN:VEVENT
DTSTART;TZID=UTC:20210908T191500
DTEND;TZID=UTC:20210908T191500
DTSTAMP:20260419T130016
CREATED:20210303T014047Z
LAST-MODIFIED:20210303T014047Z
UID:10000730-1631128500-1631128500@newcov.org
SUMMARY:Corporate Bible Study
DESCRIPTION:
URL:https://newcov.org/event/corporate-bible-study-6/
LOCATION:Zoom
ATTACH;FMTTYPE=image/jpeg:https://newcov.org/wp-content/uploads/2021/03/corporate-bible-study.jpg
END:VEVENT
BEGIN:VEVENT
DTSTART;TZID=UTC:20210901T191500
DTEND;TZID=UTC:20210901T191500
DTSTAMP:20260419T130016
CREATED:20210303T013918Z
LAST-MODIFIED:20210303T013918Z
UID:10000729-1630523700-1630523700@newcov.org
SUMMARY:Corporate Bible Study
DESCRIPTION:
URL:https://newcov.org/event/corporate-bible-study-5/
LOCATION:Zoom
ATTACH;FMTTYPE=image/jpeg:https://newcov.org/wp-content/uploads/2021/03/corporate-bible-study.jpg
END:VEVENT
BEGIN:VEVENT
DTSTART;TZID=UTC:20210829T123000
DTEND;TZID=UTC:20210829T123000
DTSTAMP:20260419T130016
CREATED:20210814T214420Z
LAST-MODIFIED:20220814T040805Z
UID:10000779-1630240200-1630240200@newcov.org
SUMMARY:"Journey for a Lifetime" Orientation - Session 1
DESCRIPTION:The “Journey for a Lifetime” classes are for engaged and married couples. These seven sessions will lay a foundation for marriage and are mandatory for any engaged couple who desires to be married by the leadership of New Covenant. Click HERE to register:
URL:https://newcov.org/event/journey-for-a-lifetime-orientation-session-1/2021-08-29/
LOCATION:Zoom
ATTACH;FMTTYPE=image/png:https://newcov.org/wp-content/uploads/2021/08/holding-hands.png
END:VEVENT
BEGIN:VEVENT
DTSTART;TZID=UTC:20210724T090000
DTEND;TZID=UTC:20210724T090000
DTSTAMP:20260419T130016
CREATED:20210709T183422Z
LAST-MODIFIED:20210709T191305Z
UID:10000738-1627117200-1627117200@newcov.org
SUMMARY:Coffee & Conversations with Dr. D'Ann Johnson
DESCRIPTION:Ladies\, Plan to join Dr. D’ as she shares rich conversation with the Women’s Ministry of Corinth Missionary Baptist Church for their Coffee & Conversations session on Saturday\, July 24th at 9:00 am. Topic: “Time Management: Balancing Family\, Ministry\, and Job”.  Join the Zoom to participate:\nZoom ID: 992 3125 7647 – Passcode: 125935
URL:https://newcov.org/event/coffee-conversations-with-dr-dann-johnson/
LOCATION:Zoom
ATTACH;FMTTYPE=image/png:https://newcov.org/wp-content/uploads/2021/07/Coffee-Conversations_Event.png
END:VEVENT
BEGIN:VEVENT
DTSTART;TZID=UTC:20210710T103000
DTEND;TZID=UTC:20210710T103000
DTSTAMP:20260419T130016
CREATED:20210618T005127Z
LAST-MODIFIED:20210618T010633Z
UID:10000737-1625913000-1625913000@newcov.org
SUMMARY:Women In Covenant - Mind\, Body & Soul
DESCRIPTION:Join Women In Covenant for a time of sharing and encouragement. Come prepared to be strengthened in mind\, body and soul. Register no later than July 7th.
URL:https://newcov.org/event/women-in-covenant-mind-body-soul/
LOCATION:Zoom
ATTACH;FMTTYPE=image/jpeg:https://newcov.org/wp-content/uploads/2021/06/group-women.jpg
END:VEVENT
BEGIN:VEVENT
DTSTART;TZID=UTC:20210613T093000
DTEND;TZID=UTC:20210613T093000
DTSTAMP:20260419T130016
CREATED:20210206T033050Z
LAST-MODIFIED:20210220T030122Z
UID:10000723-1623576600-1623576600@newcov.org
SUMMARY:Journey of a Lifetime - Session 8
DESCRIPTION:
URL:https://newcov.org/event/journey-of-a-lifetime-session-8/
LOCATION:Zoom
ATTACH;FMTTYPE=image/jpeg:https://newcov.org/wp-content/uploads/2021/02/adults-blur-couple-888899.jpg
END:VEVENT
BEGIN:VEVENT
DTSTART;TZID=UTC:20210526T191500
DTEND;TZID=UTC:20210526T191500
DTSTAMP:20260419T130016
CREATED:20210303T013552Z
LAST-MODIFIED:20210303T013552Z
UID:10000728-1622056500-1622056500@newcov.org
SUMMARY:Corporate Bible Study
DESCRIPTION:
URL:https://newcov.org/event/corporate-bible-study-4/
LOCATION:Zoom
ATTACH;FMTTYPE=image/jpeg:https://newcov.org/wp-content/uploads/2021/03/corporate-bible-study.jpg
END:VEVENT
BEGIN:VEVENT
DTSTART;TZID=UTC:20210523T093000
DTEND;TZID=UTC:20210523T093000
DTSTAMP:20260419T130016
CREATED:20210206T033452Z
LAST-MODIFIED:20210220T030253Z
UID:10000724-1621762200-1621762200@newcov.org
SUMMARY:Journey of a Lifetime - Session 7
DESCRIPTION:
URL:https://newcov.org/event/journey-of-a-lifetime-session-7/
LOCATION:Zoom
ATTACH;FMTTYPE=image/jpeg:https://newcov.org/wp-content/uploads/2021/02/adults-blur-couple-888899.jpg
END:VEVENT
BEGIN:VEVENT
DTSTART;TZID=UTC:20210519T191500
DTEND;TZID=UTC:20210519T191500
DTSTAMP:20260419T130016
CREATED:20210303T013347Z
LAST-MODIFIED:20210303T013427Z
UID:10000727-1621451700-1621451700@newcov.org
SUMMARY:Corporate Bible Study
DESCRIPTION:
URL:https://newcov.org/event/corporate-bible-study-3/
LOCATION:Zoom
ATTACH;FMTTYPE=image/jpeg:https://newcov.org/wp-content/uploads/2021/03/corporate-bible-study.jpg
END:VEVENT
BEGIN:VEVENT
DTSTART;TZID=UTC:20210512T191500
DTEND;TZID=UTC:20210512T191500
DTSTAMP:20260419T130016
CREATED:20210303T013240Z
LAST-MODIFIED:20210303T013240Z
UID:10000726-1620846900-1620846900@newcov.org
SUMMARY:Corporate Bible Study
DESCRIPTION:
URL:https://newcov.org/event/corporate-bible-study-2/
LOCATION:Zoom
ATTACH;FMTTYPE=image/jpeg:https://newcov.org/wp-content/uploads/2021/03/corporate-bible-study.jpg
END:VEVENT
BEGIN:VEVENT
DTSTART;TZID=UTC:20210509T093000
DTEND;TZID=UTC:20210509T093000
DTSTAMP:20260419T130016
CREATED:20210206T032826Z
LAST-MODIFIED:20210220T030343Z
UID:10000722-1620552600-1620552600@newcov.org
SUMMARY:Journey of a Lifetime - Session 6
DESCRIPTION:
URL:https://newcov.org/event/journey-of-a-lifetime-session-6/
LOCATION:Zoom
ATTACH;FMTTYPE=image/jpeg:https://newcov.org/wp-content/uploads/2021/02/adults-blur-couple-888899.jpg
END:VEVENT
BEGIN:VEVENT
DTSTART;TZID=UTC:20210505T191500
DTEND;TZID=UTC:20210505T191500
DTSTAMP:20260419T130016
CREATED:20210303T012057Z
LAST-MODIFIED:20210303T013011Z
UID:10000725-1620242100-1620242100@newcov.org
SUMMARY:Corporate Bible Study
DESCRIPTION:
URL:https://newcov.org/event/corporate-bible-study/
LOCATION:Zoom
ATTACH;FMTTYPE=image/jpeg:https://newcov.org/wp-content/uploads/2021/03/corporate-bible-study.jpg
END:VEVENT
BEGIN:VEVENT
DTSTART;TZID=UTC:20210425T093000
DTEND;TZID=UTC:20210425T093000
DTSTAMP:20260419T130016
CREATED:20210206T032701Z
LAST-MODIFIED:20210220T030430Z
UID:10000597-1619343000-1619343000@newcov.org
SUMMARY:Journey of a Lifetime - Session 5
DESCRIPTION:
URL:https://newcov.org/event/journey-of-a-lifetime-session-5/
LOCATION:Zoom
ATTACH;FMTTYPE=image/jpeg:https://newcov.org/wp-content/uploads/2021/02/adults-blur-couple-888899.jpg
END:VEVENT
BEGIN:VEVENT
DTSTART;TZID=UTC:20210411T093000
DTEND;TZID=UTC:20210411T093000
DTSTAMP:20260419T130016
CREATED:20210206T032249Z
LAST-MODIFIED:20210220T030513Z
UID:10000598-1618133400-1618133400@newcov.org
SUMMARY:Journey for a Lifetime - Session 4
DESCRIPTION:
URL:https://newcov.org/event/journey-for-a-lifetime-session-4/
LOCATION:Zoom
ATTACH;FMTTYPE=image/jpeg:https://newcov.org/wp-content/uploads/2021/02/adults-blur-couple-888899.jpg
END:VEVENT
BEGIN:VEVENT
DTSTART;TZID=UTC:20210404T115000
DTEND;TZID=UTC:20210404T115000
DTSTAMP:20260419T130016
CREATED:20210401T023038Z
LAST-MODIFIED:20210401T023038Z
UID:10000735-1617537000-1617537000@newcov.org
SUMMARY:Ultimate Easter Party-Reimagined - Part 2
DESCRIPTION:Students log into Zoom at 11:50am for a joint session and then enjoy age appropriate breakout activities. Special Easter Sunday Zoom link: http://zoom.us/j/95544104788.
URL:https://newcov.org/event/ultimate-easter-party-reimagined-part-2/
LOCATION:Zoom
ATTACH;FMTTYPE=image/jpeg:https://newcov.org/wp-content/uploads/2021/03/Ultimate-Easter-Party-2.jpg
END:VEVENT
BEGIN:VEVENT
DTSTART;TZID=UTC:20210402T200000
DTEND;TZID=UTC:20210402T200000
DTSTAMP:20260419T130016
CREATED:20210205T235028Z
LAST-MODIFIED:20210309T235913Z
UID:10000602-1617393600-1617393600@newcov.org
SUMMARY:Good Friday Presentation & Communion
DESCRIPTION:
URL:https://newcov.org/event/online-communion-3/
LOCATION:Zoom
ATTACH;FMTTYPE=image/jpeg:https://newcov.org/wp-content/uploads/2021/02/bread-wine-communion.jpg
END:VEVENT
BEGIN:VEVENT
DTSTART;TZID=UTC:20210328T093000
DTEND;TZID=UTC:20210328T093000
DTSTAMP:20260419T130016
CREATED:20210206T032131Z
LAST-MODIFIED:20210220T030632Z
UID:10000599-1616923800-1616923800@newcov.org
SUMMARY:Journey for a Lifetime - Session 3
DESCRIPTION:
URL:https://newcov.org/event/journey-for-a-lifetime-session-3/
LOCATION:Zoom
ATTACH;FMTTYPE=image/jpeg:https://newcov.org/wp-content/uploads/2021/02/adults-blur-couple-888899.jpg
END:VEVENT
BEGIN:VEVENT
DTSTART;TZID=UTC:20210321T080000
DTEND;TZID=UTC:20210321T113000
DTSTAMP:20260419T130016
CREATED:20210205T014631Z
LAST-MODIFIED:20210312T185858Z
UID:10000721-1616313600-1616326200@newcov.org
SUMMARY:Worship Service
DESCRIPTION:
URL:https://newcov.org/event/worship-service-2021-02-21/2021-03-21/
LOCATION:Zoom
ATTACH;FMTTYPE=image/jpeg:https://newcov.org/wp-content/uploads/2021/02/live-stream-service-1.jpg
END:VEVENT
BEGIN:VEVENT
DTSTART;TZID=UTC:20210314T093000
DTEND;TZID=UTC:20210314T093000
DTSTAMP:20260419T130016
CREATED:20210206T031652Z
LAST-MODIFIED:20210220T030728Z
UID:10000600-1615714200-1615714200@newcov.org
SUMMARY:Journey for a Lifetime - Session 2
DESCRIPTION:
URL:https://newcov.org/event/journey-for-a-lifetime-session-2/
LOCATION:Zoom
ATTACH;FMTTYPE=image/jpeg:https://newcov.org/wp-content/uploads/2021/02/adults-blur-couple-888899.jpg
END:VEVENT
BEGIN:VEVENT
DTSTART;TZID=UTC:20210314T080000
DTEND;TZID=UTC:20210314T113000
DTSTAMP:20260419T130016
CREATED:20210205T014631Z
LAST-MODIFIED:20210312T185858Z
UID:10000720-1615708800-1615721400@newcov.org
SUMMARY:Worship Service
DESCRIPTION:
URL:https://newcov.org/event/worship-service-2021-02-21/2021-03-14/
LOCATION:Zoom
ATTACH;FMTTYPE=image/jpeg:https://newcov.org/wp-content/uploads/2021/02/live-stream-service-1.jpg
END:VEVENT
BEGIN:VEVENT
DTSTART;TZID=UTC:20210307T080000
DTEND;TZID=UTC:20210307T113000
DTSTAMP:20260419T130016
CREATED:20210205T014631Z
LAST-MODIFIED:20210312T185858Z
UID:10000719-1615104000-1615116600@newcov.org
SUMMARY:Worship Service
DESCRIPTION:
URL:https://newcov.org/event/worship-service-2021-02-21/2021-03-07/
LOCATION:Zoom
ATTACH;FMTTYPE=image/jpeg:https://newcov.org/wp-content/uploads/2021/02/live-stream-service-1.jpg
END:VEVENT
BEGIN:VEVENT
DTSTART;TZID=UTC:20210305T200000
DTEND;TZID=UTC:20210305T200000
DTSTAMP:20260419T130016
CREATED:20210205T234911Z
LAST-MODIFIED:20210206T025643Z
UID:10000603-1614974400-1614974400@newcov.org
SUMMARY:Online Communion
DESCRIPTION:
URL:https://newcov.org/event/online-communion-2/
LOCATION:Zoom
ATTACH;FMTTYPE=image/jpeg:https://newcov.org/wp-content/uploads/2021/02/bread-wine-communion.jpg
END:VEVENT
BEGIN:VEVENT
DTSTART;TZID=UTC:20210228T093000
DTEND;TZID=UTC:20210228T093000
DTSTAMP:20260419T130016
CREATED:20210206T000408Z
LAST-MODIFIED:20210207T004418Z
UID:10000601-1614504600-1614504600@newcov.org
SUMMARY:Journey for a Lifetime - Session 1
DESCRIPTION:
URL:https://newcov.org/event/journey-for-a-lifetime/
LOCATION:Zoom
ATTACH;FMTTYPE=image/jpeg:https://newcov.org/wp-content/uploads/2021/02/adults-blur-couple-888899.jpg
END:VEVENT
BEGIN:VEVENT
DTSTART;TZID=UTC:20210228T080000
DTEND;TZID=UTC:20210228T113000
DTSTAMP:20260419T130016
CREATED:20210205T014631Z
LAST-MODIFIED:20210312T185858Z
UID:10000718-1614499200-1614511800@newcov.org
SUMMARY:Worship Service
DESCRIPTION:
URL:https://newcov.org/event/worship-service-2021-02-21/2021-02-28/
LOCATION:Zoom
ATTACH;FMTTYPE=image/jpeg:https://newcov.org/wp-content/uploads/2021/02/live-stream-service-1.jpg
END:VEVENT
BEGIN:VEVENT
DTSTART;TZID=UTC:20210221T080000
DTEND;TZID=UTC:20210221T113000
DTSTAMP:20260419T130016
CREATED:20210205T014631Z
LAST-MODIFIED:20210312T185858Z
UID:10000717-1613894400-1613907000@newcov.org
SUMMARY:Worship Service
DESCRIPTION:
URL:https://newcov.org/event/worship-service-2021-02-21/2021-02-21/
LOCATION:Zoom
ATTACH;FMTTYPE=image/jpeg:https://newcov.org/wp-content/uploads/2021/02/live-stream-service-1.jpg
END:VEVENT
BEGIN:VEVENT
DTSTART;TZID=UTC:20210214T113000
DTEND;TZID=UTC:20210214T123000
DTSTAMP:20260419T130016
CREATED:20210205T014631Z
LAST-MODIFIED:20210207T002115Z
UID:10000595-1613302200-1613305800@newcov.org
SUMMARY:Worship Service
DESCRIPTION:
URL:https://newcov.org/event/worship-service-2021-02-14/
LOCATION:Zoom
ATTACH;FMTTYPE=image/jpeg:https://newcov.org/wp-content/uploads/2021/02/bread-of-life-calendar.jpg
END:VEVENT
END:VCALENDAR