BEGIN:VCALENDAR
VERSION:2.0
PRODID:-//New Covenant Christian Ministries - ECPv6.15.20//NONSGML v1.0//EN
CALSCALE:GREGORIAN
METHOD:PUBLISH
X-ORIGINAL-URL:https://newcov.org
X-WR-CALDESC:Events for New Covenant Christian Ministries
REFRESH-INTERVAL;VALUE=DURATION:PT1H
X-Robots-Tag:noindex
X-PUBLISHED-TTL:PT1H
BEGIN:VTIMEZONE
TZID:UTC
BEGIN:STANDARD
TZOFFSETFROM:+0000
TZOFFSETTO:+0000
TZNAME:UTC
DTSTART:20200101T000000
END:STANDARD
END:VTIMEZONE
BEGIN:VEVENT
DTSTART;TZID=UTC:20211226T103000
DTEND;TZID=UTC:20211226T103000
DTSTAMP:20260419T100114
CREATED:20211105T024336Z
LAST-MODIFIED:20220106T042801Z
UID:10000795-1640514600-1640514600@newcov.org
SUMMARY:Student Ministries Sunday Zoom - Middle School Students
DESCRIPTION:The Student Ministries Team provides ministry to middle school students via Zoom each Sunday beginning at 10:30 am. Students should complete a one-time registration to receive the Zoom link. Click LINK to register.
URL:https://newcov.org/event/student-ministries-sunday-zoom-middle-school-students/2021-12-26/
LOCATION:Zoom
ATTACH;FMTTYPE=image/png:https://newcov.org/wp-content/uploads/2021/11/Student-Ministries-Event-MS.png
END:VEVENT
BEGIN:VEVENT
DTSTART;TZID=UTC:20211219T103000
DTEND;TZID=UTC:20211219T103000
DTSTAMP:20260419T100114
CREATED:20211105T211017Z
LAST-MODIFIED:20220106T041821Z
UID:10000473-1639909800-1639909800@newcov.org
SUMMARY:Student Ministries Sunday Zoom - Elementary Students
DESCRIPTION:The Student Ministries Team provides ministry to elementary students via Zoom each Sunday beginning at 10:30 am. Students should complete a one-time registration to receive the Zoom link. Click LINK to register.
URL:https://newcov.org/event/student-ministries-sunday-zoom-elementary-students/2021-12-19/
LOCATION:Zoom
ATTACH;FMTTYPE=image/png:https://newcov.org/wp-content/uploads/2021/07/Student-Ministries-Event-ELE.png
END:VEVENT
BEGIN:VEVENT
DTSTART;TZID=UTC:20211219T103000
DTEND;TZID=UTC:20211219T103000
DTSTAMP:20260419T100114
CREATED:20211105T030604Z
LAST-MODIFIED:20220106T042357Z
UID:10000434-1639909800-1639909800@newcov.org
SUMMARY:Student Ministries Sunday Zoom - High School Students
DESCRIPTION:The Student Ministries Team provides ministry to high school students via Zoom each Sunday beginning at 10:30 am. Students should complete a one-time registration to receive the Zoom link. Click LINK to register.
URL:https://newcov.org/event/student-ministries-sunday-zoom-high-school-students/2021-12-19/
LOCATION:Zoom
ATTACH;FMTTYPE=image/png:https://newcov.org/wp-content/uploads/2021/11/Student-Ministries-Event-HS.png
END:VEVENT
BEGIN:VEVENT
DTSTART;TZID=UTC:20211219T103000
DTEND;TZID=UTC:20211219T103000
DTSTAMP:20260419T100114
CREATED:20211105T024336Z
LAST-MODIFIED:20220106T042801Z
UID:10000794-1639909800-1639909800@newcov.org
SUMMARY:Student Ministries Sunday Zoom - Middle School Students
DESCRIPTION:The Student Ministries Team provides ministry to middle school students via Zoom each Sunday beginning at 10:30 am. Students should complete a one-time registration to receive the Zoom link. Click LINK to register.
URL:https://newcov.org/event/student-ministries-sunday-zoom-middle-school-students/2021-12-19/
LOCATION:Zoom
ATTACH;FMTTYPE=image/png:https://newcov.org/wp-content/uploads/2021/11/Student-Ministries-Event-MS.png
END:VEVENT
BEGIN:VEVENT
DTSTART;TZID=UTC:20211212T103000
DTEND;TZID=UTC:20211212T103000
DTSTAMP:20260419T100114
CREATED:20211105T211017Z
LAST-MODIFIED:20220106T041821Z
UID:10000472-1639305000-1639305000@newcov.org
SUMMARY:Student Ministries Sunday Zoom - Elementary Students
DESCRIPTION:The Student Ministries Team provides ministry to elementary students via Zoom each Sunday beginning at 10:30 am. Students should complete a one-time registration to receive the Zoom link. Click LINK to register.
URL:https://newcov.org/event/student-ministries-sunday-zoom-elementary-students/2021-12-12/
LOCATION:Zoom
ATTACH;FMTTYPE=image/png:https://newcov.org/wp-content/uploads/2021/07/Student-Ministries-Event-ELE.png
END:VEVENT
BEGIN:VEVENT
DTSTART;TZID=UTC:20211212T103000
DTEND;TZID=UTC:20211212T103000
DTSTAMP:20260419T100114
CREATED:20211105T030604Z
LAST-MODIFIED:20220106T042357Z
UID:10000433-1639305000-1639305000@newcov.org
SUMMARY:Student Ministries Sunday Zoom - High School Students
DESCRIPTION:The Student Ministries Team provides ministry to high school students via Zoom each Sunday beginning at 10:30 am. Students should complete a one-time registration to receive the Zoom link. Click LINK to register.
URL:https://newcov.org/event/student-ministries-sunday-zoom-high-school-students/2021-12-12/
LOCATION:Zoom
ATTACH;FMTTYPE=image/png:https://newcov.org/wp-content/uploads/2021/11/Student-Ministries-Event-HS.png
END:VEVENT
BEGIN:VEVENT
DTSTART;TZID=UTC:20211212T103000
DTEND;TZID=UTC:20211212T103000
DTSTAMP:20260419T100114
CREATED:20211105T024336Z
LAST-MODIFIED:20220106T042801Z
UID:10000793-1639305000-1639305000@newcov.org
SUMMARY:Student Ministries Sunday Zoom - Middle School Students
DESCRIPTION:The Student Ministries Team provides ministry to middle school students via Zoom each Sunday beginning at 10:30 am. Students should complete a one-time registration to receive the Zoom link. Click LINK to register.
URL:https://newcov.org/event/student-ministries-sunday-zoom-middle-school-students/2021-12-12/
LOCATION:Zoom
ATTACH;FMTTYPE=image/png:https://newcov.org/wp-content/uploads/2021/11/Student-Ministries-Event-MS.png
END:VEVENT
BEGIN:VEVENT
DTSTART;TZID=UTC:20211205T103000
DTEND;TZID=UTC:20211205T103000
DTSTAMP:20260419T100114
CREATED:20211105T211017Z
LAST-MODIFIED:20220106T041821Z
UID:10000471-1638700200-1638700200@newcov.org
SUMMARY:Student Ministries Sunday Zoom - Elementary Students
DESCRIPTION:The Student Ministries Team provides ministry to elementary students via Zoom each Sunday beginning at 10:30 am. Students should complete a one-time registration to receive the Zoom link. Click LINK to register.
URL:https://newcov.org/event/student-ministries-sunday-zoom-elementary-students/2021-12-05/
LOCATION:Zoom
ATTACH;FMTTYPE=image/png:https://newcov.org/wp-content/uploads/2021/07/Student-Ministries-Event-ELE.png
END:VEVENT
BEGIN:VEVENT
DTSTART;TZID=UTC:20211205T103000
DTEND;TZID=UTC:20211205T103000
DTSTAMP:20260419T100114
CREATED:20211105T030604Z
LAST-MODIFIED:20220106T042357Z
UID:10000432-1638700200-1638700200@newcov.org
SUMMARY:Student Ministries Sunday Zoom - High School Students
DESCRIPTION:The Student Ministries Team provides ministry to high school students via Zoom each Sunday beginning at 10:30 am. Students should complete a one-time registration to receive the Zoom link. Click LINK to register.
URL:https://newcov.org/event/student-ministries-sunday-zoom-high-school-students/2021-12-05/
LOCATION:Zoom
ATTACH;FMTTYPE=image/png:https://newcov.org/wp-content/uploads/2021/11/Student-Ministries-Event-HS.png
END:VEVENT
BEGIN:VEVENT
DTSTART;TZID=UTC:20211205T103000
DTEND;TZID=UTC:20211205T103000
DTSTAMP:20260419T100114
CREATED:20211105T024336Z
LAST-MODIFIED:20220106T042801Z
UID:10000792-1638700200-1638700200@newcov.org
SUMMARY:Student Ministries Sunday Zoom - Middle School Students
DESCRIPTION:The Student Ministries Team provides ministry to middle school students via Zoom each Sunday beginning at 10:30 am. Students should complete a one-time registration to receive the Zoom link. Click LINK to register.
URL:https://newcov.org/event/student-ministries-sunday-zoom-middle-school-students/2021-12-05/
LOCATION:Zoom
ATTACH;FMTTYPE=image/png:https://newcov.org/wp-content/uploads/2021/11/Student-Ministries-Event-MS.png
END:VEVENT
BEGIN:VEVENT
DTSTART;TZID=UTC:20211128T103000
DTEND;TZID=UTC:20211128T103000
DTSTAMP:20260419T100114
CREATED:20211105T211017Z
LAST-MODIFIED:20220106T041821Z
UID:10000470-1638095400-1638095400@newcov.org
SUMMARY:Student Ministries Sunday Zoom - Elementary Students
DESCRIPTION:The Student Ministries Team provides ministry to elementary students via Zoom each Sunday beginning at 10:30 am. Students should complete a one-time registration to receive the Zoom link. Click LINK to register.
URL:https://newcov.org/event/student-ministries-sunday-zoom-elementary-students/2021-11-28/
LOCATION:Zoom
ATTACH;FMTTYPE=image/png:https://newcov.org/wp-content/uploads/2021/07/Student-Ministries-Event-ELE.png
END:VEVENT
BEGIN:VEVENT
DTSTART;TZID=UTC:20211128T103000
DTEND;TZID=UTC:20211128T103000
DTSTAMP:20260419T100114
CREATED:20211105T030604Z
LAST-MODIFIED:20220106T042357Z
UID:10000431-1638095400-1638095400@newcov.org
SUMMARY:Student Ministries Sunday Zoom - High School Students
DESCRIPTION:The Student Ministries Team provides ministry to high school students via Zoom each Sunday beginning at 10:30 am. Students should complete a one-time registration to receive the Zoom link. Click LINK to register.
URL:https://newcov.org/event/student-ministries-sunday-zoom-high-school-students/2021-11-28/
LOCATION:Zoom
ATTACH;FMTTYPE=image/png:https://newcov.org/wp-content/uploads/2021/11/Student-Ministries-Event-HS.png
END:VEVENT
BEGIN:VEVENT
DTSTART;TZID=UTC:20211128T103000
DTEND;TZID=UTC:20211128T103000
DTSTAMP:20260419T100114
CREATED:20211105T024336Z
LAST-MODIFIED:20220106T042801Z
UID:10000791-1638095400-1638095400@newcov.org
SUMMARY:Student Ministries Sunday Zoom - Middle School Students
DESCRIPTION:The Student Ministries Team provides ministry to middle school students via Zoom each Sunday beginning at 10:30 am. Students should complete a one-time registration to receive the Zoom link. Click LINK to register.
URL:https://newcov.org/event/student-ministries-sunday-zoom-middle-school-students/2021-11-28/
LOCATION:Zoom
ATTACH;FMTTYPE=image/png:https://newcov.org/wp-content/uploads/2021/11/Student-Ministries-Event-MS.png
END:VEVENT
BEGIN:VEVENT
DTSTART;VALUE=DATE:20211128
DTEND;VALUE=DATE:20211129
DTSTAMP:20260419T100114
CREATED:20211117T210057Z
LAST-MODIFIED:20211117T210504Z
UID:10000508-1638057600-1638143999@newcov.org
SUMMARY:Toy For Tots Deadline to Register
DESCRIPTION:New Covenant is an approved distribution site for Toys for Tots 2021\, providing toy assistance to families who are in need. Families can request toys for children ages 12 and under. There is a maximum number of requests allowed and a deadline date of November 28th. Once either criterion is reached\, the request link will be closed.  \nThe Toys For Tots Foundation determines the types of toys and the number of toys that we receive. Additional details are provided in the confirmation email after a request is made. Click LINK to register.
URL:https://newcov.org/event/toy-for-tots-deadline-to-register/
LOCATION:Zoom
ATTACH;FMTTYPE=image/png:https://newcov.org/wp-content/uploads/2021/11/Toys-For-Tots-Event.png
END:VEVENT
BEGIN:VEVENT
DTSTART;TZID=UTC:20211121T103000
DTEND;TZID=UTC:20211121T103000
DTSTAMP:20260419T100114
CREATED:20211105T211017Z
LAST-MODIFIED:20220106T041821Z
UID:10000469-1637490600-1637490600@newcov.org
SUMMARY:Student Ministries Sunday Zoom - Elementary Students
DESCRIPTION:The Student Ministries Team provides ministry to elementary students via Zoom each Sunday beginning at 10:30 am. Students should complete a one-time registration to receive the Zoom link. Click LINK to register.
URL:https://newcov.org/event/student-ministries-sunday-zoom-elementary-students/2021-11-21/
LOCATION:Zoom
ATTACH;FMTTYPE=image/png:https://newcov.org/wp-content/uploads/2021/07/Student-Ministries-Event-ELE.png
END:VEVENT
BEGIN:VEVENT
DTSTART;TZID=UTC:20211121T103000
DTEND;TZID=UTC:20211121T103000
DTSTAMP:20260419T100114
CREATED:20211105T030604Z
LAST-MODIFIED:20220106T042357Z
UID:10000430-1637490600-1637490600@newcov.org
SUMMARY:Student Ministries Sunday Zoom - High School Students
DESCRIPTION:The Student Ministries Team provides ministry to high school students via Zoom each Sunday beginning at 10:30 am. Students should complete a one-time registration to receive the Zoom link. Click LINK to register.
URL:https://newcov.org/event/student-ministries-sunday-zoom-high-school-students/2021-11-21/
LOCATION:Zoom
ATTACH;FMTTYPE=image/png:https://newcov.org/wp-content/uploads/2021/11/Student-Ministries-Event-HS.png
END:VEVENT
BEGIN:VEVENT
DTSTART;TZID=UTC:20211121T103000
DTEND;TZID=UTC:20211121T103000
DTSTAMP:20260419T100114
CREATED:20211105T024336Z
LAST-MODIFIED:20220106T042801Z
UID:10000790-1637490600-1637490600@newcov.org
SUMMARY:Student Ministries Sunday Zoom - Middle School Students
DESCRIPTION:The Student Ministries Team provides ministry to middle school students via Zoom each Sunday beginning at 10:30 am. Students should complete a one-time registration to receive the Zoom link. Click LINK to register.
URL:https://newcov.org/event/student-ministries-sunday-zoom-middle-school-students/2021-11-21/
LOCATION:Zoom
ATTACH;FMTTYPE=image/png:https://newcov.org/wp-content/uploads/2021/11/Student-Ministries-Event-MS.png
END:VEVENT
BEGIN:VEVENT
DTSTART;TZID=UTC:20211114T103000
DTEND;TZID=UTC:20211114T103000
DTSTAMP:20260419T100114
CREATED:20211105T211017Z
LAST-MODIFIED:20220106T041821Z
UID:10000468-1636885800-1636885800@newcov.org
SUMMARY:Student Ministries Sunday Zoom - Elementary Students
DESCRIPTION:The Student Ministries Team provides ministry to elementary students via Zoom each Sunday beginning at 10:30 am. Students should complete a one-time registration to receive the Zoom link. Click LINK to register.
URL:https://newcov.org/event/student-ministries-sunday-zoom-elementary-students/2021-11-14/
LOCATION:Zoom
ATTACH;FMTTYPE=image/png:https://newcov.org/wp-content/uploads/2021/07/Student-Ministries-Event-ELE.png
END:VEVENT
BEGIN:VEVENT
DTSTART;TZID=UTC:20211114T103000
DTEND;TZID=UTC:20211114T103000
DTSTAMP:20260419T100114
CREATED:20211105T030604Z
LAST-MODIFIED:20220106T042357Z
UID:10000429-1636885800-1636885800@newcov.org
SUMMARY:Student Ministries Sunday Zoom - High School Students
DESCRIPTION:The Student Ministries Team provides ministry to high school students via Zoom each Sunday beginning at 10:30 am. Students should complete a one-time registration to receive the Zoom link. Click LINK to register.
URL:https://newcov.org/event/student-ministries-sunday-zoom-high-school-students/2021-11-14/
LOCATION:Zoom
ATTACH;FMTTYPE=image/png:https://newcov.org/wp-content/uploads/2021/11/Student-Ministries-Event-HS.png
END:VEVENT
BEGIN:VEVENT
DTSTART;TZID=UTC:20211114T103000
DTEND;TZID=UTC:20211114T103000
DTSTAMP:20260419T100114
CREATED:20211105T024336Z
LAST-MODIFIED:20220106T042801Z
UID:10000789-1636885800-1636885800@newcov.org
SUMMARY:Student Ministries Sunday Zoom - Middle School Students
DESCRIPTION:The Student Ministries Team provides ministry to middle school students via Zoom each Sunday beginning at 10:30 am. Students should complete a one-time registration to receive the Zoom link. Click LINK to register.
URL:https://newcov.org/event/student-ministries-sunday-zoom-middle-school-students/2021-11-14/
LOCATION:Zoom
ATTACH;FMTTYPE=image/png:https://newcov.org/wp-content/uploads/2021/11/Student-Ministries-Event-MS.png
END:VEVENT
BEGIN:VEVENT
DTSTART;TZID=UTC:20211107T103000
DTEND;TZID=UTC:20211107T103000
DTSTAMP:20260419T100114
CREATED:20211105T211017Z
LAST-MODIFIED:20220106T041821Z
UID:10000467-1636281000-1636281000@newcov.org
SUMMARY:Student Ministries Sunday Zoom - Elementary Students
DESCRIPTION:The Student Ministries Team provides ministry to elementary students via Zoom each Sunday beginning at 10:30 am. Students should complete a one-time registration to receive the Zoom link. Click LINK to register.
URL:https://newcov.org/event/student-ministries-sunday-zoom-elementary-students/2021-11-07/
LOCATION:Zoom
ATTACH;FMTTYPE=image/png:https://newcov.org/wp-content/uploads/2021/07/Student-Ministries-Event-ELE.png
END:VEVENT
BEGIN:VEVENT
DTSTART;TZID=UTC:20211107T103000
DTEND;TZID=UTC:20211107T103000
DTSTAMP:20260419T100114
CREATED:20211105T030604Z
LAST-MODIFIED:20220106T042357Z
UID:10000428-1636281000-1636281000@newcov.org
SUMMARY:Student Ministries Sunday Zoom - High School Students
DESCRIPTION:The Student Ministries Team provides ministry to high school students via Zoom each Sunday beginning at 10:30 am. Students should complete a one-time registration to receive the Zoom link. Click LINK to register.
URL:https://newcov.org/event/student-ministries-sunday-zoom-high-school-students/2021-11-07/
LOCATION:Zoom
ATTACH;FMTTYPE=image/png:https://newcov.org/wp-content/uploads/2021/11/Student-Ministries-Event-HS.png
END:VEVENT
BEGIN:VEVENT
DTSTART;TZID=UTC:20211107T103000
DTEND;TZID=UTC:20211107T103000
DTSTAMP:20260419T100114
CREATED:20211105T024336Z
LAST-MODIFIED:20220106T042801Z
UID:10000788-1636281000-1636281000@newcov.org
SUMMARY:Student Ministries Sunday Zoom - Middle School Students
DESCRIPTION:The Student Ministries Team provides ministry to middle school students via Zoom each Sunday beginning at 10:30 am. Students should complete a one-time registration to receive the Zoom link. Click LINK to register.
URL:https://newcov.org/event/student-ministries-sunday-zoom-middle-school-students/2021-11-07/
LOCATION:Zoom
ATTACH;FMTTYPE=image/png:https://newcov.org/wp-content/uploads/2021/11/Student-Ministries-Event-MS.png
END:VEVENT
BEGIN:VEVENT
DTSTART;VALUE=DATE:20211107
DTEND;VALUE=DATE:20211108
DTSTAMP:20260419T100114
CREATED:20211029T195535Z
LAST-MODIFIED:20211029T195535Z
UID:10000783-1636243200-1636329599@newcov.org
SUMMARY:Grief Support Group Registration Deadline
DESCRIPTION:New Covenant’s Support 4 Life Resource Team is pleased to offer a virtual Grief Support Group for those who have lost a loved one. This Christ-centered group\, facilitated by trained professionals and others who have faced a similar loss\, will walk alongside you through one of life’s most difficult times.  This eight-week session of support will be hosted on Zoom each Thursday beginning November 11th. Tap this link to join the group. Registration will close on November 7th.   \nQuestions can be emailed to support4life@newcov.org or call 770-484-9300.
URL:https://newcov.org/event/grief-support-group-registration-deadline/
LOCATION:Zoom
ATTACH;FMTTYPE=image/png:https://newcov.org/wp-content/uploads/2021/10/Grief-Share_Event-Tab.png
END:VEVENT
BEGIN:VEVENT
DTSTART;TZID=UTC:20210929T191500
DTEND;TZID=UTC:20210929T191500
DTSTAMP:20260419T100114
CREATED:20210303T014703Z
LAST-MODIFIED:20210303T014716Z
UID:10000733-1632942900-1632942900@newcov.org
SUMMARY:Corporate Bible Study
DESCRIPTION:
URL:https://newcov.org/event/corporate-bible-study-9/
LOCATION:Zoom
ATTACH;FMTTYPE=image/jpeg:https://newcov.org/wp-content/uploads/2021/03/corporate-bible-study.jpg
END:VEVENT
BEGIN:VEVENT
DTSTART;TZID=UTC:20210922T191500
DTEND;TZID=UTC:20210922T191500
DTSTAMP:20260419T100114
CREATED:20210303T014354Z
LAST-MODIFIED:20210303T014454Z
UID:10000732-1632338100-1632338100@newcov.org
SUMMARY:Corporate Bible Study
DESCRIPTION:
URL:https://newcov.org/event/corporate-bible-study-8/
LOCATION:Zoom
ATTACH;FMTTYPE=image/jpeg:https://newcov.org/wp-content/uploads/2021/03/corporate-bible-study.jpg
END:VEVENT
BEGIN:VEVENT
DTSTART;TZID=UTC:20210915T191500
DTEND;TZID=UTC:20210915T191500
DTSTAMP:20260419T100114
CREATED:20210303T014215Z
LAST-MODIFIED:20210303T014215Z
UID:10000731-1631733300-1631733300@newcov.org
SUMMARY:Corporate Bible Study
DESCRIPTION:
URL:https://newcov.org/event/corporate-bible-study-7/
LOCATION:Zoom
ATTACH;FMTTYPE=image/jpeg:https://newcov.org/wp-content/uploads/2021/03/corporate-bible-study.jpg
END:VEVENT
BEGIN:VEVENT
DTSTART;TZID=UTC:20210912T123000
DTEND;TZID=UTC:20210912T123000
DTSTAMP:20260419T100114
CREATED:20210814T222423Z
LAST-MODIFIED:20210814T222423Z
UID:10000781-1631449800-1631449800@newcov.org
SUMMARY:"Journey for a Lifetime" - Session 2
DESCRIPTION:The “Journey for a Lifetime” classes are for engaged and married couples. These seven sessions will lay a foundation for marriage and are mandatory for any engaged couple who desires to be married by the leadership of New Covenant. Deadline to register is September 12th. Click here to register: http://events.constantcontact.com/register/event?llr=bwixiugab&oeidk=a07ehl4juuy1ae2716d
URL:https://newcov.org/event/journey-for-a-lifetime-session-2-2/
LOCATION:Zoom
ATTACH;FMTTYPE=image/png:https://newcov.org/wp-content/uploads/2021/08/holding-hands.png
END:VEVENT
BEGIN:VEVENT
DTSTART;TZID=UTC:20210908T191500
DTEND;TZID=UTC:20210908T191500
DTSTAMP:20260419T100114
CREATED:20210303T014047Z
LAST-MODIFIED:20210303T014047Z
UID:10000730-1631128500-1631128500@newcov.org
SUMMARY:Corporate Bible Study
DESCRIPTION:
URL:https://newcov.org/event/corporate-bible-study-6/
LOCATION:Zoom
ATTACH;FMTTYPE=image/jpeg:https://newcov.org/wp-content/uploads/2021/03/corporate-bible-study.jpg
END:VEVENT
BEGIN:VEVENT
DTSTART;TZID=UTC:20210901T191500
DTEND;TZID=UTC:20210901T191500
DTSTAMP:20260419T100114
CREATED:20210303T013918Z
LAST-MODIFIED:20210303T013918Z
UID:10000729-1630523700-1630523700@newcov.org
SUMMARY:Corporate Bible Study
DESCRIPTION:
URL:https://newcov.org/event/corporate-bible-study-5/
LOCATION:Zoom
ATTACH;FMTTYPE=image/jpeg:https://newcov.org/wp-content/uploads/2021/03/corporate-bible-study.jpg
END:VEVENT
END:VCALENDAR