BEGIN:VCALENDAR
VERSION:2.0
PRODID:-//New Covenant Christian Ministries - ECPv6.15.20//NONSGML v1.0//EN
CALSCALE:GREGORIAN
METHOD:PUBLISH
X-WR-CALNAME:New Covenant Christian Ministries
X-ORIGINAL-URL:https://newcov.org
X-WR-CALDESC:Events for New Covenant Christian Ministries
REFRESH-INTERVAL;VALUE=DURATION:PT1H
X-Robots-Tag:noindex
X-PUBLISHED-TTL:PT1H
BEGIN:VTIMEZONE
TZID:America/New_York
BEGIN:DAYLIGHT
TZOFFSETFROM:-0500
TZOFFSETTO:-0400
TZNAME:EDT
DTSTART:20230312T070000
END:DAYLIGHT
BEGIN:STANDARD
TZOFFSETFROM:-0400
TZOFFSETTO:-0500
TZNAME:EST
DTSTART:20231105T060000
END:STANDARD
BEGIN:DAYLIGHT
TZOFFSETFROM:-0500
TZOFFSETTO:-0400
TZNAME:EDT
DTSTART:20240310T070000
END:DAYLIGHT
BEGIN:STANDARD
TZOFFSETFROM:-0400
TZOFFSETTO:-0500
TZNAME:EST
DTSTART:20241103T060000
END:STANDARD
BEGIN:DAYLIGHT
TZOFFSETFROM:-0500
TZOFFSETTO:-0400
TZNAME:EDT
DTSTART:20250309T070000
END:DAYLIGHT
BEGIN:STANDARD
TZOFFSETFROM:-0400
TZOFFSETTO:-0500
TZNAME:EST
DTSTART:20251102T060000
END:STANDARD
BEGIN:DAYLIGHT
TZOFFSETFROM:-0500
TZOFFSETTO:-0400
TZNAME:EDT
DTSTART:20260308T070000
END:DAYLIGHT
BEGIN:STANDARD
TZOFFSETFROM:-0400
TZOFFSETTO:-0500
TZNAME:EST
DTSTART:20261101T060000
END:STANDARD
END:VTIMEZONE
BEGIN:VTIMEZONE
TZID:UTC
BEGIN:STANDARD
TZOFFSETFROM:+0000
TZOFFSETTO:+0000
TZNAME:UTC
DTSTART:20230101T000000
END:STANDARD
END:VTIMEZONE
BEGIN:VEVENT
DTSTART;TZID=America/New_York:20250208T100000
DTEND;TZID=America/New_York:20250208T113000
DTSTAMP:20260426T002441
CREATED:20250121T033955Z
LAST-MODIFIED:20250207T025055Z
UID:10001487-1739008800-1739014200@newcov.org
SUMMARY:Promise Scholarship Voucher Meeting
DESCRIPTION:Parents of school-age children are invited to an informational meeting regarding the possibility of utilizing the newly passed Promise Scholarship Voucher for private Christian schooling at New Covenant. The meeting will be held at 10 a.m. in the East Campus sanctuary.  Questions can be directed to Ebony Bryant at emichelle.bryant@gmail.com. \n  \n  \n 
URL:https://newcov.org/event/promise-scholarship-voucher-meeting/
LOCATION:New Covenant Christian Ministries – East\, 14147 Highway 278\, Covington\, GA\, 30014\, United States
ATTACH;FMTTYPE=image/jpeg:https://newcov.org/wp-content/uploads/2025/01/student.jpg
END:VEVENT
BEGIN:VEVENT
DTSTART;VALUE=DATE:20250126
DTEND;VALUE=DATE:20250127
DTSTAMP:20260426T002441
CREATED:20241005T205814Z
LAST-MODIFIED:20250117T024257Z
UID:10001475-1737849600-1737935999@newcov.org
SUMMARY:NextGen Sunday
DESCRIPTION:Join us at 8 a.m. in Covington and 11 a.m. in Lithonia for our NextGen service where all generations gather for worship.
URL:https://newcov.org/event/nextgen-sunday-3/2025-01-26/
ATTACH;FMTTYPE=image/jpeg:https://newcov.org/wp-content/uploads/2015/10/926x600_pg_youth1.jpg
END:VEVENT
BEGIN:VEVENT
DTSTART;VALUE=DATE:20250119
DTEND;VALUE=DATE:20250120
DTSTAMP:20260426T002441
CREATED:20241018T014646Z
LAST-MODIFIED:20241222T023254Z
UID:10001151-1737244800-1737331199@newcov.org
SUMMARY:Baptism
DESCRIPTION:Baptism is scheduled for Sunday\, January 19th\, at the Lithonia Campus during the 11:00 a.m. service. Interested candidates should provide their contact information here to receive an automatic response regarding a mandatory baptism class on Zoom. The deadline to join the list of candidates is January 12th.
URL:https://newcov.org/event/baptism-9/
LOCATION:New Covenant Christian Ministries – West\, 1760 Phillips Road\, Lithonia\, GA\, 30058\, United States
ATTACH;FMTTYPE=image/png:https://newcov.org/wp-content/uploads/2022/12/Baptism-Event.png
END:VEVENT
BEGIN:VEVENT
DTSTART;VALUE=DATE:20250109
DTEND;VALUE=DATE:20250113
DTSTAMP:20260426T002441
CREATED:20241222T022520Z
LAST-MODIFIED:20250103T133658Z
UID:10001164-1736380800-1736726399@newcov.org
SUMMARY:Bishop La Fayette Scales
DESCRIPTION:As we begin The Year of Equipping\, we welcome Bishop La Fayette Scales for three days of ministry.  Services will be held at the West campus on Thursday and Friday\, January 9th and 10th at 7:15 p.m.  Bishop Scales will close the weekend on Sunday\, January 12th at both campuses.
URL:https://newcov.org/event/bishop-la-fayette-scales/
ATTACH;FMTTYPE=image/png:https://newcov.org/wp-content/uploads/2024/12/Bishop-LaFayette-Scales-Event.png
END:VEVENT
BEGIN:VEVENT
DTSTART;VALUE=DATE:20250107
DTEND;VALUE=DATE:20250129
DTSTAMP:20260426T002441
CREATED:20241222T005724Z
LAST-MODIFIED:20241222T023355Z
UID:10000936-1736208000-1738108799@newcov.org
SUMMARY:New Member Orientation
DESCRIPTION:Members and those considering membership at New Covenant are invited to a four-week interactive virtual orientation session.  The sessions will provide an in-depth look at the vision of New Covenant and help you discover your place in the ministry.  For details and registration go HERE.  Questions can be emailed to discipleship@newcov.org.
URL:https://newcov.org/event/new-member-orientation-2-2/
LOCATION:Virtual
ATTACH;FMTTYPE=image/png:https://newcov.org/wp-content/uploads/2021/08/New-Members-400x250-1.png
END:VEVENT
BEGIN:VEVENT
DTSTART;VALUE=DATE:20241231
DTEND;VALUE=DATE:20250101
DTSTAMP:20260426T002441
CREATED:20211222T204144Z
LAST-MODIFIED:20241222T023420Z
UID:10000510-1735603200-1735689599@newcov.org
SUMMARY:New Year's Eve Service
DESCRIPTION:Join us at our Lithonia Campus for a special New Year’s Eve service on Tuesday\, December 31st\, at 10:00 p.m.  We are excited to welcome Casey J as our guest psalmist and will close the evening with Pastor Bill sharing a dynamic end-of-year message that you don’t want to miss.
URL:https://newcov.org/event/new-years-eve-service/
LOCATION:New Covenant Christian Ministries – West\, 1760 Phillips Road\, Lithonia\, GA\, 30058\, United States
ATTACH;FMTTYPE=image/png:https://newcov.org/wp-content/uploads/2021/12/New-Years-Eve-2023.png
END:VEVENT
BEGIN:VEVENT
DTSTART;VALUE=DATE:20241222
DTEND;VALUE=DATE:20241223
DTSTAMP:20260426T002441
CREATED:20241005T205814Z
LAST-MODIFIED:20250117T024257Z
UID:10001474-1734825600-1734911999@newcov.org
SUMMARY:NextGen Sunday
DESCRIPTION:Join us at 8 a.m. in Covington and 11 a.m. in Lithonia for our NextGen service where all generations gather for worship.
URL:https://newcov.org/event/nextgen-sunday-3/2024-12-22/
ATTACH;FMTTYPE=image/jpeg:https://newcov.org/wp-content/uploads/2015/10/926x600_pg_youth1.jpg
END:VEVENT
BEGIN:VEVENT
DTSTART;VALUE=DATE:20241220
DTEND;VALUE=DATE:20241221
DTSTAMP:20260426T002441
CREATED:20241121T222836Z
LAST-MODIFIED:20241121T222836Z
UID:10001155-1734652800-1734739199@newcov.org
SUMMARY:Christmas Musical
DESCRIPTION:Join us at the Lithonia Campus on Friday\, December 20th\, 8:00 p.m. for the Christmas Musical entitled God Coming Down.  You will be blessed by the miraculous story of Jesus’ arrival as a baby in a manger and His coming to dwell among us and live within our hearts.
URL:https://newcov.org/event/christmas-musical-2/
LOCATION:New Covenant Christian Ministries – West\, 1760 Phillips Road\, Lithonia\, GA\, 30058\, United States
ATTACH;FMTTYPE=image/png:https://newcov.org/wp-content/uploads/2024/11/Christmas-Production-2024-event.png
END:VEVENT
BEGIN:VEVENT
DTSTART;VALUE=DATE:20241124
DTEND;VALUE=DATE:20241125
DTSTAMP:20260426T002441
CREATED:20241005T205814Z
LAST-MODIFIED:20250117T024257Z
UID:10001150-1732406400-1732492799@newcov.org
SUMMARY:NextGen Sunday
DESCRIPTION:Join us at 8 a.m. in Covington and 11 a.m. in Lithonia for our NextGen service where all generations gather for worship.
URL:https://newcov.org/event/nextgen-sunday-3/2024-11-24/
ATTACH;FMTTYPE=image/jpeg:https://newcov.org/wp-content/uploads/2015/10/926x600_pg_youth1.jpg
END:VEVENT
BEGIN:VEVENT
DTSTART;VALUE=DATE:20241119
DTEND;VALUE=DATE:20241120
DTSTAMP:20260426T002441
CREATED:20221120T024135Z
LAST-MODIFIED:20241030T015632Z
UID:10000851-1731974400-1732060799@newcov.org
SUMMARY:Holiday Decorating
DESCRIPTION:It’s time to adorn our East & West Campus for the holiday season.  This is a wonderful opportunity for ladies and gentlemen to develop lasting connections while contributing to a festive atmosphere in our church.   No experience is necessary.  Tap this link to view the schedule and join the team.
URL:https://newcov.org/event/christmas-decorating/
ATTACH;FMTTYPE=image/png:https://newcov.org/wp-content/uploads/2022/11/Decorating-Event-1.png
END:VEVENT
BEGIN:VEVENT
DTSTART;VALUE=DATE:20241117
DTEND;VALUE=DATE:20241118
DTSTAMP:20260426T002441
CREATED:20241005T204936Z
LAST-MODIFIED:20241005T204936Z
UID:10001139-1731801600-1731887999@newcov.org
SUMMARY:Forward Conference 2025 Registration
DESCRIPTION:Join New Covenant’s crew at Forward Con 2025.  Specially priced tickets are available until November 17th.  Follow this link for information to secure your spot.
URL:https://newcov.org/event/forward-conference-2025-registration/
ATTACH;FMTTYPE=image/png:https://newcov.org/wp-content/uploads/2024/10/Forward-2025-event-Graphic.png
END:VEVENT
BEGIN:VEVENT
DTSTART;TZID=America/New_York:20241109T100000
DTEND;TZID=America/New_York:20241109T113000
DTSTAMP:20260426T002441
CREATED:20241023T194401Z
LAST-MODIFIED:20241023T194401Z
UID:10001153-1731146400-1731151800@newcov.org
SUMMARY:Ministry Credentialing
DESCRIPTION:New Covenant members who have been licensed and/or ordained in another church and desire credential recognition in this church are invited to join Pastor Bill and Dr. D in a virtual meeting on Saturday\, November 9th.  Join the list of attendees by clicking here.   Register no later than Monday\, November 4th to receive access to the meeting.
URL:https://newcov.org/event/ministry-credentialing/
LOCATION:Virtual
ATTACH;FMTTYPE=image/png:https://newcov.org/wp-content/uploads/2024/10/Credentialing-Event.png
END:VEVENT
BEGIN:VEVENT
DTSTART;VALUE=DATE:20241109
DTEND;VALUE=DATE:20241110
DTSTAMP:20260426T002441
CREATED:20241023T195736Z
LAST-MODIFIED:20241023T200659Z
UID:10001154-1731110400-1731196799@newcov.org
SUMMARY:Men's Conference @ Grace Church International
DESCRIPTION:Join the men of Grace Church International for transformative workshops and engaging seminar sessions to help men discover their true potential\, sharpen their leadership skills\, and embrace their purpose.  Find all the details here.
URL:https://newcov.org/event/mens-conference-grace-church-international/
ATTACH;FMTTYPE=image/jpeg:https://newcov.org/wp-content/uploads/2023/05/400x200-mens-fellowship-event.jpg
END:VEVENT
BEGIN:VEVENT
DTSTART;VALUE=DATE:20241027
DTEND;VALUE=DATE:20241028
DTSTAMP:20260426T002441
CREATED:20241005T205547Z
LAST-MODIFIED:20241005T205547Z
UID:10001149-1729987200-1730073599@newcov.org
SUMMARY:NextGen Sunday
DESCRIPTION:Join us at 8 a.m. in Covington or 11 a.m. in Lithonia for the NextGen Youth and Young Adult worship service.
URL:https://newcov.org/event/nextgen-sunday-5/
ATTACH;FMTTYPE=image/jpeg:https://newcov.org/wp-content/uploads/2015/10/926x600_pg_youth1.jpg
END:VEVENT
BEGIN:VEVENT
DTSTART;VALUE=DATE:20240929
DTEND;VALUE=DATE:20240930
DTSTAMP:20260426T002441
CREATED:20240912T112425Z
LAST-MODIFIED:20240912T113009Z
UID:10001129-1727568000-1727654399@newcov.org
SUMMARY:Jersey Day @ Family and Friends Sunday
DESCRIPTION:Bring your family\, invite your friends\, represent your favorite team\, and join us for worship at 8 a.m. in Covington and 11 a.m. in Lithonia.
URL:https://newcov.org/event/jersey-day-family-and-friends-sunday/
LOCATION:New Covenant Christian Ministries – East & West\, 1760 Phillips Road\, Lithonia\, GA\, 30058\, United States
ATTACH;FMTTYPE=image/png:https://newcov.org/wp-content/uploads/2024/09/Jersey-Day-Family-Friends-Day-Event-1.png
END:VEVENT
BEGIN:VEVENT
DTSTART;VALUE=DATE:20240922
DTEND;VALUE=DATE:20240923
DTSTAMP:20260426T002441
CREATED:20240820T235939Z
LAST-MODIFIED:20240821T163651Z
UID:10001119-1726963200-1727049599@newcov.org
SUMMARY:B.I.G. Sunday
DESCRIPTION:Join us for an empowering youth and young adult-led service focused on “Unleashing the Entrepreneur In You”.  After the 11 o’clock service\, young business owners are invited to participate in a pop-up shop/expo. There is a $15 fee for businesses to participate\, and registration is required through this link. \n 
URL:https://newcov.org/event/b-i-g-sunday/
ATTACH;FMTTYPE=image/jpeg:https://newcov.org/wp-content/uploads/2024/08/Businessman-scaled.jpg
END:VEVENT
BEGIN:VEVENT
DTSTART;VALUE=DATE:20240915
DTEND;VALUE=DATE:20240916
DTSTAMP:20260426T002441
CREATED:20240618T022738Z
LAST-MODIFIED:20240809T012446Z
UID:10001116-1726358400-1726444799@newcov.org
SUMMARY:Baptism
DESCRIPTION:Baptism is scheduled for Sunday\, September 15th\, at the Lithonia Campus during the 11:00 a.m. service. Interested candidates should provide their contact information here to receive an automatic response regarding a mandatory baptism class on Zoom. The deadline to join the list of candidates is September 8th.
URL:https://newcov.org/event/baptism-8/
LOCATION:New Covenant Christian Ministries – West\, 1760 Phillips Road\, Lithonia\, GA\, 30058\, United States
ATTACH;FMTTYPE=image/png:https://newcov.org/wp-content/uploads/2022/12/Baptism-Event.png
END:VEVENT
BEGIN:VEVENT
DTSTART;TZID=America/New_York:20240914T090000
DTEND;TZID=America/New_York:20240914T140000
DTSTAMP:20260426T002441
CREATED:20240821T001531Z
LAST-MODIFIED:20240821T001531Z
UID:10001120-1726304400-1726322400@newcov.org
SUMMARY:Senior Health Symposium and Resource Fair
DESCRIPTION:This FREE event sponsored by The Stone Mountain Lithonia Chapter of Delta Sigma Theta Sorority\, Inc. and New Covenant Christian Ministries is sure to empower you.   Over 30 vendors will be on-site to provide information\, along with a variety of panel discussions\, health checks\, a flu clinic\, vaccinations\, giveaways\, and much more.   Registration is required at this link. \n 
URL:https://newcov.org/event/senior-health-symposium-and-resource-fair/
LOCATION:New Covenant Christian Ministries – West\, 1760 Phillips Road\, Lithonia\, GA\, 30058\, United States
ATTACH;FMTTYPE=image/jpeg:https://newcov.org/wp-content/uploads/2024/08/Couple-Active.jpg
END:VEVENT
BEGIN:VEVENT
DTSTART;TZID=America/New_York:20240908T190000
DTEND;TZID=America/New_York:20240908T213000
DTSTAMP:20260426T002441
CREATED:20240821T163444Z
LAST-MODIFIED:20240821T163444Z
UID:10001121-1725822000-1725831000@newcov.org
SUMMARY:Gospel Skate Night
DESCRIPTION:NextGen is invites you to Gospel Skate Night at the Starlite Skating Rink in Stockbridge\, GA\, from 7 p.m. – 9:30 p.m.  Wear any New Covenant t-shirt and let’s represent! \nSee details on the flyer below or visit starliteofstockbridge.com \n  \n 
URL:https://newcov.org/event/gospel-skate-night/
ATTACH;FMTTYPE=image/png:https://newcov.org/wp-content/uploads/2024/08/Starlight-Skate-Family-Fun.png
END:VEVENT
BEGIN:VEVENT
DTSTART;VALUE=DATE:20240908
DTEND;VALUE=DATE:20240909
DTSTAMP:20260426T002441
CREATED:20240506T192816Z
LAST-MODIFIED:20240808T202126Z
UID:10001107-1725753600-1725839999@newcov.org
SUMMARY:Baby Dedication
DESCRIPTION:Baby Dedication will take place on Sunday\, September 8th during the 11:00 a.m. worship service at the Lithonia Campus. Interested families should click this link to register no later than Sunday\, September 1st and receive additional information. Questions can be directed to info@newcov.org.
URL:https://newcov.org/event/baby-dedication-8/
LOCATION:New Covenant Christian Ministries – West\, 1760 Phillips Road\, Lithonia\, GA\, 30058\, United States
ATTACH;FMTTYPE=image/png:https://newcov.org/wp-content/uploads/2023/11/Baby-400x250-1.png
END:VEVENT
BEGIN:VEVENT
DTSTART;VALUE=DATE:20240825
DTEND;VALUE=DATE:20240826
DTSTAMP:20260426T002441
CREATED:20240820T232806Z
LAST-MODIFIED:20240820T232806Z
UID:10000979-1724544000-1724630399@newcov.org
SUMMARY:NextGen Sunday
DESCRIPTION:Join us at 8 a.m. in Covington or 11 a.m. in Lithonia for the NextGen Youth and Young Adult worship service.
URL:https://newcov.org/event/nextgen-sunday-2-2/2024-08-25/
ATTACH;FMTTYPE=image/jpeg:https://newcov.org/wp-content/uploads/2015/10/926x600_pg_youth1.jpg
END:VEVENT
BEGIN:VEVENT
DTSTART;VALUE=DATE:20240820
DTEND;VALUE=DATE:20240821
DTSTAMP:20260426T002441
CREATED:20240820T232806Z
LAST-MODIFIED:20240820T232806Z
UID:10001118-1724140800-1724173200@newcov.org
SUMMARY:NextGen Sunday
DESCRIPTION:Join us at 8 a.m. in Covington or 11 a.m. in Lithonia for the NextGen Youth and Young Adult worship service.
URL:https://newcov.org/event/nextgen-sunday-2-2/2024-08-20/
ATTACH;FMTTYPE=image/jpeg:https://newcov.org/wp-content/uploads/2015/10/926x600_pg_youth1.jpg
END:VEVENT
BEGIN:VEVENT
DTSTART;VALUE=DATE:20240728
DTEND;VALUE=DATE:20240729
DTSTAMP:20260426T002441
CREATED:20240322T182932Z
LAST-MODIFIED:20240322T185945Z
UID:10000978-1722124800-1722211199@newcov.org
SUMMARY:NextGen Sunday
DESCRIPTION:Join us at 8 a.m. in Covington or 11 a.m. in Lithonia for the NextGen Youth and Young Adult worship service.
URL:https://newcov.org/event/nextgen-sunday-2/2024-07-28/
ATTACH;FMTTYPE=image/jpeg:https://newcov.org/wp-content/uploads/2015/10/926x600_pg_youth1.jpg
END:VEVENT
BEGIN:VEVENT
DTSTART;VALUE=DATE:20240727
DTEND;VALUE=DATE:20240728
DTSTAMP:20260426T002441
CREATED:20240426T114647Z
LAST-MODIFIED:20240722T131801Z
UID:10001046-1722038400-1722124799@newcov.org
SUMMARY:Vacation Bible School SUPER SATURDAY
DESCRIPTION:This full day of deep-diving adventure is for all ages.  The fun continues on Sunday\, July 28th\, with a music selection from VBS and school supply distribution (while supplies last).
URL:https://newcov.org/event/vacation-bible-school-super-saturday/
ATTACH;FMTTYPE=image/jpeg:https://newcov.org/wp-content/uploads/2024/04/Scuba_Logo-72dpi-event.jpg
END:VEVENT
BEGIN:VEVENT
DTSTART;VALUE=DATE:20240713
DTEND;VALUE=DATE:20240714
DTSTAMP:20260426T002441
CREATED:20240606T003750Z
LAST-MODIFIED:20240616T012821Z
UID:10001114-1720828800-1720915199@newcov.org
SUMMARY:Mental Health and Wellness Training Series
DESCRIPTION:New Covenant will host Project RejuveNATION\, an Emotional Health and Wellness Training Series at 9 a.m. on Saturday\, June 22nd\, June 29th\, and July 13th at the West Campus. The training is FREE and pre-order lunch options are available for purchase.  Register here.
URL:https://newcov.org/event/mental-health-and-wellness-training-series-3/
LOCATION:New Covenant Christian Ministries – West\, 1760 Phillips Road\, Lithonia\, GA\, 30058\, United States
ATTACH;FMTTYPE=image/png:https://newcov.org/wp-content/uploads/2024/06/Mental-Health-Series-Event.png
END:VEVENT
BEGIN:VEVENT
DTSTART;VALUE=DATE:20240630
DTEND;VALUE=DATE:20240701
DTSTAMP:20260426T002441
CREATED:20240521T030115Z
LAST-MODIFIED:20240522T025238Z
UID:10001111-1719705600-1719791999@newcov.org
SUMMARY:Transformed Tshirt Sunday
DESCRIPTION:Wear your Transformed t-shirt and join us for a church-wide photo after the 8am and 11am service.  Click here to order your t-shirt before June 8th.
URL:https://newcov.org/event/transformed-tshirt-sunday/
ATTACH;FMTTYPE=image/png:https://newcov.org/wp-content/uploads/2024/05/Transformed-life-Image.png
END:VEVENT
BEGIN:VEVENT
DTSTART;VALUE=DATE:20240630
DTEND;VALUE=DATE:20240701
DTSTAMP:20260426T002441
CREATED:20240406T211329Z
LAST-MODIFIED:20240616T012259Z
UID:10001045-1719705600-1719791999@newcov.org
SUMMARY:S.A.L.T. Training Session
DESCRIPTION:Leaders\, plan to attend our Staff and Leadership Team session on Sunday\, June 30th at the Lithonia Campus immediately after the 11 o’clock service.  Every person currently serving in any area of ministry is requested to attend.  Check your email for details.
URL:https://newcov.org/event/s-a-l-t-training-session-2/
LOCATION:New Covenant Christian Ministries – West\, 1760 Phillips Road\, Lithonia\, GA\, 30058\, United States
ATTACH;FMTTYPE=image/png:https://newcov.org/wp-content/uploads/2024/04/S.A.L.T.-Logo-Event.png
END:VEVENT
BEGIN:VEVENT
DTSTART;VALUE=DATE:20240629
DTEND;VALUE=DATE:20240630
DTSTAMP:20260426T002441
CREATED:20240606T003608Z
LAST-MODIFIED:20240606T003608Z
UID:10001113-1719619200-1719705599@newcov.org
SUMMARY:Mental Health and Wellness Training Series
DESCRIPTION:New Covenant will host Project RejuveNATION\, an Emotional Health and Wellness Training Series at 9 a.m. on Saturday\, June 22nd\, June 29th\, and July 13th at the West Campus. The training is FREE and pre-order lunch options are available for purchase.  Register here.
URL:https://newcov.org/event/mental-health-and-wellness-training-series-2/
LOCATION:New Covenant Christian Ministries – West\, 1760 Phillips Road\, Lithonia\, GA\, 30058\, United States
ATTACH;FMTTYPE=image/png:https://newcov.org/wp-content/uploads/2024/06/Mental-Health-Series-Event.png
END:VEVENT
BEGIN:VEVENT
DTSTART;VALUE=DATE:20240623
DTEND;VALUE=DATE:20240624
DTSTAMP:20260426T002441
CREATED:20240521T025406Z
LAST-MODIFIED:20240620T154644Z
UID:10001110-1719100800-1719187199@newcov.org
SUMMARY:Voter Registration Drive
DESCRIPTION:New Covenant will host a voter registration drive and is looking for volunteers ages 18 and up to assist with the process.   Join the volunteer team by tapping this link. \nQuestions can be emailed to faobjp@bellsouth.net \n 
URL:https://newcov.org/event/voter-registration-drive/
ATTACH;FMTTYPE=image/png:https://newcov.org/wp-content/uploads/2024/05/Voter-Registration-Drive-event-1.png
END:VEVENT
BEGIN:VEVENT
DTSTART;VALUE=DATE:20240623
DTEND;VALUE=DATE:20240624
DTSTAMP:20260426T002441
CREATED:20240322T182932Z
LAST-MODIFIED:20240322T185945Z
UID:10000977-1719100800-1719187199@newcov.org
SUMMARY:NextGen Sunday
DESCRIPTION:Join us at 8 a.m. in Covington or 11 a.m. in Lithonia for the NextGen Youth and Young Adult worship service.
URL:https://newcov.org/event/nextgen-sunday-2/2024-06-23/
ATTACH;FMTTYPE=image/jpeg:https://newcov.org/wp-content/uploads/2015/10/926x600_pg_youth1.jpg
END:VEVENT
END:VCALENDAR