BEGIN:VCALENDAR
VERSION:2.0
PRODID:-//New Covenant Christian Ministries - ECPv6.15.20//NONSGML v1.0//EN
CALSCALE:GREGORIAN
METHOD:PUBLISH
X-WR-CALNAME:New Covenant Christian Ministries
X-ORIGINAL-URL:https://newcov.org
X-WR-CALDESC:Events for New Covenant Christian Ministries
REFRESH-INTERVAL;VALUE=DURATION:PT1H
X-Robots-Tag:noindex
X-PUBLISHED-TTL:PT1H
BEGIN:VTIMEZONE
TZID:UTC
BEGIN:STANDARD
TZOFFSETFROM:+0000
TZOFFSETTO:+0000
TZNAME:UTC
DTSTART:20210101T000000
END:STANDARD
END:VTIMEZONE
BEGIN:VEVENT
DTSTART;TZID=UTC:20220424T103000
DTEND;TZID=UTC:20220424T103000
DTSTAMP:20260422T142735
CREATED:20211105T030604Z
LAST-MODIFIED:20220106T042357Z
UID:10000452-1650796200-1650796200@newcov.org
SUMMARY:Student Ministries Sunday Zoom - High School Students
DESCRIPTION:The Student Ministries Team provides ministry to high school students via Zoom each Sunday beginning at 10:30 am. Students should complete a one-time registration to receive the Zoom link. Click LINK to register.
URL:https://newcov.org/event/student-ministries-sunday-zoom-high-school-students/2022-04-24/
LOCATION:Zoom
ATTACH;FMTTYPE=image/png:https://newcov.org/wp-content/uploads/2021/11/Student-Ministries-Event-HS.png
END:VEVENT
BEGIN:VEVENT
DTSTART;TZID=UTC:20220424T103000
DTEND;TZID=UTC:20220424T103000
DTSTAMP:20260422T142735
CREATED:20211105T024336Z
LAST-MODIFIED:20220106T042801Z
UID:10000812-1650796200-1650796200@newcov.org
SUMMARY:Student Ministries Sunday Zoom - Middle School Students
DESCRIPTION:The Student Ministries Team provides ministry to middle school students via Zoom each Sunday beginning at 10:30 am. Students should complete a one-time registration to receive the Zoom link. Click LINK to register.
URL:https://newcov.org/event/student-ministries-sunday-zoom-middle-school-students/2022-04-24/
LOCATION:Zoom
ATTACH;FMTTYPE=image/png:https://newcov.org/wp-content/uploads/2021/11/Student-Ministries-Event-MS.png
END:VEVENT
BEGIN:VEVENT
DTSTART;TZID=UTC:20220417T103000
DTEND;TZID=UTC:20220417T103000
DTSTAMP:20260422T142735
CREATED:20211105T211017Z
LAST-MODIFIED:20220515T061221Z
UID:10000491-1650191400-1650191400@newcov.org
SUMMARY:Student Ministries Sunday Zoom - Elementary Students
DESCRIPTION:The Student Ministries Team provides ministry to elementary students via Zoom each Sunday beginning at 10:30 am. Students should complete a one-time registration to receive the Zoom link. Click LINK to register.
URL:https://newcov.org/event/student-ministries-sunday-zoom-elementary-students-2022-04-10/2022-04-17/
LOCATION:Zoom
ATTACH;FMTTYPE=image/png:https://newcov.org/wp-content/uploads/2021/07/Student-Ministries-Event-ELE.png
END:VEVENT
BEGIN:VEVENT
DTSTART;TZID=UTC:20220417T103000
DTEND;TZID=UTC:20220417T103000
DTSTAMP:20260422T142735
CREATED:20211105T030604Z
LAST-MODIFIED:20220106T042357Z
UID:10000451-1650191400-1650191400@newcov.org
SUMMARY:Student Ministries Sunday Zoom - High School Students
DESCRIPTION:The Student Ministries Team provides ministry to high school students via Zoom each Sunday beginning at 10:30 am. Students should complete a one-time registration to receive the Zoom link. Click LINK to register.
URL:https://newcov.org/event/student-ministries-sunday-zoom-high-school-students/2022-04-17/
LOCATION:Zoom
ATTACH;FMTTYPE=image/png:https://newcov.org/wp-content/uploads/2021/11/Student-Ministries-Event-HS.png
END:VEVENT
BEGIN:VEVENT
DTSTART;TZID=UTC:20220417T103000
DTEND;TZID=UTC:20220417T103000
DTSTAMP:20260422T142735
CREATED:20211105T024336Z
LAST-MODIFIED:20220106T042801Z
UID:10000811-1650191400-1650191400@newcov.org
SUMMARY:Student Ministries Sunday Zoom - Middle School Students
DESCRIPTION:The Student Ministries Team provides ministry to middle school students via Zoom each Sunday beginning at 10:30 am. Students should complete a one-time registration to receive the Zoom link. Click LINK to register.
URL:https://newcov.org/event/student-ministries-sunday-zoom-middle-school-students/2022-04-17/
LOCATION:Zoom
ATTACH;FMTTYPE=image/png:https://newcov.org/wp-content/uploads/2021/11/Student-Ministries-Event-MS.png
END:VEVENT
BEGIN:VEVENT
DTSTART;VALUE=DATE:20220417
DTEND;VALUE=DATE:20220418
DTSTAMP:20260422T142735
CREATED:20220415T011217Z
LAST-MODIFIED:20220415T011217Z
UID:10000519-1650153600-1650239999@newcov.org
SUMMARY:Beginning EASTER Sunday - NEW SERVICE TIMES
DESCRIPTION:Join us for a dynamic worship experience in one of our two locations: \n8:00 am – NCCM East (Covington)\n11:00 am – NCCM West (Lithonia)
URL:https://newcov.org/event/beginning-easter-sunday-new-service-times/
ATTACH;FMTTYPE=image/jpeg:https://newcov.org/wp-content/uploads/2022/04/460x250-worship-times-event.jpg
END:VEVENT
BEGIN:VEVENT
DTSTART;TZID=UTC:20220416T120000
DTEND;TZID=UTC:20220416T160000
DTSTAMP:20260422T142735
CREATED:20220415T024115Z
LAST-MODIFIED:20220415T024115Z
UID:10000521-1650110400-1650124800@newcov.org
SUMMARY:Easter Family Fun Day
DESCRIPTION:Plan to join us on Saturday\, April 16th from 12 noon until 4:00 pm (EST)\, as we support My Sister’s Keeper and Redan Rec Center at the Easter Family Fun Day. The day will consist of inflatables\, a candy hunt\, games\, various activities\, vendors\, food and much more. We’re looking forward to seeing you – rain or shine.
URL:https://newcov.org/event/easter-family-fun-day/
LOCATION:Redan Recreational Center\, 1839 Phillips Road\, Lithonia\, GA\, 30058\, United States
ATTACH;FMTTYPE=image/png:https://newcov.org/wp-content/uploads/2022/04/Easter-Family-Fun-Day-RRC-Event-Thumbnail.png
END:VEVENT
BEGIN:VEVENT
DTSTART;TZID=UTC:20220415T200000
DTEND;TZID=UTC:20220415T200000
DTSTAMP:20260422T142735
CREATED:20220415T023913Z
LAST-MODIFIED:20220415T023913Z
UID:10000520-1650052800-1650052800@newcov.org
SUMMARY:BELIEVE
DESCRIPTION:Mark your calendars for New Covenant’s annual Easter Production. This year’s film depicts the life of Christ told through a blend of the Gospel narratives. Watch as the story unfolds with Christ accepting His call to come to earth to reveal God’s love for mankind. Then witness His life\, death and resurrection.
URL:https://newcov.org/event/believe/
LOCATION:Zoom
ATTACH;FMTTYPE=image/png:https://newcov.org/wp-content/uploads/2022/04/Believe-Film-Event-Thumbnail.png
END:VEVENT
BEGIN:VEVENT
DTSTART;TZID=UTC:20220410T103000
DTEND;TZID=UTC:20220410T103000
DTSTAMP:20260422T142735
CREATED:20211105T211017Z
LAST-MODIFIED:20220106T041821Z
UID:10000489-1649586600-1649586600@newcov.org
SUMMARY:Student Ministries Sunday Zoom - Elementary Students
DESCRIPTION:The Student Ministries Team provides ministry to elementary students via Zoom each Sunday beginning at 10:30 am. Students should complete a one-time registration to receive the Zoom link. Click LINK to register.
URL:https://newcov.org/event/student-ministries-sunday-zoom-elementary-students/2022-04-10/
LOCATION:Zoom
ATTACH;FMTTYPE=image/png:https://newcov.org/wp-content/uploads/2021/07/Student-Ministries-Event-ELE.png
END:VEVENT
BEGIN:VEVENT
DTSTART;TZID=UTC:20220410T103000
DTEND;TZID=UTC:20220410T103000
DTSTAMP:20260422T142735
CREATED:20211105T211017Z
LAST-MODIFIED:20220515T061221Z
UID:10000490-1649586600-1649586600@newcov.org
SUMMARY:Student Ministries Sunday Zoom - Elementary Students
DESCRIPTION:The Student Ministries Team provides ministry to elementary students via Zoom each Sunday beginning at 10:30 am. Students should complete a one-time registration to receive the Zoom link. Click LINK to register.
URL:https://newcov.org/event/student-ministries-sunday-zoom-elementary-students-2022-04-10/2022-04-10/
LOCATION:Zoom
ATTACH;FMTTYPE=image/png:https://newcov.org/wp-content/uploads/2021/07/Student-Ministries-Event-ELE.png
END:VEVENT
BEGIN:VEVENT
DTSTART;TZID=UTC:20220410T103000
DTEND;TZID=UTC:20220410T103000
DTSTAMP:20260422T142735
CREATED:20211105T030604Z
LAST-MODIFIED:20220106T042357Z
UID:10000450-1649586600-1649586600@newcov.org
SUMMARY:Student Ministries Sunday Zoom - High School Students
DESCRIPTION:The Student Ministries Team provides ministry to high school students via Zoom each Sunday beginning at 10:30 am. Students should complete a one-time registration to receive the Zoom link. Click LINK to register.
URL:https://newcov.org/event/student-ministries-sunday-zoom-high-school-students/2022-04-10/
LOCATION:Zoom
ATTACH;FMTTYPE=image/png:https://newcov.org/wp-content/uploads/2021/11/Student-Ministries-Event-HS.png
END:VEVENT
BEGIN:VEVENT
DTSTART;TZID=UTC:20220410T103000
DTEND;TZID=UTC:20220410T103000
DTSTAMP:20260422T142735
CREATED:20211105T024336Z
LAST-MODIFIED:20220106T042801Z
UID:10000810-1649586600-1649586600@newcov.org
SUMMARY:Student Ministries Sunday Zoom - Middle School Students
DESCRIPTION:The Student Ministries Team provides ministry to middle school students via Zoom each Sunday beginning at 10:30 am. Students should complete a one-time registration to receive the Zoom link. Click LINK to register.
URL:https://newcov.org/event/student-ministries-sunday-zoom-middle-school-students/2022-04-10/
LOCATION:Zoom
ATTACH;FMTTYPE=image/png:https://newcov.org/wp-content/uploads/2021/11/Student-Ministries-Event-MS.png
END:VEVENT
BEGIN:VEVENT
DTSTART;TZID=UTC:20220403T103000
DTEND;TZID=UTC:20220403T103000
DTSTAMP:20260422T142735
CREATED:20211105T211017Z
LAST-MODIFIED:20220106T041821Z
UID:10000488-1648981800-1648981800@newcov.org
SUMMARY:Student Ministries Sunday Zoom - Elementary Students
DESCRIPTION:The Student Ministries Team provides ministry to elementary students via Zoom each Sunday beginning at 10:30 am. Students should complete a one-time registration to receive the Zoom link. Click LINK to register.
URL:https://newcov.org/event/student-ministries-sunday-zoom-elementary-students/2022-04-03/
LOCATION:Zoom
ATTACH;FMTTYPE=image/png:https://newcov.org/wp-content/uploads/2021/07/Student-Ministries-Event-ELE.png
END:VEVENT
BEGIN:VEVENT
DTSTART;TZID=UTC:20220403T103000
DTEND;TZID=UTC:20220403T103000
DTSTAMP:20260422T142735
CREATED:20211105T030604Z
LAST-MODIFIED:20220106T042357Z
UID:10000449-1648981800-1648981800@newcov.org
SUMMARY:Student Ministries Sunday Zoom - High School Students
DESCRIPTION:The Student Ministries Team provides ministry to high school students via Zoom each Sunday beginning at 10:30 am. Students should complete a one-time registration to receive the Zoom link. Click LINK to register.
URL:https://newcov.org/event/student-ministries-sunday-zoom-high-school-students/2022-04-03/
LOCATION:Zoom
ATTACH;FMTTYPE=image/png:https://newcov.org/wp-content/uploads/2021/11/Student-Ministries-Event-HS.png
END:VEVENT
BEGIN:VEVENT
DTSTART;TZID=UTC:20220403T103000
DTEND;TZID=UTC:20220403T103000
DTSTAMP:20260422T142735
CREATED:20211105T024336Z
LAST-MODIFIED:20220106T042801Z
UID:10000809-1648981800-1648981800@newcov.org
SUMMARY:Student Ministries Sunday Zoom - Middle School Students
DESCRIPTION:The Student Ministries Team provides ministry to middle school students via Zoom each Sunday beginning at 10:30 am. Students should complete a one-time registration to receive the Zoom link. Click LINK to register.
URL:https://newcov.org/event/student-ministries-sunday-zoom-middle-school-students/2022-04-03/
LOCATION:Zoom
ATTACH;FMTTYPE=image/png:https://newcov.org/wp-content/uploads/2021/11/Student-Ministries-Event-MS.png
END:VEVENT
BEGIN:VEVENT
DTSTART;TZID=UTC:20220327T103000
DTEND;TZID=UTC:20220327T103000
DTSTAMP:20260422T142735
CREATED:20211105T211017Z
LAST-MODIFIED:20220106T041821Z
UID:10000487-1648377000-1648377000@newcov.org
SUMMARY:Student Ministries Sunday Zoom - Elementary Students
DESCRIPTION:The Student Ministries Team provides ministry to elementary students via Zoom each Sunday beginning at 10:30 am. Students should complete a one-time registration to receive the Zoom link. Click LINK to register.
URL:https://newcov.org/event/student-ministries-sunday-zoom-elementary-students/2022-03-27/
LOCATION:Zoom
ATTACH;FMTTYPE=image/png:https://newcov.org/wp-content/uploads/2021/07/Student-Ministries-Event-ELE.png
END:VEVENT
BEGIN:VEVENT
DTSTART;TZID=UTC:20220327T103000
DTEND;TZID=UTC:20220327T103000
DTSTAMP:20260422T142735
CREATED:20211105T030604Z
LAST-MODIFIED:20220106T042357Z
UID:10000448-1648377000-1648377000@newcov.org
SUMMARY:Student Ministries Sunday Zoom - High School Students
DESCRIPTION:The Student Ministries Team provides ministry to high school students via Zoom each Sunday beginning at 10:30 am. Students should complete a one-time registration to receive the Zoom link. Click LINK to register.
URL:https://newcov.org/event/student-ministries-sunday-zoom-high-school-students/2022-03-27/
LOCATION:Zoom
ATTACH;FMTTYPE=image/png:https://newcov.org/wp-content/uploads/2021/11/Student-Ministries-Event-HS.png
END:VEVENT
BEGIN:VEVENT
DTSTART;TZID=UTC:20220327T103000
DTEND;TZID=UTC:20220327T103000
DTSTAMP:20260422T142735
CREATED:20211105T024336Z
LAST-MODIFIED:20220106T042801Z
UID:10000808-1648377000-1648377000@newcov.org
SUMMARY:Student Ministries Sunday Zoom - Middle School Students
DESCRIPTION:The Student Ministries Team provides ministry to middle school students via Zoom each Sunday beginning at 10:30 am. Students should complete a one-time registration to receive the Zoom link. Click LINK to register.
URL:https://newcov.org/event/student-ministries-sunday-zoom-middle-school-students/2022-03-27/
LOCATION:Zoom
ATTACH;FMTTYPE=image/png:https://newcov.org/wp-content/uploads/2021/11/Student-Ministries-Event-MS.png
END:VEVENT
BEGIN:VEVENT
DTSTART;TZID=UTC:20220320T103000
DTEND;TZID=UTC:20220320T103000
DTSTAMP:20260422T142735
CREATED:20211105T211017Z
LAST-MODIFIED:20220106T041821Z
UID:10000486-1647772200-1647772200@newcov.org
SUMMARY:Student Ministries Sunday Zoom - Elementary Students
DESCRIPTION:The Student Ministries Team provides ministry to elementary students via Zoom each Sunday beginning at 10:30 am. Students should complete a one-time registration to receive the Zoom link. Click LINK to register.
URL:https://newcov.org/event/student-ministries-sunday-zoom-elementary-students/2022-03-20/
LOCATION:Zoom
ATTACH;FMTTYPE=image/png:https://newcov.org/wp-content/uploads/2021/07/Student-Ministries-Event-ELE.png
END:VEVENT
BEGIN:VEVENT
DTSTART;TZID=UTC:20220320T103000
DTEND;TZID=UTC:20220320T103000
DTSTAMP:20260422T142735
CREATED:20211105T030604Z
LAST-MODIFIED:20220106T042357Z
UID:10000447-1647772200-1647772200@newcov.org
SUMMARY:Student Ministries Sunday Zoom - High School Students
DESCRIPTION:The Student Ministries Team provides ministry to high school students via Zoom each Sunday beginning at 10:30 am. Students should complete a one-time registration to receive the Zoom link. Click LINK to register.
URL:https://newcov.org/event/student-ministries-sunday-zoom-high-school-students/2022-03-20/
LOCATION:Zoom
ATTACH;FMTTYPE=image/png:https://newcov.org/wp-content/uploads/2021/11/Student-Ministries-Event-HS.png
END:VEVENT
BEGIN:VEVENT
DTSTART;TZID=UTC:20220320T103000
DTEND;TZID=UTC:20220320T103000
DTSTAMP:20260422T142735
CREATED:20211105T024336Z
LAST-MODIFIED:20220106T042801Z
UID:10000807-1647772200-1647772200@newcov.org
SUMMARY:Student Ministries Sunday Zoom - Middle School Students
DESCRIPTION:The Student Ministries Team provides ministry to middle school students via Zoom each Sunday beginning at 10:30 am. Students should complete a one-time registration to receive the Zoom link. Click LINK to register.
URL:https://newcov.org/event/student-ministries-sunday-zoom-middle-school-students/2022-03-20/
LOCATION:Zoom
ATTACH;FMTTYPE=image/png:https://newcov.org/wp-content/uploads/2021/11/Student-Ministries-Event-MS.png
END:VEVENT
BEGIN:VEVENT
DTSTART;TZID=UTC:20220313T103000
DTEND;TZID=UTC:20220313T103000
DTSTAMP:20260422T142735
CREATED:20211105T211017Z
LAST-MODIFIED:20220106T041821Z
UID:10000485-1647167400-1647167400@newcov.org
SUMMARY:Student Ministries Sunday Zoom - Elementary Students
DESCRIPTION:The Student Ministries Team provides ministry to elementary students via Zoom each Sunday beginning at 10:30 am. Students should complete a one-time registration to receive the Zoom link. Click LINK to register.
URL:https://newcov.org/event/student-ministries-sunday-zoom-elementary-students/2022-03-13/
LOCATION:Zoom
ATTACH;FMTTYPE=image/png:https://newcov.org/wp-content/uploads/2021/07/Student-Ministries-Event-ELE.png
END:VEVENT
BEGIN:VEVENT
DTSTART;TZID=UTC:20220313T103000
DTEND;TZID=UTC:20220313T103000
DTSTAMP:20260422T142735
CREATED:20211105T030604Z
LAST-MODIFIED:20220106T042357Z
UID:10000446-1647167400-1647167400@newcov.org
SUMMARY:Student Ministries Sunday Zoom - High School Students
DESCRIPTION:The Student Ministries Team provides ministry to high school students via Zoom each Sunday beginning at 10:30 am. Students should complete a one-time registration to receive the Zoom link. Click LINK to register.
URL:https://newcov.org/event/student-ministries-sunday-zoom-high-school-students/2022-03-13/
LOCATION:Zoom
ATTACH;FMTTYPE=image/png:https://newcov.org/wp-content/uploads/2021/11/Student-Ministries-Event-HS.png
END:VEVENT
BEGIN:VEVENT
DTSTART;TZID=UTC:20220313T103000
DTEND;TZID=UTC:20220313T103000
DTSTAMP:20260422T142735
CREATED:20211105T024336Z
LAST-MODIFIED:20220106T042801Z
UID:10000806-1647167400-1647167400@newcov.org
SUMMARY:Student Ministries Sunday Zoom - Middle School Students
DESCRIPTION:The Student Ministries Team provides ministry to middle school students via Zoom each Sunday beginning at 10:30 am. Students should complete a one-time registration to receive the Zoom link. Click LINK to register.
URL:https://newcov.org/event/student-ministries-sunday-zoom-middle-school-students/2022-03-13/
LOCATION:Zoom
ATTACH;FMTTYPE=image/png:https://newcov.org/wp-content/uploads/2021/11/Student-Ministries-Event-MS.png
END:VEVENT
BEGIN:VEVENT
DTSTART;TZID=UTC:20220313T100000
DTEND;TZID=UTC:20220313T100000
DTSTAMP:20260422T142735
CREATED:20211204T032355Z
LAST-MODIFIED:20220227T054537Z
UID:10000509-1647165600-1647165600@newcov.org
SUMMARY:Baby Dedication
DESCRIPTION:Baby Dedication will take place on Sunday\, March 13th during the 10:00 a.m. service at the Lithonia Campus. The dedication process will be modified to incorporate the current sanctuary safety protocol. After you register your child for dedication\, the coordinator will provide you with additional instructions and information. Register HERE no later than Wednesday\, March 9th.
URL:https://newcov.org/event/baby-dedication/
LOCATION:New Covenant Christian Ministries – East & West\, 1760 Phillips Road\, Lithonia\, GA\, 30058\, United States
ATTACH;FMTTYPE=image/png:https://newcov.org/wp-content/uploads/2021/12/Baby-Dedication-Event-image-1.png
END:VEVENT
BEGIN:VEVENT
DTSTART;TZID=UTC:20220306T103000
DTEND;TZID=UTC:20220306T103000
DTSTAMP:20260422T142735
CREATED:20211105T211017Z
LAST-MODIFIED:20220106T041821Z
UID:10000484-1646562600-1646562600@newcov.org
SUMMARY:Student Ministries Sunday Zoom - Elementary Students
DESCRIPTION:The Student Ministries Team provides ministry to elementary students via Zoom each Sunday beginning at 10:30 am. Students should complete a one-time registration to receive the Zoom link. Click LINK to register.
URL:https://newcov.org/event/student-ministries-sunday-zoom-elementary-students/2022-03-06/
LOCATION:Zoom
ATTACH;FMTTYPE=image/png:https://newcov.org/wp-content/uploads/2021/07/Student-Ministries-Event-ELE.png
END:VEVENT
BEGIN:VEVENT
DTSTART;TZID=UTC:20220306T103000
DTEND;TZID=UTC:20220306T103000
DTSTAMP:20260422T142735
CREATED:20211105T030604Z
LAST-MODIFIED:20220106T042357Z
UID:10000445-1646562600-1646562600@newcov.org
SUMMARY:Student Ministries Sunday Zoom - High School Students
DESCRIPTION:The Student Ministries Team provides ministry to high school students via Zoom each Sunday beginning at 10:30 am. Students should complete a one-time registration to receive the Zoom link. Click LINK to register.
URL:https://newcov.org/event/student-ministries-sunday-zoom-high-school-students/2022-03-06/
LOCATION:Zoom
ATTACH;FMTTYPE=image/png:https://newcov.org/wp-content/uploads/2021/11/Student-Ministries-Event-HS.png
END:VEVENT
BEGIN:VEVENT
DTSTART;TZID=UTC:20220306T103000
DTEND;TZID=UTC:20220306T103000
DTSTAMP:20260422T142735
CREATED:20211105T024336Z
LAST-MODIFIED:20220106T042801Z
UID:10000805-1646562600-1646562600@newcov.org
SUMMARY:Student Ministries Sunday Zoom - Middle School Students
DESCRIPTION:The Student Ministries Team provides ministry to middle school students via Zoom each Sunday beginning at 10:30 am. Students should complete a one-time registration to receive the Zoom link. Click LINK to register.
URL:https://newcov.org/event/student-ministries-sunday-zoom-middle-school-students/2022-03-06/
LOCATION:Zoom
ATTACH;FMTTYPE=image/png:https://newcov.org/wp-content/uploads/2021/11/Student-Ministries-Event-MS.png
END:VEVENT
BEGIN:VEVENT
DTSTART;TZID=UTC:20220227T123000
DTEND;TZID=UTC:20220227T123000
DTSTAMP:20260422T142735
CREATED:20220205T053955Z
LAST-MODIFIED:20220205T053955Z
UID:10000831-1645965000-1645965000@newcov.org
SUMMARY:Journey for a Lifetime – Session 1
DESCRIPTION:The “Journey for a Lifetime” classes for engaged and married couples will be held virtually beginning Sunday\, February 27th at 12:30 p.m. EST. These seven sessions will lay a foundation for marriage and are mandatory for any engaged couple who desires to be married by the leadership of New Covenant Christian Ministries. Deadline to register is March 12th. \nInterested couples should complete the required registration here. Questions can be directed to Elders Walter or Theresa Gilstrap at 770-484-9300 ext. 3301 or couplesministry@newcov.org.
URL:https://newcov.org/event/journey-for-a-lifetime-session-1/2022-02-27/
LOCATION:Zoom
ATTACH;FMTTYPE=image/png:https://newcov.org/wp-content/uploads/2021/08/holding-hands.png
END:VEVENT
BEGIN:VEVENT
DTSTART;TZID=UTC:20220227T103000
DTEND;TZID=UTC:20220227T103000
DTSTAMP:20260422T142735
CREATED:20211105T211017Z
LAST-MODIFIED:20220106T041821Z
UID:10000483-1645957800-1645957800@newcov.org
SUMMARY:Student Ministries Sunday Zoom - Elementary Students
DESCRIPTION:The Student Ministries Team provides ministry to elementary students via Zoom each Sunday beginning at 10:30 am. Students should complete a one-time registration to receive the Zoom link. Click LINK to register.
URL:https://newcov.org/event/student-ministries-sunday-zoom-elementary-students/2022-02-27/
LOCATION:Zoom
ATTACH;FMTTYPE=image/png:https://newcov.org/wp-content/uploads/2021/07/Student-Ministries-Event-ELE.png
END:VEVENT
END:VCALENDAR