BEGIN:VCALENDAR
VERSION:2.0
PRODID:-//New Covenant Christian Ministries - ECPv6.15.20//NONSGML v1.0//EN
CALSCALE:GREGORIAN
METHOD:PUBLISH
X-ORIGINAL-URL:https://newcov.org
X-WR-CALDESC:Events for New Covenant Christian Ministries
REFRESH-INTERVAL;VALUE=DURATION:PT1H
X-Robots-Tag:noindex
X-PUBLISHED-TTL:PT1H
BEGIN:VTIMEZONE
TZID:UTC
BEGIN:STANDARD
TZOFFSETFROM:+0000
TZOFFSETTO:+0000
TZNAME:UTC
DTSTART:20210101T000000
END:STANDARD
END:VTIMEZONE
BEGIN:VEVENT
DTSTART;VALUE=DATE:20221002
DTEND;VALUE=DATE:20221003
DTSTAMP:20260419T223456
CREATED:20210806T220612Z
LAST-MODIFIED:20220501T052741Z
UID:10000748-1664668800-1664755199@newcov.org
SUMMARY:Communion Sunday
DESCRIPTION:Join Pastor Bill and Dr. D’Ann for communion during the 8AM and 11AM worship services. Online worshippers should be prepared with their choice of bread and juice to represent the elements.
URL:https://newcov.org/event/communion-sunday-2021-12-05/2022-10-02/
LOCATION:New Covenant Christian Ministries – East & West\, 1760 Phillips Road\, Lithonia\, GA\, 30058\, United States
ATTACH;FMTTYPE=image/jpeg:https://newcov.org/wp-content/uploads/2021/08/communion-bread-wine.jpg
END:VEVENT
BEGIN:VEVENT
DTSTART;TZID=UTC:20220928T191500
DTEND;TZID=UTC:20220928T191500
DTSTAMP:20260419T223456
CREATED:20220828T050440Z
LAST-MODIFIED:20220925T192516Z
UID:10000843-1664392500-1664392500@newcov.org
SUMMARY:Corporate Bible Study
DESCRIPTION:Plan to join us online each Wednesday in the month of September for Building a Fruitful Life\, a study of 2 Peter 1:1-11. Each week will address qualities that are necessary for the life of every believer in Jesus Christ.  Bishop La Fayette Scales will join us for the conclusion of the series\, so don’t miss this opportunity to be strengthened in the Word.  \nConnect with us on www.newcov.org\, Facebook Live\, YouTube\, or Zoom.\nZoom Video – Click HERE\nMeeting ID: 853 6170 3697\nPasscode: 831970 \nZoom Audio – 929 205 6099\nMeeting ID: 853 6170 3697\nPasscode: 831970
URL:https://newcov.org/event/corporate-bible-study-11-2022-09-28/
LOCATION:Facebook Live\, YouTube\, and Zoom
ATTACH;FMTTYPE=image/jpeg:https://newcov.org/wp-content/uploads/2022/01/bible-study.jpg
END:VEVENT
BEGIN:VEVENT
DTSTART;TZID=UTC:20220925T110000
DTEND;TZID=UTC:20220925T110000
DTSTAMP:20260419T223456
CREATED:20220923T001713Z
LAST-MODIFIED:20220923T001713Z
UID:10000844-1664103600-1664103600@newcov.org
SUMMARY:ManK.A.V.E. Commissioning Service
DESCRIPTION:Join us on September 25th during the 11 a.m. service as we applaud\, celebrate\, and commission men who have successfully completed three years of the Majoring in Men Curriculum. This program consists of reading nine books\, completing accompanying workbooks\, and submitting essays and exams. Congratulations kingdom authorized and vision equipped men!
URL:https://newcov.org/event/mank-a-v-e-commissioning-service/
LOCATION:New Covenant Christian Ministries – West\, 1760 Phillips Road\, Lithonia\, GA\, 30058\, United States
ATTACH;FMTTYPE=image/jpeg:https://newcov.org/wp-content/uploads/2022/09/man-KAVE.jpg
END:VEVENT
BEGIN:VEVENT
DTSTART;TZID=UTC:20220921T191500
DTEND;TZID=UTC:20220921T191500
DTSTAMP:20260419T223456
CREATED:20220828T050440Z
LAST-MODIFIED:20220925T192634Z
UID:10000842-1663787700-1663787700@newcov.org
SUMMARY:Corporate Bible Study
DESCRIPTION:Plan to join us online each Wednesday in the month of September for Building a Fruitful Life\, a study of 2 Peter 1:1-11. Each week will address qualities that are necessary for the life of every believer in Jesus Christ.  Bishop La Fayette Scales will join us for the conclusion of the series\, so don’t miss this opportunity to be strengthened in the Word.  \nConnect with us on www.newcov.org\, Facebook Live\, YouTube\, or Zoom.\nZoom Video – Click HERE\nMeeting ID: 853 6170 3697\nPasscode: 831970 \nZoom Audio – 929 205 6099\nMeeting ID: 853 6170 3697\nPasscode: 831970
URL:https://newcov.org/event/corporate-bible-study-11/2022-09-21/
LOCATION:Facebook Live\, YouTube\, and Zoom
ATTACH;FMTTYPE=image/jpeg:https://newcov.org/wp-content/uploads/2022/01/bible-study.jpg
END:VEVENT
BEGIN:VEVENT
DTSTART;TZID=UTC:20220914T191500
DTEND;TZID=UTC:20220914T191500
DTSTAMP:20260419T223456
CREATED:20220828T050440Z
LAST-MODIFIED:20220925T192634Z
UID:10000841-1663182900-1663182900@newcov.org
SUMMARY:Corporate Bible Study
DESCRIPTION:Plan to join us online each Wednesday in the month of September for Building a Fruitful Life\, a study of 2 Peter 1:1-11. Each week will address qualities that are necessary for the life of every believer in Jesus Christ.  Bishop La Fayette Scales will join us for the conclusion of the series\, so don’t miss this opportunity to be strengthened in the Word.  \nConnect with us on www.newcov.org\, Facebook Live\, YouTube\, or Zoom.\nZoom Video – Click HERE\nMeeting ID: 853 6170 3697\nPasscode: 831970 \nZoom Audio – 929 205 6099\nMeeting ID: 853 6170 3697\nPasscode: 831970
URL:https://newcov.org/event/corporate-bible-study-11/2022-09-14/
LOCATION:Facebook Live\, YouTube\, and Zoom
ATTACH;FMTTYPE=image/jpeg:https://newcov.org/wp-content/uploads/2022/01/bible-study.jpg
END:VEVENT
BEGIN:VEVENT
DTSTART;TZID=UTC:20220911T110000
DTEND;TZID=UTC:20220911T110000
DTSTAMP:20260419T223456
CREATED:20220828T044526Z
LAST-MODIFIED:20220828T044526Z
UID:10000533-1662894000-1662894000@newcov.org
SUMMARY:Baby Dedication
DESCRIPTION:Baby Dedication will take place on Sunday\, September 11th during the 11:00 a.m. worship service at the Lithonia Campus. Interested families should register HERE no later than Wednesday\, September 7th\, and can expect to receive additional instructions and information from the coordinator after registration closes. Questions can be directed to admin@newcov.org.
URL:https://newcov.org/event/baby-dedication-3/
LOCATION:New Covenant Christian Ministries – West\, 1760 Phillips Road\, Lithonia\, GA\, 30058\, United States
ATTACH;FMTTYPE=image/png:https://newcov.org/wp-content/uploads/2021/12/Baby-Dedication-Event-image-1.png
END:VEVENT
BEGIN:VEVENT
DTSTART;TZID=UTC:20220907T191500
DTEND;TZID=UTC:20220907T191500
DTSTAMP:20260419T223456
CREATED:20220828T050440Z
LAST-MODIFIED:20220925T192634Z
UID:10000840-1662578100-1662578100@newcov.org
SUMMARY:Corporate Bible Study
DESCRIPTION:Plan to join us online each Wednesday in the month of September for Building a Fruitful Life\, a study of 2 Peter 1:1-11. Each week will address qualities that are necessary for the life of every believer in Jesus Christ.  Bishop La Fayette Scales will join us for the conclusion of the series\, so don’t miss this opportunity to be strengthened in the Word.  \nConnect with us on www.newcov.org\, Facebook Live\, YouTube\, or Zoom.\nZoom Video – Click HERE\nMeeting ID: 853 6170 3697\nPasscode: 831970 \nZoom Audio – 929 205 6099\nMeeting ID: 853 6170 3697\nPasscode: 831970
URL:https://newcov.org/event/corporate-bible-study-11/2022-09-07/
LOCATION:Facebook Live\, YouTube\, and Zoom
ATTACH;FMTTYPE=image/jpeg:https://newcov.org/wp-content/uploads/2022/01/bible-study.jpg
END:VEVENT
BEGIN:VEVENT
DTSTART;VALUE=DATE:20220904
DTEND;VALUE=DATE:20220905
DTSTAMP:20260419T223456
CREATED:20210806T220612Z
LAST-MODIFIED:20220501T052741Z
UID:10000747-1662249600-1662335999@newcov.org
SUMMARY:Communion Sunday
DESCRIPTION:Join Pastor Bill and Dr. D’Ann for communion during the 8AM and 11AM worship services. Online worshippers should be prepared with their choice of bread and juice to represent the elements.
URL:https://newcov.org/event/communion-sunday-2021-12-05/2022-09-04/
LOCATION:New Covenant Christian Ministries – East & West\, 1760 Phillips Road\, Lithonia\, GA\, 30058\, United States
ATTACH;FMTTYPE=image/jpeg:https://newcov.org/wp-content/uploads/2021/08/communion-bread-wine.jpg
END:VEVENT
BEGIN:VEVENT
DTSTART;VALUE=DATE:20220807
DTEND;VALUE=DATE:20220808
DTSTAMP:20260419T223456
CREATED:20210806T220612Z
LAST-MODIFIED:20220501T052741Z
UID:10000746-1659830400-1659916799@newcov.org
SUMMARY:Communion Sunday
DESCRIPTION:Join Pastor Bill and Dr. D’Ann for communion during the 8AM and 11AM worship services. Online worshippers should be prepared with their choice of bread and juice to represent the elements.
URL:https://newcov.org/event/communion-sunday-2021-12-05/2022-08-07/
LOCATION:New Covenant Christian Ministries – East & West\, 1760 Phillips Road\, Lithonia\, GA\, 30058\, United States
ATTACH;FMTTYPE=image/jpeg:https://newcov.org/wp-content/uploads/2021/08/communion-bread-wine.jpg
END:VEVENT
BEGIN:VEVENT
DTSTART;TZID=UTC:20220724T110000
DTEND;TZID=UTC:20220724T110000
DTSTAMP:20260419T223456
CREATED:20211105T211017Z
LAST-MODIFIED:20220601T032815Z
UID:10000506-1658660400-1658660400@newcov.org
SUMMARY:Student Ministries Sunday Zoom - Elementary Students
DESCRIPTION:The Student Ministries Team provides ministry to elementary students via Zoom each Sunday beginning at 11:00 am. Students should complete a one-time registration to receive the Zoom link. Click LINK to register.
URL:https://newcov.org/event/student-ministries-sunday-zoom-elementary-students-2022-06-05/2022-07-24/
LOCATION:Zoom
ATTACH;FMTTYPE=image/png:https://newcov.org/wp-content/uploads/2021/07/Student-Ministries-Event-ELE.png
END:VEVENT
BEGIN:VEVENT
DTSTART;TZID=UTC:20220724T110000
DTEND;TZID=UTC:20220724T110000
DTSTAMP:20260419T223456
CREATED:20211105T211017Z
LAST-MODIFIED:20220729T014645Z
UID:10000507-1658660400-1658660400@newcov.org
SUMMARY:Student Ministries Sunday Zoom - Elementary Students
DESCRIPTION:The Student Ministries Team provides ministry to elementary students via Zoom each Sunday beginning at 11:00 am. Students should complete a one-time registration to receive the Zoom link. Click LINK to register.
URL:https://newcov.org/event/student-ministries-sunday-zoom-elementary-students-2022-06-05-2022-07-24/2022-07-24/
LOCATION:Zoom
ATTACH;FMTTYPE=image/png:https://newcov.org/wp-content/uploads/2021/07/Student-Ministries-Event-ELE.png
END:VEVENT
BEGIN:VEVENT
DTSTART;TZID=UTC:20220724T103000
DTEND;TZID=UTC:20220724T103000
DTSTAMP:20260419T223456
CREATED:20211105T030604Z
LAST-MODIFIED:20220106T042357Z
UID:10000465-1658658600-1658658600@newcov.org
SUMMARY:Student Ministries Sunday Zoom - High School Students
DESCRIPTION:The Student Ministries Team provides ministry to high school students via Zoom each Sunday beginning at 10:30 am. Students should complete a one-time registration to receive the Zoom link. Click LINK to register.
URL:https://newcov.org/event/student-ministries-sunday-zoom-high-school-students/2022-07-24/
LOCATION:Zoom
ATTACH;FMTTYPE=image/png:https://newcov.org/wp-content/uploads/2021/11/Student-Ministries-Event-HS.png
END:VEVENT
BEGIN:VEVENT
DTSTART;TZID=UTC:20220724T103000
DTEND;TZID=UTC:20220724T103000
DTSTAMP:20260419T223456
CREATED:20211105T030604Z
LAST-MODIFIED:20220729T014432Z
UID:10000466-1658658600-1658658600@newcov.org
SUMMARY:Student Ministries Sunday Zoom - High School Students
DESCRIPTION:The Student Ministries Team provides ministry to high school students via Zoom each Sunday beginning at 10:30 am. Students should complete a one-time registration to receive the Zoom link. Click LINK to register.
URL:https://newcov.org/event/student-ministries-sunday-zoom-high-school-students-2022-07-24/2022-07-24/
LOCATION:Zoom
ATTACH;FMTTYPE=image/png:https://newcov.org/wp-content/uploads/2021/11/Student-Ministries-Event-HS.png
END:VEVENT
BEGIN:VEVENT
DTSTART;TZID=UTC:20220724T103000
DTEND;TZID=UTC:20220724T103000
DTSTAMP:20260419T223456
CREATED:20211105T024336Z
LAST-MODIFIED:20220729T014248Z
UID:10000826-1658658600-1658658600@newcov.org
SUMMARY:Student Ministries Sunday Zoom - Middle School Students
DESCRIPTION:The Student Ministries Team provides ministry to middle school students via Zoom each Sunday beginning at 10:30 am. Students should complete a one-time registration to receive the Zoom link. Click LINK to register.
URL:https://newcov.org/event/student-ministries-sunday-zoom-middle-school-students-2022-06-26/2022-07-24/
LOCATION:Zoom
ATTACH;FMTTYPE=image/png:https://newcov.org/wp-content/uploads/2021/11/Student-Ministries-Event-MS.png
END:VEVENT
BEGIN:VEVENT
DTSTART;TZID=UTC:20220724T103000
DTEND;TZID=UTC:20220724T103000
DTSTAMP:20260419T223456
CREATED:20211105T024336Z
LAST-MODIFIED:20220729T014121Z
UID:10000427-1658658600-1658658600@newcov.org
SUMMARY:Student Ministries Sunday Zoom - Middle School Students
DESCRIPTION:The Student Ministries Team provides ministry to middle school students via Zoom each Sunday beginning at 10:30 am. Students should complete a one-time registration to receive the Zoom link. Click LINK to register.
URL:https://newcov.org/event/student-ministries-sunday-zoom-middle-school-students-2022-07-24/2022-07-24/
LOCATION:Zoom
ATTACH;FMTTYPE=image/png:https://newcov.org/wp-content/uploads/2021/11/Student-Ministries-Event-MS.png
END:VEVENT
BEGIN:VEVENT
DTSTART;TZID=UTC:20220717T110000
DTEND;TZID=UTC:20220717T110000
DTSTAMP:20260419T223456
CREATED:20211105T211017Z
LAST-MODIFIED:20220601T032815Z
UID:10000505-1658055600-1658055600@newcov.org
SUMMARY:Student Ministries Sunday Zoom - Elementary Students
DESCRIPTION:The Student Ministries Team provides ministry to elementary students via Zoom each Sunday beginning at 11:00 am. Students should complete a one-time registration to receive the Zoom link. Click LINK to register.
URL:https://newcov.org/event/student-ministries-sunday-zoom-elementary-students-2022-06-05/2022-07-17/
LOCATION:Zoom
ATTACH;FMTTYPE=image/png:https://newcov.org/wp-content/uploads/2021/07/Student-Ministries-Event-ELE.png
END:VEVENT
BEGIN:VEVENT
DTSTART;TZID=UTC:20220717T103000
DTEND;TZID=UTC:20220717T103000
DTSTAMP:20260419T223456
CREATED:20211105T030604Z
LAST-MODIFIED:20220106T042357Z
UID:10000464-1658053800-1658053800@newcov.org
SUMMARY:Student Ministries Sunday Zoom - High School Students
DESCRIPTION:The Student Ministries Team provides ministry to high school students via Zoom each Sunday beginning at 10:30 am. Students should complete a one-time registration to receive the Zoom link. Click LINK to register.
URL:https://newcov.org/event/student-ministries-sunday-zoom-high-school-students/2022-07-17/
LOCATION:Zoom
ATTACH;FMTTYPE=image/png:https://newcov.org/wp-content/uploads/2021/11/Student-Ministries-Event-HS.png
END:VEVENT
BEGIN:VEVENT
DTSTART;TZID=UTC:20220717T103000
DTEND;TZID=UTC:20220717T103000
DTSTAMP:20260419T223456
CREATED:20211105T024336Z
LAST-MODIFIED:20220729T014248Z
UID:10000825-1658053800-1658053800@newcov.org
SUMMARY:Student Ministries Sunday Zoom - Middle School Students
DESCRIPTION:The Student Ministries Team provides ministry to middle school students via Zoom each Sunday beginning at 10:30 am. Students should complete a one-time registration to receive the Zoom link. Click LINK to register.
URL:https://newcov.org/event/student-ministries-sunday-zoom-middle-school-students-2022-06-26/2022-07-17/
LOCATION:Zoom
ATTACH;FMTTYPE=image/png:https://newcov.org/wp-content/uploads/2021/11/Student-Ministries-Event-MS.png
END:VEVENT
BEGIN:VEVENT
DTSTART;TZID=UTC:20220710T110000
DTEND;TZID=UTC:20220710T110000
DTSTAMP:20260419T223456
CREATED:20211105T211017Z
LAST-MODIFIED:20220601T032815Z
UID:10000504-1657450800-1657450800@newcov.org
SUMMARY:Student Ministries Sunday Zoom - Elementary Students
DESCRIPTION:The Student Ministries Team provides ministry to elementary students via Zoom each Sunday beginning at 11:00 am. Students should complete a one-time registration to receive the Zoom link. Click LINK to register.
URL:https://newcov.org/event/student-ministries-sunday-zoom-elementary-students-2022-06-05/2022-07-10/
LOCATION:Zoom
ATTACH;FMTTYPE=image/png:https://newcov.org/wp-content/uploads/2021/07/Student-Ministries-Event-ELE.png
END:VEVENT
BEGIN:VEVENT
DTSTART;TZID=UTC:20220710T103000
DTEND;TZID=UTC:20220710T103000
DTSTAMP:20260419T223456
CREATED:20211105T030604Z
LAST-MODIFIED:20220106T042357Z
UID:10000463-1657449000-1657449000@newcov.org
SUMMARY:Student Ministries Sunday Zoom - High School Students
DESCRIPTION:The Student Ministries Team provides ministry to high school students via Zoom each Sunday beginning at 10:30 am. Students should complete a one-time registration to receive the Zoom link. Click LINK to register.
URL:https://newcov.org/event/student-ministries-sunday-zoom-high-school-students/2022-07-10/
LOCATION:Zoom
ATTACH;FMTTYPE=image/png:https://newcov.org/wp-content/uploads/2021/11/Student-Ministries-Event-HS.png
END:VEVENT
BEGIN:VEVENT
DTSTART;TZID=UTC:20220710T103000
DTEND;TZID=UTC:20220710T103000
DTSTAMP:20260419T223456
CREATED:20211105T024336Z
LAST-MODIFIED:20220729T014248Z
UID:10000824-1657449000-1657449000@newcov.org
SUMMARY:Student Ministries Sunday Zoom - Middle School Students
DESCRIPTION:The Student Ministries Team provides ministry to middle school students via Zoom each Sunday beginning at 10:30 am. Students should complete a one-time registration to receive the Zoom link. Click LINK to register.
URL:https://newcov.org/event/student-ministries-sunday-zoom-middle-school-students-2022-06-26/2022-07-10/
LOCATION:Zoom
ATTACH;FMTTYPE=image/png:https://newcov.org/wp-content/uploads/2021/11/Student-Ministries-Event-MS.png
END:VEVENT
BEGIN:VEVENT
DTSTART;TZID=UTC:20220703T110000
DTEND;TZID=UTC:20220703T110000
DTSTAMP:20260419T223456
CREATED:20211105T211017Z
LAST-MODIFIED:20220601T032815Z
UID:10000503-1656846000-1656846000@newcov.org
SUMMARY:Student Ministries Sunday Zoom - Elementary Students
DESCRIPTION:The Student Ministries Team provides ministry to elementary students via Zoom each Sunday beginning at 11:00 am. Students should complete a one-time registration to receive the Zoom link. Click LINK to register.
URL:https://newcov.org/event/student-ministries-sunday-zoom-elementary-students-2022-06-05/2022-07-03/
LOCATION:Zoom
ATTACH;FMTTYPE=image/png:https://newcov.org/wp-content/uploads/2021/07/Student-Ministries-Event-ELE.png
END:VEVENT
BEGIN:VEVENT
DTSTART;TZID=UTC:20220703T103000
DTEND;TZID=UTC:20220703T103000
DTSTAMP:20260419T223456
CREATED:20211105T030604Z
LAST-MODIFIED:20220106T042357Z
UID:10000462-1656844200-1656844200@newcov.org
SUMMARY:Student Ministries Sunday Zoom - High School Students
DESCRIPTION:The Student Ministries Team provides ministry to high school students via Zoom each Sunday beginning at 10:30 am. Students should complete a one-time registration to receive the Zoom link. Click LINK to register.
URL:https://newcov.org/event/student-ministries-sunday-zoom-high-school-students/2022-07-03/
LOCATION:Zoom
ATTACH;FMTTYPE=image/png:https://newcov.org/wp-content/uploads/2021/11/Student-Ministries-Event-HS.png
END:VEVENT
BEGIN:VEVENT
DTSTART;TZID=UTC:20220703T103000
DTEND;TZID=UTC:20220703T103000
DTSTAMP:20260419T223456
CREATED:20211105T024336Z
LAST-MODIFIED:20220729T014248Z
UID:10000823-1656844200-1656844200@newcov.org
SUMMARY:Student Ministries Sunday Zoom - Middle School Students
DESCRIPTION:The Student Ministries Team provides ministry to middle school students via Zoom each Sunday beginning at 10:30 am. Students should complete a one-time registration to receive the Zoom link. Click LINK to register.
URL:https://newcov.org/event/student-ministries-sunday-zoom-middle-school-students-2022-06-26/2022-07-03/
LOCATION:Zoom
ATTACH;FMTTYPE=image/png:https://newcov.org/wp-content/uploads/2021/11/Student-Ministries-Event-MS.png
END:VEVENT
BEGIN:VEVENT
DTSTART;VALUE=DATE:20220703
DTEND;VALUE=DATE:20220704
DTSTAMP:20260419T223456
CREATED:20210806T220612Z
LAST-MODIFIED:20220501T052741Z
UID:10000745-1656806400-1656892799@newcov.org
SUMMARY:Communion Sunday
DESCRIPTION:Join Pastor Bill and Dr. D’Ann for communion during the 8AM and 11AM worship services. Online worshippers should be prepared with their choice of bread and juice to represent the elements.
URL:https://newcov.org/event/communion-sunday-2021-12-05/2022-07-03/
LOCATION:New Covenant Christian Ministries – East & West\, 1760 Phillips Road\, Lithonia\, GA\, 30058\, United States
ATTACH;FMTTYPE=image/jpeg:https://newcov.org/wp-content/uploads/2021/08/communion-bread-wine.jpg
END:VEVENT
BEGIN:VEVENT
DTSTART;TZID=UTC:20220626T110000
DTEND;TZID=UTC:20220626T110000
DTSTAMP:20260419T223456
CREATED:20211105T211017Z
LAST-MODIFIED:20220601T032815Z
UID:10000502-1656241200-1656241200@newcov.org
SUMMARY:Student Ministries Sunday Zoom - Elementary Students
DESCRIPTION:The Student Ministries Team provides ministry to elementary students via Zoom each Sunday beginning at 11:00 am. Students should complete a one-time registration to receive the Zoom link. Click LINK to register.
URL:https://newcov.org/event/student-ministries-sunday-zoom-elementary-students-2022-06-05/2022-06-26/
LOCATION:Zoom
ATTACH;FMTTYPE=image/png:https://newcov.org/wp-content/uploads/2021/07/Student-Ministries-Event-ELE.png
END:VEVENT
BEGIN:VEVENT
DTSTART;TZID=UTC:20220626T103000
DTEND;TZID=UTC:20220626T103000
DTSTAMP:20260419T223456
CREATED:20211105T030604Z
LAST-MODIFIED:20220106T042357Z
UID:10000461-1656239400-1656239400@newcov.org
SUMMARY:Student Ministries Sunday Zoom - High School Students
DESCRIPTION:The Student Ministries Team provides ministry to high school students via Zoom each Sunday beginning at 10:30 am. Students should complete a one-time registration to receive the Zoom link. Click LINK to register.
URL:https://newcov.org/event/student-ministries-sunday-zoom-high-school-students/2022-06-26/
LOCATION:Zoom
ATTACH;FMTTYPE=image/png:https://newcov.org/wp-content/uploads/2021/11/Student-Ministries-Event-HS.png
END:VEVENT
BEGIN:VEVENT
DTSTART;TZID=UTC:20220626T103000
DTEND;TZID=UTC:20220626T103000
DTSTAMP:20260419T223456
CREATED:20211105T024336Z
LAST-MODIFIED:20220106T042801Z
UID:10000821-1656239400-1656239400@newcov.org
SUMMARY:Student Ministries Sunday Zoom - Middle School Students
DESCRIPTION:The Student Ministries Team provides ministry to middle school students via Zoom each Sunday beginning at 10:30 am. Students should complete a one-time registration to receive the Zoom link. Click LINK to register.
URL:https://newcov.org/event/student-ministries-sunday-zoom-middle-school-students/2022-06-26/
LOCATION:Zoom
ATTACH;FMTTYPE=image/png:https://newcov.org/wp-content/uploads/2021/11/Student-Ministries-Event-MS.png
END:VEVENT
BEGIN:VEVENT
DTSTART;TZID=UTC:20220626T103000
DTEND;TZID=UTC:20220626T103000
DTSTAMP:20260419T223456
CREATED:20211105T024336Z
LAST-MODIFIED:20220729T014248Z
UID:10000822-1656239400-1656239400@newcov.org
SUMMARY:Student Ministries Sunday Zoom - Middle School Students
DESCRIPTION:The Student Ministries Team provides ministry to middle school students via Zoom each Sunday beginning at 10:30 am. Students should complete a one-time registration to receive the Zoom link. Click LINK to register.
URL:https://newcov.org/event/student-ministries-sunday-zoom-middle-school-students-2022-06-26/2022-06-26/
LOCATION:Zoom
ATTACH;FMTTYPE=image/png:https://newcov.org/wp-content/uploads/2021/11/Student-Ministries-Event-MS.png
END:VEVENT
BEGIN:VEVENT
DTSTART;TZID=UTC:20220619T110000
DTEND;TZID=UTC:20220619T110000
DTSTAMP:20260419T223456
CREATED:20211105T211017Z
LAST-MODIFIED:20220601T032815Z
UID:10000501-1655636400-1655636400@newcov.org
SUMMARY:Student Ministries Sunday Zoom - Elementary Students
DESCRIPTION:The Student Ministries Team provides ministry to elementary students via Zoom each Sunday beginning at 11:00 am. Students should complete a one-time registration to receive the Zoom link. Click LINK to register.
URL:https://newcov.org/event/student-ministries-sunday-zoom-elementary-students-2022-06-05/2022-06-19/
LOCATION:Zoom
ATTACH;FMTTYPE=image/png:https://newcov.org/wp-content/uploads/2021/07/Student-Ministries-Event-ELE.png
END:VEVENT
END:VCALENDAR