BEGIN:VCALENDAR
VERSION:2.0
PRODID:-//New Covenant Christian Ministries - ECPv6.15.20//NONSGML v1.0//EN
CALSCALE:GREGORIAN
METHOD:PUBLISH
X-WR-CALNAME:New Covenant Christian Ministries
X-ORIGINAL-URL:https://newcov.org
X-WR-CALDESC:Events for New Covenant Christian Ministries
REFRESH-INTERVAL;VALUE=DURATION:PT1H
X-Robots-Tag:noindex
X-PUBLISHED-TTL:PT1H
BEGIN:VTIMEZONE
TZID:UTC
BEGIN:STANDARD
TZOFFSETFROM:+0000
TZOFFSETTO:+0000
TZNAME:UTC
DTSTART:20210101T000000
END:STANDARD
END:VTIMEZONE
BEGIN:VEVENT
DTSTART;VALUE=DATE:20230114
DTEND;VALUE=DATE:20230115
DTSTAMP:20260419T203120
CREATED:20230101T070840Z
LAST-MODIFIED:20230109T070623Z
UID:10000552-1673654400-1673740799@newcov.org
SUMMARY:21 Days of Fasting & Prayer
DESCRIPTION:Join us in a time of fasting and prayer beginning Wednesday\, January 4th. In addition to our personal times of prayer each day\, we will come together at 7:00 a.m. each weekday morning from January 4th through the 25th for Corporate Prayer. To join the prayer line\, dial (425) 436-6373 and enter Participant Access Code 859138#.  Click here to download the Prayer Guide. To listen to the most recent prayer call: \n-Dial (425) 436-6309\n-Enter Access Code 859138#\n-In lieu of a reference number\, press the # key again
URL:https://newcov.org/event/21-days-of-fasting-prayer/2023-01-14/
ATTACH;FMTTYPE=image/png:https://newcov.org/wp-content/uploads/2023/01/Prayer-Fasting-2023-Event.png
END:VEVENT
BEGIN:VEVENT
DTSTART;VALUE=DATE:20230113
DTEND;VALUE=DATE:20230114
DTSTAMP:20260419T203120
CREATED:20230101T070840Z
LAST-MODIFIED:20230109T070623Z
UID:10000551-1673568000-1673654399@newcov.org
SUMMARY:21 Days of Fasting & Prayer
DESCRIPTION:Join us in a time of fasting and prayer beginning Wednesday\, January 4th. In addition to our personal times of prayer each day\, we will come together at 7:00 a.m. each weekday morning from January 4th through the 25th for Corporate Prayer. To join the prayer line\, dial (425) 436-6373 and enter Participant Access Code 859138#.  Click here to download the Prayer Guide. To listen to the most recent prayer call: \n-Dial (425) 436-6309\n-Enter Access Code 859138#\n-In lieu of a reference number\, press the # key again
URL:https://newcov.org/event/21-days-of-fasting-prayer/2023-01-13/
ATTACH;FMTTYPE=image/png:https://newcov.org/wp-content/uploads/2023/01/Prayer-Fasting-2023-Event.png
END:VEVENT
BEGIN:VEVENT
DTSTART;VALUE=DATE:20230112
DTEND;VALUE=DATE:20230113
DTSTAMP:20260419T203120
CREATED:20230101T070840Z
LAST-MODIFIED:20230109T070623Z
UID:10000550-1673481600-1673567999@newcov.org
SUMMARY:21 Days of Fasting & Prayer
DESCRIPTION:Join us in a time of fasting and prayer beginning Wednesday\, January 4th. In addition to our personal times of prayer each day\, we will come together at 7:00 a.m. each weekday morning from January 4th through the 25th for Corporate Prayer. To join the prayer line\, dial (425) 436-6373 and enter Participant Access Code 859138#.  Click here to download the Prayer Guide. To listen to the most recent prayer call: \n-Dial (425) 436-6309\n-Enter Access Code 859138#\n-In lieu of a reference number\, press the # key again
URL:https://newcov.org/event/21-days-of-fasting-prayer/2023-01-12/
ATTACH;FMTTYPE=image/png:https://newcov.org/wp-content/uploads/2023/01/Prayer-Fasting-2023-Event.png
END:VEVENT
BEGIN:VEVENT
DTSTART;TZID=UTC:20230111T191500
DTEND;TZID=UTC:20230111T191500
DTSTAMP:20260419T203120
CREATED:20221224T054244Z
LAST-MODIFIED:20221224T054244Z
UID:10000539-1673464500-1673464500@newcov.org
SUMMARY:Bible Study
DESCRIPTION:After almost 3 years\, we’re pleased to announce that we are returning to in-person Bible Study. We’ll meet each Wednesday during the month of January at 7:15 p.m. in Covington and Lithonia and will stream live from the Lithonia Campus on New Covenant’s social platforms. Join us as we become informed and transformed by the Word of God.
URL:https://newcov.org/event/bible-study-2/2023-01-11/
LOCATION:New Covenant Christian Ministries – East & West\, 1760 Phillips Road\, Lithonia\, GA\, 30058\, United States
ATTACH;FMTTYPE=image/jpeg:https://newcov.org/wp-content/uploads/2017/05/Bible-Study.jpg
END:VEVENT
BEGIN:VEVENT
DTSTART;VALUE=DATE:20230111
DTEND;VALUE=DATE:20230112
DTSTAMP:20260419T203120
CREATED:20230101T070840Z
LAST-MODIFIED:20230109T070623Z
UID:10000549-1673395200-1673481599@newcov.org
SUMMARY:21 Days of Fasting & Prayer
DESCRIPTION:Join us in a time of fasting and prayer beginning Wednesday\, January 4th. In addition to our personal times of prayer each day\, we will come together at 7:00 a.m. each weekday morning from January 4th through the 25th for Corporate Prayer. To join the prayer line\, dial (425) 436-6373 and enter Participant Access Code 859138#.  Click here to download the Prayer Guide. To listen to the most recent prayer call: \n-Dial (425) 436-6309\n-Enter Access Code 859138#\n-In lieu of a reference number\, press the # key again
URL:https://newcov.org/event/21-days-of-fasting-prayer/2023-01-11/
ATTACH;FMTTYPE=image/png:https://newcov.org/wp-content/uploads/2023/01/Prayer-Fasting-2023-Event.png
END:VEVENT
BEGIN:VEVENT
DTSTART;VALUE=DATE:20230110
DTEND;VALUE=DATE:20230111
DTSTAMP:20260419T203120
CREATED:20230101T070840Z
LAST-MODIFIED:20230109T070623Z
UID:10000548-1673308800-1673395199@newcov.org
SUMMARY:21 Days of Fasting & Prayer
DESCRIPTION:Join us in a time of fasting and prayer beginning Wednesday\, January 4th. In addition to our personal times of prayer each day\, we will come together at 7:00 a.m. each weekday morning from January 4th through the 25th for Corporate Prayer. To join the prayer line\, dial (425) 436-6373 and enter Participant Access Code 859138#.  Click here to download the Prayer Guide. To listen to the most recent prayer call: \n-Dial (425) 436-6309\n-Enter Access Code 859138#\n-In lieu of a reference number\, press the # key again
URL:https://newcov.org/event/21-days-of-fasting-prayer/2023-01-10/
ATTACH;FMTTYPE=image/png:https://newcov.org/wp-content/uploads/2023/01/Prayer-Fasting-2023-Event.png
END:VEVENT
BEGIN:VEVENT
DTSTART;VALUE=DATE:20230109
DTEND;VALUE=DATE:20230110
DTSTAMP:20260419T203120
CREATED:20230101T070840Z
LAST-MODIFIED:20230109T070623Z
UID:10000547-1673222400-1673308799@newcov.org
SUMMARY:21 Days of Fasting & Prayer
DESCRIPTION:Join us in a time of fasting and prayer beginning Wednesday\, January 4th. In addition to our personal times of prayer each day\, we will come together at 7:00 a.m. each weekday morning from January 4th through the 25th for Corporate Prayer. To join the prayer line\, dial (425) 436-6373 and enter Participant Access Code 859138#.  Click here to download the Prayer Guide. To listen to the most recent prayer call: \n-Dial (425) 436-6309\n-Enter Access Code 859138#\n-In lieu of a reference number\, press the # key again
URL:https://newcov.org/event/21-days-of-fasting-prayer/2023-01-09/
ATTACH;FMTTYPE=image/png:https://newcov.org/wp-content/uploads/2023/01/Prayer-Fasting-2023-Event.png
END:VEVENT
BEGIN:VEVENT
DTSTART;VALUE=DATE:20230108
DTEND;VALUE=DATE:20230109
DTSTAMP:20260419T203120
CREATED:20230101T070840Z
LAST-MODIFIED:20230109T070623Z
UID:10000546-1673136000-1673222399@newcov.org
SUMMARY:21 Days of Fasting & Prayer
DESCRIPTION:Join us in a time of fasting and prayer beginning Wednesday\, January 4th. In addition to our personal times of prayer each day\, we will come together at 7:00 a.m. each weekday morning from January 4th through the 25th for Corporate Prayer. To join the prayer line\, dial (425) 436-6373 and enter Participant Access Code 859138#.  Click here to download the Prayer Guide. To listen to the most recent prayer call: \n-Dial (425) 436-6309\n-Enter Access Code 859138#\n-In lieu of a reference number\, press the # key again
URL:https://newcov.org/event/21-days-of-fasting-prayer/2023-01-08/
ATTACH;FMTTYPE=image/png:https://newcov.org/wp-content/uploads/2023/01/Prayer-Fasting-2023-Event.png
END:VEVENT
BEGIN:VEVENT
DTSTART;VALUE=DATE:20230107
DTEND;VALUE=DATE:20230108
DTSTAMP:20260419T203120
CREATED:20230101T070840Z
LAST-MODIFIED:20230109T070623Z
UID:10000545-1673049600-1673135999@newcov.org
SUMMARY:21 Days of Fasting & Prayer
DESCRIPTION:Join us in a time of fasting and prayer beginning Wednesday\, January 4th. In addition to our personal times of prayer each day\, we will come together at 7:00 a.m. each weekday morning from January 4th through the 25th for Corporate Prayer. To join the prayer line\, dial (425) 436-6373 and enter Participant Access Code 859138#.  Click here to download the Prayer Guide. To listen to the most recent prayer call: \n-Dial (425) 436-6309\n-Enter Access Code 859138#\n-In lieu of a reference number\, press the # key again
URL:https://newcov.org/event/21-days-of-fasting-prayer/2023-01-07/
ATTACH;FMTTYPE=image/png:https://newcov.org/wp-content/uploads/2023/01/Prayer-Fasting-2023-Event.png
END:VEVENT
BEGIN:VEVENT
DTSTART;VALUE=DATE:20230106
DTEND;VALUE=DATE:20230107
DTSTAMP:20260419T203120
CREATED:20230101T070840Z
LAST-MODIFIED:20230109T070623Z
UID:10000544-1672963200-1673049599@newcov.org
SUMMARY:21 Days of Fasting & Prayer
DESCRIPTION:Join us in a time of fasting and prayer beginning Wednesday\, January 4th. In addition to our personal times of prayer each day\, we will come together at 7:00 a.m. each weekday morning from January 4th through the 25th for Corporate Prayer. To join the prayer line\, dial (425) 436-6373 and enter Participant Access Code 859138#.  Click here to download the Prayer Guide. To listen to the most recent prayer call: \n-Dial (425) 436-6309\n-Enter Access Code 859138#\n-In lieu of a reference number\, press the # key again
URL:https://newcov.org/event/21-days-of-fasting-prayer/2023-01-06/
ATTACH;FMTTYPE=image/png:https://newcov.org/wp-content/uploads/2023/01/Prayer-Fasting-2023-Event.png
END:VEVENT
BEGIN:VEVENT
DTSTART;VALUE=DATE:20230105
DTEND;VALUE=DATE:20230106
DTSTAMP:20260419T203120
CREATED:20230101T070840Z
LAST-MODIFIED:20230109T070623Z
UID:10000543-1672876800-1672963199@newcov.org
SUMMARY:21 Days of Fasting & Prayer
DESCRIPTION:Join us in a time of fasting and prayer beginning Wednesday\, January 4th. In addition to our personal times of prayer each day\, we will come together at 7:00 a.m. each weekday morning from January 4th through the 25th for Corporate Prayer. To join the prayer line\, dial (425) 436-6373 and enter Participant Access Code 859138#.  Click here to download the Prayer Guide. To listen to the most recent prayer call: \n-Dial (425) 436-6309\n-Enter Access Code 859138#\n-In lieu of a reference number\, press the # key again
URL:https://newcov.org/event/21-days-of-fasting-prayer/2023-01-05/
ATTACH;FMTTYPE=image/png:https://newcov.org/wp-content/uploads/2023/01/Prayer-Fasting-2023-Event.png
END:VEVENT
BEGIN:VEVENT
DTSTART;TZID=UTC:20230104T191500
DTEND;TZID=UTC:20230104T191500
DTSTAMP:20260419T203120
CREATED:20221224T054244Z
LAST-MODIFIED:20221224T054244Z
UID:10000538-1672859700-1672859700@newcov.org
SUMMARY:Bible Study
DESCRIPTION:After almost 3 years\, we’re pleased to announce that we are returning to in-person Bible Study. We’ll meet each Wednesday during the month of January at 7:15 p.m. in Covington and Lithonia and will stream live from the Lithonia Campus on New Covenant’s social platforms. Join us as we become informed and transformed by the Word of God.
URL:https://newcov.org/event/bible-study-2/2023-01-04/
LOCATION:New Covenant Christian Ministries – East & West\, 1760 Phillips Road\, Lithonia\, GA\, 30058\, United States
ATTACH;FMTTYPE=image/jpeg:https://newcov.org/wp-content/uploads/2017/05/Bible-Study.jpg
END:VEVENT
BEGIN:VEVENT
DTSTART;VALUE=DATE:20230104
DTEND;VALUE=DATE:20230105
DTSTAMP:20260419T203120
CREATED:20230101T070840Z
LAST-MODIFIED:20230109T070623Z
UID:10000542-1672790400-1672876799@newcov.org
SUMMARY:21 Days of Fasting & Prayer
DESCRIPTION:Join us in a time of fasting and prayer beginning Wednesday\, January 4th. In addition to our personal times of prayer each day\, we will come together at 7:00 a.m. each weekday morning from January 4th through the 25th for Corporate Prayer. To join the prayer line\, dial (425) 436-6373 and enter Participant Access Code 859138#.  Click here to download the Prayer Guide. To listen to the most recent prayer call: \n-Dial (425) 436-6309\n-Enter Access Code 859138#\n-In lieu of a reference number\, press the # key again
URL:https://newcov.org/event/21-days-of-fasting-prayer/2023-01-04/
ATTACH;FMTTYPE=image/png:https://newcov.org/wp-content/uploads/2023/01/Prayer-Fasting-2023-Event.png
END:VEVENT
BEGIN:VEVENT
DTSTART;VALUE=DATE:20230101
DTEND;VALUE=DATE:20230102
DTSTAMP:20260419T203120
CREATED:20221218T060916Z
LAST-MODIFIED:20221218T063854Z
UID:10000537-1672531200-1672617599@newcov.org
SUMMARY:New Year's Day Worship Services
DESCRIPTION:COMMUNION & CONSECRATION – 8:00 am – Covington Campus / 11:00 am – Lithonia Campus
URL:https://newcov.org/event/new-years-day-worship-services/
LOCATION:New Covenant Christian Ministries – East & West\, 1760 Phillips Road\, Lithonia\, GA\, 30058\, United States
ATTACH;FMTTYPE=image/jpeg:https://newcov.org/wp-content/uploads/2021/02/bread-wine-communion.jpg
END:VEVENT
BEGIN:VEVENT
DTSTART;VALUE=DATE:20221231
DTEND;VALUE=DATE:20230101
DTSTAMP:20260419T203120
CREATED:20221218T055020Z
LAST-MODIFIED:20221220T044239Z
UID:10000536-1672444800-1672531199@newcov.org
SUMMARY:New Year's Eve - On-Line Service Only
DESCRIPTION:We’ve made a couple of changes to our worship service schedule for the end of this year. Our New Year’s Eve Service will be on-line only at 7:30 pm & 10:30 pm. and live streamed on YouTube\, Facebook\, and at newcov.org. Please take note of this information and share it with your family\, friends and neighbors. Let’s end 2022 and welcome 2023 in worship together.
URL:https://newcov.org/event/new-years-eve-on-line-service-only/
LOCATION:YouTube\, Facebook\, and newcov.org
ATTACH;FMTTYPE=image/png:https://newcov.org/wp-content/uploads/2022/12/Worship-Service-Events.png
END:VEVENT
BEGIN:VEVENT
DTSTART;TZID=UTC:20221225T090000
DTEND;TZID=UTC:20221225T090000
DTSTAMP:20260419T203120
CREATED:20221218T051806Z
LAST-MODIFIED:20221220T044343Z
UID:10000535-1671958800-1671958800@newcov.org
SUMMARY:Christmas Day Worship Service
DESCRIPTION:We’ve made a couple of changes to our worship service schedule for the end of this year. We will have one service on Sunday\, December 25th at 9:00 am at the Lithonia Campus. Please take note of this information and share it with your family\, friends and neighbors. Let’s end 2022 and welcome 2023 in worship together.
URL:https://newcov.org/event/christmas-day-worship-service/
LOCATION:New Covenant Christian Ministries – West\, 1760 Phillips Road\, Lithonia\, GA\, 30058\, United States
ATTACH;FMTTYPE=image/png:https://newcov.org/wp-content/uploads/2022/12/Worship-Service-Events.png
END:VEVENT
BEGIN:VEVENT
DTSTART;TZID=UTC:20221209T200000
DTEND;TZID=UTC:20221209T200000
DTSTAMP:20260419T203120
CREATED:20221111T011353Z
LAST-MODIFIED:20221120T024510Z
UID:10000850-1670616000-1670616000@newcov.org
SUMMARY:Christmas Musical
DESCRIPTION:Join us as we celebrate the gift of Jesus with singing and wonderful Christmas memories.
URL:https://newcov.org/event/christmas-gift-musical/
LOCATION:New Covenant Christian Ministries – West\, 1760 Phillips Road\, Lithonia\, GA\, 30058\, United States
ATTACH;FMTTYPE=image/jpeg:https://newcov.org/wp-content/uploads/2022/11/Jesus-The-Gift.jpg
END:VEVENT
BEGIN:VEVENT
DTSTART;VALUE=DATE:20221204
DTEND;VALUE=DATE:20221205
DTSTAMP:20260419T203120
CREATED:20210806T220612Z
LAST-MODIFIED:20220501T052741Z
UID:10000750-1670112000-1670198399@newcov.org
SUMMARY:Communion Sunday
DESCRIPTION:Join Pastor Bill and Dr. D’Ann for communion during the 8AM and 11AM worship services. Online worshippers should be prepared with their choice of bread and juice to represent the elements.
URL:https://newcov.org/event/communion-sunday-2021-12-05/2022-12-04/
LOCATION:New Covenant Christian Ministries – East & West\, 1760 Phillips Road\, Lithonia\, GA\, 30058\, United States
ATTACH;FMTTYPE=image/jpeg:https://newcov.org/wp-content/uploads/2021/08/communion-bread-wine.jpg
END:VEVENT
BEGIN:VEVENT
DTSTART;TZID=UTC:20221201T183000
DTEND;TZID=UTC:20221201T183000
DTSTAMP:20260419T203120
CREATED:20221111T003945Z
LAST-MODIFIED:20221120T024909Z
UID:10000849-1669919400-1669919400@newcov.org
SUMMARY:Security Team Informational Meeting
DESCRIPTION:The security team is expanding and looking for safety-conscious men and women to walk out their service to God by supporting the buildings and grounds of New Covenant Christian Ministries. Persons interested in serving in this area are invited to attend an informational meeting on Thursday\, December 1st at 6:30 p.m. on Zoom. To attend the meeting\, click HERE and provide your contact information. Questions can be emailed to admin@newcov.org
URL:https://newcov.org/event/security-team-informational-meeting/
LOCATION:Virtual
ATTACH;FMTTYPE=image/png:https://newcov.org/wp-content/uploads/2022/11/Security-Recruitment-400x250-1.png
END:VEVENT
BEGIN:VEVENT
DTSTART;VALUE=DATE:20221106
DTEND;VALUE=DATE:20221107
DTSTAMP:20260419T203120
CREATED:20210806T220612Z
LAST-MODIFIED:20220501T052741Z
UID:10000749-1667692800-1667779199@newcov.org
SUMMARY:Communion Sunday
DESCRIPTION:Join Pastor Bill and Dr. D’Ann for communion during the 8AM and 11AM worship services. Online worshippers should be prepared with their choice of bread and juice to represent the elements.
URL:https://newcov.org/event/communion-sunday-2021-12-05/2022-11-06/
LOCATION:New Covenant Christian Ministries – East & West\, 1760 Phillips Road\, Lithonia\, GA\, 30058\, United States
ATTACH;FMTTYPE=image/jpeg:https://newcov.org/wp-content/uploads/2021/08/communion-bread-wine.jpg
END:VEVENT
BEGIN:VEVENT
DTSTART;TZID=UTC:20221030T110000
DTEND;TZID=UTC:20221030T110000
DTSTAMP:20260419T203120
CREATED:20221004T224831Z
LAST-MODIFIED:20221004T224831Z
UID:10000848-1667127600-1667127600@newcov.org
SUMMARY:New Member Orientation Graduation
DESCRIPTION:
URL:https://newcov.org/event/new-member-orientation-graduation-3/
LOCATION:New Covenant Christian Ministries – West\, 1760 Phillips Road\, Lithonia\, GA\, 30058\, United States
ATTACH;FMTTYPE=image/png:https://newcov.org/wp-content/uploads/2021/08/New-Members-400x250-1.png
END:VEVENT
BEGIN:VEVENT
DTSTART;TZID=UTC:20221029T110000
DTEND;TZID=UTC:20221029T150000
DTSTAMP:20260419T203120
CREATED:20220923T010225Z
LAST-MODIFIED:20220923T010433Z
UID:10000847-1667041200-1667055600@newcov.org
SUMMARY:Redan Recreation Center Fall Festival
DESCRIPTION:Join us as we fellowship with the community at the Redan Recreation Center Fall Festival on October 29th from 11AM to 3PM.
URL:https://newcov.org/event/redan-recreation-centers-fall-festival/
LOCATION:Redan Recreational Center\, 1839 Phillips Road\, Lithonia\, GA\, 30058\, United States
ATTACH;FMTTYPE=image/png:https://newcov.org/wp-content/uploads/2022/09/Fall-Fest-Redan-Rec-Center-Event.png
END:VEVENT
BEGIN:VEVENT
DTSTART;VALUE=DATE:20221009
DTEND;VALUE=DATE:20221010
DTSTAMP:20260419T203120
CREATED:20220923T003847Z
LAST-MODIFIED:20220923T003847Z
UID:10000846-1665273600-1665359999@newcov.org
SUMMARY:31st Pastoral and Church Anniversary
DESCRIPTION:Sunday\, October 9th marks our 31st Pastoral and Church Anniversary.   When we look back over the years\, we recognize God’s undeniable goodness and His abundant faithfulness.  So join us on this special day as we acknowledge God and continue to fulfill what He has spoken in the lives of our pastors and church family.
URL:https://newcov.org/event/31st-pastoral-and-church-anniversary/
LOCATION:New Covenant Christian Ministries – East & West\, 1760 Phillips Road\, Lithonia\, GA\, 30058\, United States
ATTACH;FMTTYPE=image/png:https://newcov.org/wp-content/uploads/2022/09/31st-Anniversary-Events-1.png
END:VEVENT
BEGIN:VEVENT
DTSTART;TZID=UTC:20221002T110000
DTEND;TZID=UTC:20221002T110000
DTSTAMP:20260419T203120
CREATED:20220923T002418Z
LAST-MODIFIED:20220923T002418Z
UID:10000845-1664708400-1664708400@newcov.org
SUMMARY:Licensing and Ordination Service
DESCRIPTION:Plan to join us on Sunday\, October 2nd\, during the 11 a.m. service for a special time of worship where Pastor Bill\, Dr. D’Ann and Bishop La Fayette Scales will license and ordain our newest elders\, ministers\, and deacons.
URL:https://newcov.org/event/licensing-and-ordination-service/
LOCATION:New Covenant Christian Ministries – West\, 1760 Phillips Road\, Lithonia\, GA\, 30058\, United States
ATTACH;FMTTYPE=image/png:https://newcov.org/wp-content/uploads/2022/09/Ordination-Service-Event.png
END:VEVENT
BEGIN:VEVENT
DTSTART;VALUE=DATE:20221002
DTEND;VALUE=DATE:20221003
DTSTAMP:20260419T203120
CREATED:20210806T220612Z
LAST-MODIFIED:20220501T052741Z
UID:10000748-1664668800-1664755199@newcov.org
SUMMARY:Communion Sunday
DESCRIPTION:Join Pastor Bill and Dr. D’Ann for communion during the 8AM and 11AM worship services. Online worshippers should be prepared with their choice of bread and juice to represent the elements.
URL:https://newcov.org/event/communion-sunday-2021-12-05/2022-10-02/
LOCATION:New Covenant Christian Ministries – East & West\, 1760 Phillips Road\, Lithonia\, GA\, 30058\, United States
ATTACH;FMTTYPE=image/jpeg:https://newcov.org/wp-content/uploads/2021/08/communion-bread-wine.jpg
END:VEVENT
BEGIN:VEVENT
DTSTART;TZID=UTC:20220928T191500
DTEND;TZID=UTC:20220928T191500
DTSTAMP:20260419T203120
CREATED:20220828T050440Z
LAST-MODIFIED:20220925T192516Z
UID:10000843-1664392500-1664392500@newcov.org
SUMMARY:Corporate Bible Study
DESCRIPTION:Plan to join us online each Wednesday in the month of September for Building a Fruitful Life\, a study of 2 Peter 1:1-11. Each week will address qualities that are necessary for the life of every believer in Jesus Christ.  Bishop La Fayette Scales will join us for the conclusion of the series\, so don’t miss this opportunity to be strengthened in the Word.  \nConnect with us on www.newcov.org\, Facebook Live\, YouTube\, or Zoom.\nZoom Video – Click HERE\nMeeting ID: 853 6170 3697\nPasscode: 831970 \nZoom Audio – 929 205 6099\nMeeting ID: 853 6170 3697\nPasscode: 831970
URL:https://newcov.org/event/corporate-bible-study-11-2022-09-28/
LOCATION:Facebook Live\, YouTube\, and Zoom
ATTACH;FMTTYPE=image/jpeg:https://newcov.org/wp-content/uploads/2022/01/bible-study.jpg
END:VEVENT
BEGIN:VEVENT
DTSTART;TZID=UTC:20220925T110000
DTEND;TZID=UTC:20220925T110000
DTSTAMP:20260419T203120
CREATED:20220923T001713Z
LAST-MODIFIED:20220923T001713Z
UID:10000844-1664103600-1664103600@newcov.org
SUMMARY:ManK.A.V.E. Commissioning Service
DESCRIPTION:Join us on September 25th during the 11 a.m. service as we applaud\, celebrate\, and commission men who have successfully completed three years of the Majoring in Men Curriculum. This program consists of reading nine books\, completing accompanying workbooks\, and submitting essays and exams. Congratulations kingdom authorized and vision equipped men!
URL:https://newcov.org/event/mank-a-v-e-commissioning-service/
LOCATION:New Covenant Christian Ministries – West\, 1760 Phillips Road\, Lithonia\, GA\, 30058\, United States
ATTACH;FMTTYPE=image/jpeg:https://newcov.org/wp-content/uploads/2022/09/man-KAVE.jpg
END:VEVENT
BEGIN:VEVENT
DTSTART;TZID=UTC:20220921T191500
DTEND;TZID=UTC:20220921T191500
DTSTAMP:20260419T203120
CREATED:20220828T050440Z
LAST-MODIFIED:20220925T192634Z
UID:10000842-1663787700-1663787700@newcov.org
SUMMARY:Corporate Bible Study
DESCRIPTION:Plan to join us online each Wednesday in the month of September for Building a Fruitful Life\, a study of 2 Peter 1:1-11. Each week will address qualities that are necessary for the life of every believer in Jesus Christ.  Bishop La Fayette Scales will join us for the conclusion of the series\, so don’t miss this opportunity to be strengthened in the Word.  \nConnect with us on www.newcov.org\, Facebook Live\, YouTube\, or Zoom.\nZoom Video – Click HERE\nMeeting ID: 853 6170 3697\nPasscode: 831970 \nZoom Audio – 929 205 6099\nMeeting ID: 853 6170 3697\nPasscode: 831970
URL:https://newcov.org/event/corporate-bible-study-11/2022-09-21/
LOCATION:Facebook Live\, YouTube\, and Zoom
ATTACH;FMTTYPE=image/jpeg:https://newcov.org/wp-content/uploads/2022/01/bible-study.jpg
END:VEVENT
BEGIN:VEVENT
DTSTART;TZID=UTC:20220914T191500
DTEND;TZID=UTC:20220914T191500
DTSTAMP:20260419T203120
CREATED:20220828T050440Z
LAST-MODIFIED:20220925T192634Z
UID:10000841-1663182900-1663182900@newcov.org
SUMMARY:Corporate Bible Study
DESCRIPTION:Plan to join us online each Wednesday in the month of September for Building a Fruitful Life\, a study of 2 Peter 1:1-11. Each week will address qualities that are necessary for the life of every believer in Jesus Christ.  Bishop La Fayette Scales will join us for the conclusion of the series\, so don’t miss this opportunity to be strengthened in the Word.  \nConnect with us on www.newcov.org\, Facebook Live\, YouTube\, or Zoom.\nZoom Video – Click HERE\nMeeting ID: 853 6170 3697\nPasscode: 831970 \nZoom Audio – 929 205 6099\nMeeting ID: 853 6170 3697\nPasscode: 831970
URL:https://newcov.org/event/corporate-bible-study-11/2022-09-14/
LOCATION:Facebook Live\, YouTube\, and Zoom
ATTACH;FMTTYPE=image/jpeg:https://newcov.org/wp-content/uploads/2022/01/bible-study.jpg
END:VEVENT
BEGIN:VEVENT
DTSTART;TZID=UTC:20220911T110000
DTEND;TZID=UTC:20220911T110000
DTSTAMP:20260419T203120
CREATED:20220828T044526Z
LAST-MODIFIED:20220828T044526Z
UID:10000533-1662894000-1662894000@newcov.org
SUMMARY:Baby Dedication
DESCRIPTION:Baby Dedication will take place on Sunday\, September 11th during the 11:00 a.m. worship service at the Lithonia Campus. Interested families should register HERE no later than Wednesday\, September 7th\, and can expect to receive additional instructions and information from the coordinator after registration closes. Questions can be directed to admin@newcov.org.
URL:https://newcov.org/event/baby-dedication-3/
LOCATION:New Covenant Christian Ministries – West\, 1760 Phillips Road\, Lithonia\, GA\, 30058\, United States
ATTACH;FMTTYPE=image/png:https://newcov.org/wp-content/uploads/2021/12/Baby-Dedication-Event-image-1.png
END:VEVENT
END:VCALENDAR