BEGIN:VCALENDAR
VERSION:2.0
PRODID:-//New Covenant Christian Ministries - ECPv6.15.20//NONSGML v1.0//EN
CALSCALE:GREGORIAN
METHOD:PUBLISH
X-WR-CALNAME:New Covenant Christian Ministries
X-ORIGINAL-URL:https://newcov.org
X-WR-CALDESC:Events for New Covenant Christian Ministries
REFRESH-INTERVAL;VALUE=DURATION:PT1H
X-Robots-Tag:noindex
X-PUBLISHED-TTL:PT1H
BEGIN:VTIMEZONE
TZID:America/New_York
BEGIN:DAYLIGHT
TZOFFSETFROM:-0500
TZOFFSETTO:-0400
TZNAME:EDT
DTSTART:20220313T070000
END:DAYLIGHT
BEGIN:STANDARD
TZOFFSETFROM:-0400
TZOFFSETTO:-0500
TZNAME:EST
DTSTART:20221106T060000
END:STANDARD
BEGIN:DAYLIGHT
TZOFFSETFROM:-0500
TZOFFSETTO:-0400
TZNAME:EDT
DTSTART:20230312T070000
END:DAYLIGHT
BEGIN:STANDARD
TZOFFSETFROM:-0400
TZOFFSETTO:-0500
TZNAME:EST
DTSTART:20231105T060000
END:STANDARD
BEGIN:DAYLIGHT
TZOFFSETFROM:-0500
TZOFFSETTO:-0400
TZNAME:EDT
DTSTART:20240310T070000
END:DAYLIGHT
BEGIN:STANDARD
TZOFFSETFROM:-0400
TZOFFSETTO:-0500
TZNAME:EST
DTSTART:20241103T060000
END:STANDARD
END:VTIMEZONE
BEGIN:VTIMEZONE
TZID:UTC
BEGIN:STANDARD
TZOFFSETFROM:+0000
TZOFFSETTO:+0000
TZNAME:UTC
DTSTART:20220101T000000
END:STANDARD
END:VTIMEZONE
BEGIN:VEVENT
DTSTART;VALUE=DATE:20230528
DTEND;VALUE=DATE:20230529
DTSTAMP:20260419T133152
CREATED:20230414T160836Z
LAST-MODIFIED:20230414T161615Z
UID:10000861-1685232000-1685318399@newcov.org
SUMMARY:Next Gen Worship Service
DESCRIPTION:Join us for intergenerational ministry at 8 a.m. in Covington and 11 a.m. in Lithonia.
URL:https://newcov.org/event/next-gen-worship-service/2023-05-28/
LOCATION:New Covenant Christian Ministries – East & West\, 1760 Phillips Road\, Lithonia\, GA\, 30058\, United States
ATTACH;FMTTYPE=image/png:https://newcov.org/wp-content/uploads/2023/04/NextGen-Event.png
END:VEVENT
BEGIN:VEVENT
DTSTART;VALUE=DATE:20230521
DTEND;VALUE=DATE:20230522
DTSTAMP:20260419T133152
CREATED:20230420T202632Z
LAST-MODIFIED:20230425T221655Z
UID:10000877-1684627200-1684713599@newcov.org
SUMMARY:Baptism
DESCRIPTION:Baptism is scheduled for Sunday\, May 21st\, during the 11:00 a.m. service at the Lithonia Campus.  Interested candidates should click the title above and provide their contact information to receive an automatic email regarding a mandatory baptism class on Zoom. The deadline to join the list of candidates is May 14th.
URL:https://newcov.org/event/baptism/
LOCATION:New Covenant Christian Ministries – West\, 1760 Phillips Road\, Lithonia\, GA\, 30058\, United States
ATTACH;FMTTYPE=image/png:https://newcov.org/wp-content/uploads/2022/12/Baptism-Event.png
END:VEVENT
BEGIN:VEVENT
DTSTART;TZID=America/New_York:20230520T110000
DTEND;TZID=America/New_York:20230520T140000
DTSTAMP:20260419T133152
CREATED:20230406T010518Z
LAST-MODIFIED:20230406T010518Z
UID:10000857-1684580400-1684591200@newcov.org
SUMMARY:Women's Fellowship Tea
DESCRIPTION:Ladies are invited to a special time of sisterhood at the Women’s Fellowship Tea from 11am until 2pm at the Lithonia Campus on May 20th.  Click the title above to be taken to the RVSP link and to purchase your ticket.
URL:https://newcov.org/event/womens-fellowship-tea/
LOCATION:New Covenant Christian Ministries – West\, 1760 Phillips Road\, Lithonia\, GA\, 30058\, United States
ATTACH;FMTTYPE=image/jpeg:https://newcov.org/wp-content/uploads/2021/06/group-women.jpg
END:VEVENT
BEGIN:VEVENT
DTSTART;TZID=UTC:20230514T160000
DTEND;TZID=UTC:20230514T160000
DTSTAMP:20260419T133152
CREATED:20220205T053955Z
LAST-MODIFIED:20230209T210550Z
UID:10000837-1684080000-1684080000@newcov.org
SUMMARY:Journey for a Lifetime – Session 7: Sex in Marriage
DESCRIPTION:The “Journey for a Lifetime” classes for engaged and married couples will be held virtually. These seven sessions will lay a foundation for marriage and are mandatory for any engaged couple who desires to be married by the leadership of New Covenant Christian Ministries.
URL:https://newcov.org/event/journey-for-a-lifetime-session-1-2022-05-22/
LOCATION:Zoom
ATTACH;FMTTYPE=image/png:https://newcov.org/wp-content/uploads/2021/08/holding-hands.png
END:VEVENT
BEGIN:VEVENT
DTSTART;VALUE=DATE:20230507
DTEND;VALUE=DATE:20230508
DTSTAMP:20260419T133152
CREATED:20230414T154204Z
LAST-MODIFIED:20230414T154912Z
UID:10000859-1683417600-1683503999@newcov.org
SUMMARY:Mental Health Weekend - Sunday Worship Service
DESCRIPTION:The Support 4 Life Ministry will continue to empower families by providing valuable insight regarding a variety of areas.  Join us at 8 a.m. in Covington or 11 a.m. in Lithonia where the speaker will be Minister Jill D. Mays.
URL:https://newcov.org/event/sunday-worship-service/
LOCATION:New Covenant Christian Ministries – East & West\, 1760 Phillips Road\, Lithonia\, GA\, 30058\, United States
ATTACH;FMTTYPE=image/png:https://newcov.org/wp-content/uploads/2023/04/Mental-Health-Weekend-Event.png
END:VEVENT
BEGIN:VEVENT
DTSTART;TZID=America/New_York:20230506T081500
DTEND;TZID=America/New_York:20230506T120000
DTSTAMP:20260419T133152
CREATED:20230414T153539Z
LAST-MODIFIED:20230414T162009Z
UID:10000858-1683360900-1683374400@newcov.org
SUMMARY:Mental Health Weekend - Saturday Workshop
DESCRIPTION:The Support 4 Life Ministry will host a workshop with licensed practitioners to bring awareness and provide coping skills for social and emotional challenges facing adults and youth.  Register by clicking the title above.
URL:https://newcov.org/event/mental-health-workshop/
LOCATION:New Covenant Christian Ministries – West\, 1760 Phillips Road\, Lithonia\, GA\, 30058\, United States
ATTACH;FMTTYPE=image/png:https://newcov.org/wp-content/uploads/2023/04/Mental-Health-Weekend-Event.png
END:VEVENT
BEGIN:VEVENT
DTSTART;VALUE=DATE:20230430
DTEND;VALUE=DATE:20230501
DTSTAMP:20260419T133152
CREATED:20230414T163454Z
LAST-MODIFIED:20230414T164250Z
UID:10000869-1682812800-1682899199@newcov.org
SUMMARY:Family and Friends Day
DESCRIPTION:Bring your family\, invite your friends and join us for a special time of creative ministry during our worship service at 8 a.m. in Covington and 11 a.m. in Lithonia.
URL:https://newcov.org/event/family-and-friends-day/2023-04-30/
LOCATION:New Covenant Christian Ministries – East & West\, 1760 Phillips Road\, Lithonia\, GA\, 30058\, United States
ATTACH;FMTTYPE=image/jpeg:https://newcov.org/wp-content/uploads/2023/04/service-2.jpg
END:VEVENT
BEGIN:VEVENT
DTSTART;TZID=UTC:20230423T160000
DTEND;TZID=UTC:20230423T160000
DTSTAMP:20260419T133152
CREATED:20220205T053955Z
LAST-MODIFIED:20230209T210439Z
UID:10000836-1682265600-1682265600@newcov.org
SUMMARY:Journey for a Lifetime – Session 6: Money Management
DESCRIPTION:The “Journey for a Lifetime” classes for engaged and married couples will be held virtually. These seven sessions will lay a foundation for marriage and are mandatory for any engaged couple who desires to be married by the leadership of New Covenant Christian Ministries.
URL:https://newcov.org/event/journey-for-a-lifetime-session-1-2022-05-08/
LOCATION:Zoom
ATTACH;FMTTYPE=image/png:https://newcov.org/wp-content/uploads/2021/08/holding-hands.png
END:VEVENT
BEGIN:VEVENT
DTSTART;VALUE=DATE:20230423
DTEND;VALUE=DATE:20230424
DTSTAMP:20260419T133152
CREATED:20230414T160836Z
LAST-MODIFIED:20230414T161615Z
UID:10000860-1682208000-1682294399@newcov.org
SUMMARY:Next Gen Worship Service
DESCRIPTION:Join us for intergenerational ministry at 8 a.m. in Covington and 11 a.m. in Lithonia.
URL:https://newcov.org/event/next-gen-worship-service/2023-04-23/
LOCATION:New Covenant Christian Ministries – East & West\, 1760 Phillips Road\, Lithonia\, GA\, 30058\, United States
ATTACH;FMTTYPE=image/png:https://newcov.org/wp-content/uploads/2023/04/NextGen-Event.png
END:VEVENT
BEGIN:VEVENT
DTSTART;TZID=UTC:20230415T093000
DTEND;TZID=UTC:20230415T113000
DTSTAMP:20260419T133152
CREATED:20230323T142807Z
LAST-MODIFIED:20230328T173556Z
UID:10000852-1681551000-1681558200@newcov.org
SUMMARY:Discipleship Ministry Team Meeting
DESCRIPTION:The Discipleship Ministry Team will meet on Saturday\, April 15th from 9:30 until 11:30 a.m. at the Lithonia Campus.  Current team members and those interested in joining the team are encouraged to attend.  Click the title above to RVSP no later than April 7th.
URL:https://newcov.org/event/discipleship-ministry-team-meeting/
LOCATION:New Covenant Christian Ministries – West\, 1760 Phillips Road\, Lithonia\, GA\, 30058\, United States
ATTACH;FMTTYPE=image/png:https://newcov.org/wp-content/uploads/2022/12/Discipleship-Min-Event-Tab.png
END:VEVENT
BEGIN:VEVENT
DTSTART;TZID=UTC:20230409T123000
DTEND;TZID=UTC:20230409T123000
DTSTAMP:20260419T133152
CREATED:20220205T053955Z
LAST-MODIFIED:20230209T205029Z
UID:10000835-1681043400-1681043400@newcov.org
SUMMARY:Journey for a Lifetime – Session 5: Communications
DESCRIPTION:The “Journey for a Lifetime” classes for engaged and married couples will be held virtually. These seven sessions will lay a foundation for marriage and are mandatory for any engaged couple who desires to be married by the leadership of New Covenant Christian Ministries.
URL:https://newcov.org/event/journey-for-a-lifetime-session-1-2022-04-24/
LOCATION:Zoom
ATTACH;FMTTYPE=image/png:https://newcov.org/wp-content/uploads/2021/08/holding-hands.png
END:VEVENT
BEGIN:VEVENT
DTSTART;TZID=America/New_York:20230407T200000
DTEND;TZID=America/New_York:20230407T220000
DTSTAMP:20260419T133152
CREATED:20230404T220223Z
LAST-MODIFIED:20230406T010749Z
UID:10000854-1680897600-1680904800@newcov.org
SUMMARY:Good Friday Production
DESCRIPTION:Come and re-live the moments that changed the world.  The Worship Arts Department presents “Believe”\, a dramatic re-enactment of the birth\, life\, death and resurrection of Jesus Christ at 8pm on Good Friday.  Doors open at 7pm.
URL:https://newcov.org/event/good-friday-production/
LOCATION:New Covenant Christian Ministries – West\, 1760 Phillips Road\, Lithonia\, GA\, 30058\, United States
ATTACH;FMTTYPE=image/jpeg:https://newcov.org/wp-content/uploads/2023/04/Event-With-Text-400x250-1.jpg
END:VEVENT
BEGIN:VEVENT
DTSTART;TZID=UTC:20230328T160000
DTEND;TZID=UTC:20230328T160000
DTSTAMP:20260419T133152
CREATED:20220205T053955Z
LAST-MODIFIED:20231228T183845Z
UID:10000838-1680019200-1680019200@newcov.org
SUMMARY:Journey for a Lifetime – Session 8: Training Godly Children
DESCRIPTION:The “Journey for a Lifetime” classes for engaged and married couples will be held virtually. These seven sessions will lay a foundation for marriage and are mandatory for any engaged couple who desires to be married by the leadership of New Covenant Christian Ministries.
URL:https://newcov.org/event/journey-for-a-lifetime-session-1-2022-06-05/
LOCATION:Zoom
ATTACH;FMTTYPE=image/png:https://newcov.org/wp-content/uploads/2021/08/holding-hands.png
END:VEVENT
BEGIN:VEVENT
DTSTART;TZID=UTC:20230326T160000
DTEND;TZID=UTC:20230326T160000
DTSTAMP:20260419T133153
CREATED:20220205T053955Z
LAST-MODIFIED:20230209T210706Z
UID:10000834-1679846400-1679846400@newcov.org
SUMMARY:Journey for a Lifetime – Session 4: Role of the Husband and Wife
DESCRIPTION:The “Journey for a Lifetime” classes for engaged and married couples will be held virtually. These seven sessions will lay a foundation for marriage and are mandatory for any engaged couple who desires to be married by the leadership of New Covenant Christian Ministries.
URL:https://newcov.org/event/journey-for-a-lifetime-session-1-2022-04-10/
LOCATION:Zoom
ATTACH;FMTTYPE=image/png:https://newcov.org/wp-content/uploads/2021/08/holding-hands.png
END:VEVENT
BEGIN:VEVENT
DTSTART;TZID=America/New_York:20230314T191500
DTEND;TZID=America/New_York:20230314T191500
DTSTAMP:20260419T133153
CREATED:20220515T054228Z
LAST-MODIFIED:20230209T212131Z
UID:10000530-1678821300-1678821300@newcov.org
SUMMARY:New Member Orientation
DESCRIPTION:Are you a member of New Covenant who has not completed New Member Orientation?  Are you considering membership at New Covenant? If your answer is yes\, we have a special invitation for you. Beginning February 21st at 7:15 p.m.\, you’re invited to join the New Member Orientation for a four-week interactive virtual series that will culminate in a special New Member Graduation ceremony. For details and registration go HERE. Questions can be emailed to discipleship@newcov.org.
URL:https://newcov.org/event/new-member-orientation/2023-03-14/
LOCATION:Virtual
ATTACH;FMTTYPE=image/png:https://newcov.org/wp-content/uploads/2021/08/New-Members-400x250-1.png
END:VEVENT
BEGIN:VEVENT
DTSTART;TZID=UTC:20230312T160000
DTEND;TZID=UTC:20230312T160000
DTSTAMP:20260419T133153
CREATED:20220205T053955Z
LAST-MODIFIED:20230209T204546Z
UID:10000833-1678636800-1678636800@newcov.org
SUMMARY:Journey for a Lifetime – Session 3: Understanding Your Differences
DESCRIPTION:The “Journey for a Lifetime” classes for engaged and married couples will be held virtually. These seven sessions will lay a foundation for marriage and are mandatory for any engaged couple who desires to be married by the leadership of New Covenant Christian Ministries.
URL:https://newcov.org/event/journey-for-a-lifetime-session-1-2022-03-27/
LOCATION:Zoom
ATTACH;FMTTYPE=image/png:https://newcov.org/wp-content/uploads/2021/08/holding-hands.png
END:VEVENT
BEGIN:VEVENT
DTSTART;TZID=UTC:20230312T110000
DTEND;TZID=UTC:20230312T110000
DTSTAMP:20260419T133153
CREATED:20221126T190955Z
LAST-MODIFIED:20230303T043701Z
UID:10000534-1678618800-1678618800@newcov.org
SUMMARY:Baby Dedication
DESCRIPTION:Baby Dedication will take place on Sunday\, March 12th during the 11:00 a.m. worship service at the Lithonia Campus. Interested families should register HERE no later than Wednesday\, March 8th\, and can expect to receive additional instructions and information from the coordinator after registration closes. Questions can be directed to admin@newcov.org.
URL:https://newcov.org/event/baby-dedication-4/
LOCATION:New Covenant Christian Ministries – West\, 1760 Phillips Road\, Lithonia\, GA\, 30058\, United States
ATTACH;FMTTYPE=image/png:https://newcov.org/wp-content/uploads/2021/12/Baby-Dedication-Event-image-1.png
END:VEVENT
BEGIN:VEVENT
DTSTART;TZID=America/New_York:20230307T191500
DTEND;TZID=America/New_York:20230307T191500
DTSTAMP:20260419T133153
CREATED:20220515T054228Z
LAST-MODIFIED:20230209T212131Z
UID:10000529-1678216500-1678216500@newcov.org
SUMMARY:New Member Orientation
DESCRIPTION:Are you a member of New Covenant who has not completed New Member Orientation?  Are you considering membership at New Covenant? If your answer is yes\, we have a special invitation for you. Beginning February 21st at 7:15 p.m.\, you’re invited to join the New Member Orientation for a four-week interactive virtual series that will culminate in a special New Member Graduation ceremony. For details and registration go HERE. Questions can be emailed to discipleship@newcov.org.
URL:https://newcov.org/event/new-member-orientation/2023-03-07/
LOCATION:Virtual
ATTACH;FMTTYPE=image/png:https://newcov.org/wp-content/uploads/2021/08/New-Members-400x250-1.png
END:VEVENT
BEGIN:VEVENT
DTSTART;TZID=America/New_York:20230228T191500
DTEND;TZID=America/New_York:20230228T191500
DTSTAMP:20260419T133153
CREATED:20220515T054228Z
LAST-MODIFIED:20230209T212131Z
UID:10000528-1677611700-1677611700@newcov.org
SUMMARY:New Member Orientation
DESCRIPTION:Are you a member of New Covenant who has not completed New Member Orientation?  Are you considering membership at New Covenant? If your answer is yes\, we have a special invitation for you. Beginning February 21st at 7:15 p.m.\, you’re invited to join the New Member Orientation for a four-week interactive virtual series that will culminate in a special New Member Graduation ceremony. For details and registration go HERE. Questions can be emailed to discipleship@newcov.org.
URL:https://newcov.org/event/new-member-orientation/2023-02-28/
LOCATION:Virtual
ATTACH;FMTTYPE=image/png:https://newcov.org/wp-content/uploads/2021/08/New-Members-400x250-1.png
END:VEVENT
BEGIN:VEVENT
DTSTART;TZID=America/New_York:20230221T191500
DTEND;TZID=America/New_York:20230221T191500
DTSTAMP:20260419T133153
CREATED:20220515T054228Z
LAST-MODIFIED:20230209T212131Z
UID:10000527-1677006900-1677006900@newcov.org
SUMMARY:New Member Orientation
DESCRIPTION:Are you a member of New Covenant who has not completed New Member Orientation?  Are you considering membership at New Covenant? If your answer is yes\, we have a special invitation for you. Beginning February 21st at 7:15 p.m.\, you’re invited to join the New Member Orientation for a four-week interactive virtual series that will culminate in a special New Member Graduation ceremony. For details and registration go HERE. Questions can be emailed to discipleship@newcov.org.
URL:https://newcov.org/event/new-member-orientation/2023-02-21/
LOCATION:Virtual
ATTACH;FMTTYPE=image/png:https://newcov.org/wp-content/uploads/2021/08/New-Members-400x250-1.png
END:VEVENT
BEGIN:VEVENT
DTSTART;VALUE=DATE:20230212
DTEND;VALUE=DATE:20230213
DTSTAMP:20260419T133153
CREATED:20230121T045332Z
LAST-MODIFIED:20230121T045332Z
UID:10000567-1676160000-1676246399@newcov.org
SUMMARY:Pre-Super Bowl Fellowship
DESCRIPTION:Before the big game on Sunday\, February 12th\, you’re invited to a super fellowship at the Lithonia Campus after the 11 a.m. service. Wear your favorite jersey to church and then hang around to enjoy a catered lunch from the famous Fox Brothers BBQ.  The fellowship will be over in time for you to get home before the start of Super Bowl LVII. To RSVP for the fellowship click HERE. The deadline to RSVP is February 5th. \nContact anettles@newcov.org for volunteer opportunities.
URL:https://newcov.org/event/pre-super-bowl-fellowship/
LOCATION:New Covenant Christian Ministries – West\, 1760 Phillips Road\, Lithonia\, GA\, 30058\, United States
ATTACH;FMTTYPE=image/png:https://newcov.org/wp-content/uploads/2023/01/SuperBowl-Fellowship-Event.png
END:VEVENT
BEGIN:VEVENT
DTSTART;TZID=UTC:20230204T100000
DTEND;TZID=UTC:20230204T120000
DTSTAMP:20260419T133153
CREATED:20230121T043137Z
LAST-MODIFIED:20230121T043137Z
UID:10000566-1675504800-1675512000@newcov.org
SUMMARY:Easter Production Casting Call
DESCRIPTION:The Worship Arts Department is holding a casting call for actors\, singers and stage crew of all ages to participate in the annual Easter Production. Interviews and auditions will be held at 10:00 a.m. on February 4th in the Fellowship Hall of the Lithonia Campus.  Click HERE to provide your contact information and talent selection. Point of Contact: pgardner@newcov.org
URL:https://newcov.org/event/easter-production-casting-call/
LOCATION:New Covenant Christian Ministries – West\, 1760 Phillips Road\, Lithonia\, GA\, 30058\, United States
ATTACH;FMTTYPE=image/png:https://newcov.org/wp-content/uploads/2023/01/believe-Event.png
END:VEVENT
BEGIN:VEVENT
DTSTART;TZID=UTC:20230128T090000
DTEND;TZID=UTC:20230128T090000
DTSTAMP:20260419T133153
CREATED:20230109T072130Z
LAST-MODIFIED:20230109T072130Z
UID:10000565-1674896400-1674896400@newcov.org
SUMMARY:Leadership Session
DESCRIPTION:Calling all elders\, ministers\, deacons\, ministry leaders\, volunteers\, and those interested in sharpening their skills. Plan to join us on Saturday\, January 28th\, at 9:00 a.m. for our first leadership session of the year. The focus will be “Resetting for Collaboration\, Communication\, and Care”. We will meet in the sanctuary of the Lithonia Campus\, and light refreshments will be served. RSVP here.
URL:https://newcov.org/event/leadership-session/
LOCATION:New Covenant Christian Ministries – West\, 1760 Phillips Road\, Lithonia\, GA\, 30058\, United States
ATTACH;FMTTYPE=image/png:https://newcov.org/wp-content/uploads/2023/01/Leadership-Session-Event.png
END:VEVENT
BEGIN:VEVENT
DTSTART;TZID=UTC:20230125T191500
DTEND;TZID=UTC:20230125T191500
DTSTAMP:20260419T133153
CREATED:20221224T054244Z
LAST-MODIFIED:20221224T054244Z
UID:10000541-1674674100-1674674100@newcov.org
SUMMARY:Bible Study
DESCRIPTION:After almost 3 years\, we’re pleased to announce that we are returning to in-person Bible Study. We’ll meet each Wednesday during the month of January at 7:15 p.m. in Covington and Lithonia and will stream live from the Lithonia Campus on New Covenant’s social platforms. Join us as we become informed and transformed by the Word of God.
URL:https://newcov.org/event/bible-study-2/2023-01-25/
LOCATION:New Covenant Christian Ministries – East & West\, 1760 Phillips Road\, Lithonia\, GA\, 30058\, United States
ATTACH;FMTTYPE=image/jpeg:https://newcov.org/wp-content/uploads/2017/05/Bible-Study.jpg
END:VEVENT
BEGIN:VEVENT
DTSTART;VALUE=DATE:20230124
DTEND;VALUE=DATE:20230125
DTSTAMP:20260419T133153
CREATED:20230101T070840Z
LAST-MODIFIED:20230109T070623Z
UID:10000562-1674518400-1674604799@newcov.org
SUMMARY:21 Days of Fasting & Prayer
DESCRIPTION:Join us in a time of fasting and prayer beginning Wednesday\, January 4th. In addition to our personal times of prayer each day\, we will come together at 7:00 a.m. each weekday morning from January 4th through the 25th for Corporate Prayer. To join the prayer line\, dial (425) 436-6373 and enter Participant Access Code 859138#.  Click here to download the Prayer Guide. To listen to the most recent prayer call: \n-Dial (425) 436-6309\n-Enter Access Code 859138#\n-In lieu of a reference number\, press the # key again
URL:https://newcov.org/event/21-days-of-fasting-prayer/2023-01-24/
LOCATION:GA
ATTACH;FMTTYPE=image/png:https://newcov.org/wp-content/uploads/2023/01/Prayer-Fasting-2023-Event.png
END:VEVENT
BEGIN:VEVENT
DTSTART;VALUE=DATE:20230123
DTEND;VALUE=DATE:20230124
DTSTAMP:20260419T133153
CREATED:20230101T070840Z
LAST-MODIFIED:20230109T070623Z
UID:10000561-1674432000-1674518399@newcov.org
SUMMARY:21 Days of Fasting & Prayer
DESCRIPTION:Join us in a time of fasting and prayer beginning Wednesday\, January 4th. In addition to our personal times of prayer each day\, we will come together at 7:00 a.m. each weekday morning from January 4th through the 25th for Corporate Prayer. To join the prayer line\, dial (425) 436-6373 and enter Participant Access Code 859138#.  Click here to download the Prayer Guide. To listen to the most recent prayer call: \n-Dial (425) 436-6309\n-Enter Access Code 859138#\n-In lieu of a reference number\, press the # key again
URL:https://newcov.org/event/21-days-of-fasting-prayer/2023-01-23/
LOCATION:GA
ATTACH;FMTTYPE=image/png:https://newcov.org/wp-content/uploads/2023/01/Prayer-Fasting-2023-Event.png
END:VEVENT
BEGIN:VEVENT
DTSTART;VALUE=DATE:20230122
DTEND;VALUE=DATE:20230123
DTSTAMP:20260419T133153
CREATED:20230101T070840Z
LAST-MODIFIED:20230109T070623Z
UID:10000560-1674345600-1674431999@newcov.org
SUMMARY:21 Days of Fasting & Prayer
DESCRIPTION:Join us in a time of fasting and prayer beginning Wednesday\, January 4th. In addition to our personal times of prayer each day\, we will come together at 7:00 a.m. each weekday morning from January 4th through the 25th for Corporate Prayer. To join the prayer line\, dial (425) 436-6373 and enter Participant Access Code 859138#.  Click here to download the Prayer Guide. To listen to the most recent prayer call: \n-Dial (425) 436-6309\n-Enter Access Code 859138#\n-In lieu of a reference number\, press the # key again
URL:https://newcov.org/event/21-days-of-fasting-prayer/2023-01-22/
LOCATION:GA
ATTACH;FMTTYPE=image/png:https://newcov.org/wp-content/uploads/2023/01/Prayer-Fasting-2023-Event.png
END:VEVENT
BEGIN:VEVENT
DTSTART;VALUE=DATE:20230121
DTEND;VALUE=DATE:20230122
DTSTAMP:20260419T133153
CREATED:20230101T070840Z
LAST-MODIFIED:20230109T070623Z
UID:10000559-1674259200-1674345599@newcov.org
SUMMARY:21 Days of Fasting & Prayer
DESCRIPTION:Join us in a time of fasting and prayer beginning Wednesday\, January 4th. In addition to our personal times of prayer each day\, we will come together at 7:00 a.m. each weekday morning from January 4th through the 25th for Corporate Prayer. To join the prayer line\, dial (425) 436-6373 and enter Participant Access Code 859138#.  Click here to download the Prayer Guide. To listen to the most recent prayer call: \n-Dial (425) 436-6309\n-Enter Access Code 859138#\n-In lieu of a reference number\, press the # key again
URL:https://newcov.org/event/21-days-of-fasting-prayer/2023-01-21/
LOCATION:GA
ATTACH;FMTTYPE=image/png:https://newcov.org/wp-content/uploads/2023/01/Prayer-Fasting-2023-Event.png
END:VEVENT
BEGIN:VEVENT
DTSTART;VALUE=DATE:20230120
DTEND;VALUE=DATE:20230121
DTSTAMP:20260419T133153
CREATED:20230101T070840Z
LAST-MODIFIED:20230109T070623Z
UID:10000558-1674172800-1674259199@newcov.org
SUMMARY:21 Days of Fasting & Prayer
DESCRIPTION:Join us in a time of fasting and prayer beginning Wednesday\, January 4th. In addition to our personal times of prayer each day\, we will come together at 7:00 a.m. each weekday morning from January 4th through the 25th for Corporate Prayer. To join the prayer line\, dial (425) 436-6373 and enter Participant Access Code 859138#.  Click here to download the Prayer Guide. To listen to the most recent prayer call: \n-Dial (425) 436-6309\n-Enter Access Code 859138#\n-In lieu of a reference number\, press the # key again
URL:https://newcov.org/event/21-days-of-fasting-prayer/2023-01-20/
LOCATION:GA
ATTACH;FMTTYPE=image/png:https://newcov.org/wp-content/uploads/2023/01/Prayer-Fasting-2023-Event.png
END:VEVENT
BEGIN:VEVENT
DTSTART;VALUE=DATE:20230119
DTEND;VALUE=DATE:20230120
DTSTAMP:20260419T133153
CREATED:20230101T070840Z
LAST-MODIFIED:20230109T070623Z
UID:10000557-1674086400-1674172799@newcov.org
SUMMARY:21 Days of Fasting & Prayer
DESCRIPTION:Join us in a time of fasting and prayer beginning Wednesday\, January 4th. In addition to our personal times of prayer each day\, we will come together at 7:00 a.m. each weekday morning from January 4th through the 25th for Corporate Prayer. To join the prayer line\, dial (425) 436-6373 and enter Participant Access Code 859138#.  Click here to download the Prayer Guide. To listen to the most recent prayer call: \n-Dial (425) 436-6309\n-Enter Access Code 859138#\n-In lieu of a reference number\, press the # key again
URL:https://newcov.org/event/21-days-of-fasting-prayer/2023-01-19/
LOCATION:GA
ATTACH;FMTTYPE=image/png:https://newcov.org/wp-content/uploads/2023/01/Prayer-Fasting-2023-Event.png
END:VEVENT
END:VCALENDAR