BEGIN:VCALENDAR
VERSION:2.0
PRODID:-//New Covenant Christian Ministries - ECPv6.15.20//NONSGML v1.0//EN
CALSCALE:GREGORIAN
METHOD:PUBLISH
X-ORIGINAL-URL:https://newcov.org
X-WR-CALDESC:Events for New Covenant Christian Ministries
REFRESH-INTERVAL;VALUE=DURATION:PT1H
X-Robots-Tag:noindex
X-PUBLISHED-TTL:PT1H
BEGIN:VTIMEZONE
TZID:UTC
BEGIN:STANDARD
TZOFFSETFROM:+0000
TZOFFSETTO:+0000
TZNAME:UTC
DTSTART:20220101T000000
END:STANDARD
END:VTIMEZONE
BEGIN:VTIMEZONE
TZID:America/New_York
BEGIN:DAYLIGHT
TZOFFSETFROM:-0500
TZOFFSETTO:-0400
TZNAME:EDT
DTSTART:20220313T070000
END:DAYLIGHT
BEGIN:STANDARD
TZOFFSETFROM:-0400
TZOFFSETTO:-0500
TZNAME:EST
DTSTART:20221106T060000
END:STANDARD
BEGIN:DAYLIGHT
TZOFFSETFROM:-0500
TZOFFSETTO:-0400
TZNAME:EDT
DTSTART:20230312T070000
END:DAYLIGHT
BEGIN:STANDARD
TZOFFSETFROM:-0400
TZOFFSETTO:-0500
TZNAME:EST
DTSTART:20231105T060000
END:STANDARD
BEGIN:DAYLIGHT
TZOFFSETFROM:-0500
TZOFFSETTO:-0400
TZNAME:EDT
DTSTART:20240310T070000
END:DAYLIGHT
BEGIN:STANDARD
TZOFFSETFROM:-0400
TZOFFSETTO:-0500
TZNAME:EST
DTSTART:20241103T060000
END:STANDARD
BEGIN:DAYLIGHT
TZOFFSETFROM:-0500
TZOFFSETTO:-0400
TZNAME:EDT
DTSTART:20250309T070000
END:DAYLIGHT
BEGIN:STANDARD
TZOFFSETFROM:-0400
TZOFFSETTO:-0500
TZNAME:EST
DTSTART:20251102T060000
END:STANDARD
END:VTIMEZONE
BEGIN:VEVENT
DTSTART;VALUE=DATE:20240310
DTEND;VALUE=DATE:20240311
DTSTAMP:20260419T083713
CREATED:20231107T174626Z
LAST-MODIFIED:20240220T172919Z
UID:10000939-1710028800-1710115199@newcov.org
SUMMARY:Baby Dedication
DESCRIPTION:Baby Dedication will take place on Sunday\, March 10th during the 11:00 a.m. worship service at the Lithonia Campus. Interested families should click this link to register no later than Sunday\, December 3rd and receive additional information. Questions can be directed to admin@newcov.org.
URL:https://newcov.org/event/baby-dedication-7/
LOCATION:New Covenant Christian Ministries – West\, 1760 Phillips Road\, Lithonia\, GA\, 30058\, United States
ATTACH;FMTTYPE=image/png:https://newcov.org/wp-content/uploads/2023/11/Baby-400x250-1.png
END:VEVENT
BEGIN:VEVENT
DTSTART;VALUE=DATE:20240225
DTEND;VALUE=DATE:20240226
DTSTAMP:20260419T083713
CREATED:20240112T022427Z
LAST-MODIFIED:20240128T200343Z
UID:10000952-1708819200-1708905599@newcov.org
SUMMARY:NextGen Sunday
DESCRIPTION:Join us at 8 a.m. in Covington or 11 a.m. in Lithonia for the NextGen Youth and Young Adult worship service.
URL:https://newcov.org/event/nextgen-sunday/2024-02-25/
ATTACH;FMTTYPE=image/jpeg:https://newcov.org/wp-content/uploads/2015/10/926x600_pg_youth1.jpg
END:VEVENT
BEGIN:VEVENT
DTSTART;VALUE=DATE:20240128
DTEND;VALUE=DATE:20240129
DTSTAMP:20260419T083713
CREATED:20240112T022427Z
LAST-MODIFIED:20240128T200343Z
UID:10000947-1706400000-1706486399@newcov.org
SUMMARY:NextGen Sunday
DESCRIPTION:Join us at 8 a.m. in Covington or 11 a.m. in Lithonia for the NextGen Youth and Young Adult worship service.
URL:https://newcov.org/event/nextgen-sunday/2024-01-28/
ATTACH;FMTTYPE=image/jpeg:https://newcov.org/wp-content/uploads/2015/10/926x600_pg_youth1.jpg
END:VEVENT
BEGIN:VEVENT
DTSTART;TZID=America/New_York:20240127T100000
DTEND;TZID=America/New_York:20240127T140000
DTSTAMP:20260419T083713
CREATED:20240110T213928Z
LAST-MODIFIED:20240110T214034Z
UID:10000946-1706349600-1706364000@newcov.org
SUMMARY:Drama Workshop
DESCRIPTION:The Worship Arts Department will host a drama workshop on Saturday\, January 27th from 10 a.m. until 2 p.m. at the Lithonia Campus.  Whether you’re a seasoned performer or a complete novice\, all ages are welcome to attend and discover how to develop and refine your acting skills.   Register here.
URL:https://newcov.org/event/drama-workshop/
ATTACH;FMTTYPE=image/png:https://newcov.org/wp-content/uploads/2024/01/Worship-Arts-400x200-2.png
END:VEVENT
BEGIN:VEVENT
DTSTART;VALUE=DATE:20240121
DTEND;VALUE=DATE:20240122
DTSTAMP:20260419T083713
CREATED:20240112T023920Z
LAST-MODIFIED:20240112T024006Z
UID:10000948-1705795200-1705881599@newcov.org
SUMMARY:Married/Engaged Couples Mixer
DESCRIPTION:Meet the Marriage Ministry leadership team and other couples on Sunday\, January 21st\, immediately after the 8 a.m. and 11 a.m. services.
URL:https://newcov.org/event/married-engaged-couples-mixer/
ATTACH;FMTTYPE=image/jpeg:https://newcov.org/wp-content/uploads/2021/02/adults-blur-couple-888899.jpg
END:VEVENT
BEGIN:VEVENT
DTSTART;VALUE=DATE:20240121
DTEND;VALUE=DATE:20240122
DTSTAMP:20260419T083713
CREATED:20240103T031903Z
LAST-MODIFIED:20240103T031903Z
UID:10000943-1705795200-1705881599@newcov.org
SUMMARY:Baptism
DESCRIPTION:Baptism is scheduled for Sunday\, January 21st\, during the 11:00 a.m. service at the Lithonia Campus.  Interested candidates should click the title above and provide their contact information to receive an automatic email regarding a mandatory baptism class on Zoom. The deadline to join the list of candidates is January 14th.
URL:https://newcov.org/event/baptism-5/
ATTACH;FMTTYPE=image/png:https://newcov.org/wp-content/uploads/2022/12/Baptism-Event.png
END:VEVENT
BEGIN:VEVENT
DTSTART;VALUE=DATE:20240107
DTEND;VALUE=DATE:20240108
DTSTAMP:20260419T083713
CREATED:20210806T220612Z
LAST-MODIFIED:20240103T035700Z
UID:10000777-1704585600-1704671999@newcov.org
SUMMARY:Communion Sunday
DESCRIPTION:Join Pastor Bill and Dr. D’Ann for a special time of communion and consecration during the 8:00 a.m. and 11:00 a.m. worship services. Online worshippers should be prepared with their choice of bread and juice to represent the elements.
URL:https://newcov.org/event/communion-sunday-2021-12-05-2022-12-04-2023-04-02/
ATTACH;FMTTYPE=image/png:https://newcov.org/wp-content/uploads/2021/08/Communion-Consecration-400x250-1.png
END:VEVENT
BEGIN:VEVENT
DTSTART;VALUE=DATE:20240103
DTEND;VALUE=DATE:20240201
DTSTAMP:20260419T083713
CREATED:20240103T033340Z
LAST-MODIFIED:20240110T124449Z
UID:10000944-1704240000-1706745599@newcov.org
SUMMARY:Worship & The Word Wednesdays
DESCRIPTION:Join us for Worship and the Word each Wednesday in January.  We’ll be streaming live from our Lithonia Campus beginning at 7:30 p.m.  Delivering powerful messages during the month are Dr. Sherry Gaither\, Pastor Roy Barrett\, Pastor Monte Norwood\, Dr. D’Ann V. Johnson\, and Pastor Billy R. Johnson. \n 
URL:https://newcov.org/event/worship-the-word-wednesdays/
ATTACH;FMTTYPE=image/jpeg:https://newcov.org/wp-content/uploads/2024/01/400x200-wed-worship-and-the-word-event.jpg
END:VEVENT
BEGIN:VEVENT
DTSTART;VALUE=DATE:20240103
DTEND;VALUE=DATE:20240124
DTSTAMP:20260419T083713
CREATED:20240103T035430Z
LAST-MODIFIED:20240103T174435Z
UID:10000945-1704240000-1706054399@newcov.org
SUMMARY:Prayer & Fasting
DESCRIPTION:Posture for growth as we begin the year in a time of prayer\, fasting\, and consecration. We are trusting God to grow us in multiple areas—spiritually\, emotionally\, physically\, relationally\, financially\, and more.  Download the daily guide and plan to participate in our 7:00 a.m. prayer call each Wednesday in January.  Access the call by dialing (425) 436-6373 and using access code 859138#. \nTo access the recording of the call\, dial (425) 436-6309 and use access code 859138# \n  \n 
URL:https://newcov.org/event/prayer-fasting/
ATTACH;FMTTYPE=image/png:https://newcov.org/wp-content/uploads/2024/01/Prayer-Fasting-400x200-1.png
END:VEVENT
BEGIN:VEVENT
DTSTART;TZID=America/New_York:20231231T200000
DTEND;TZID=America/New_York:20231231T200000
DTSTAMP:20260419T083713
CREATED:20231231T223921Z
LAST-MODIFIED:20231231T224002Z
UID:10000942-1704052800-1704052800@newcov.org
SUMMARY:New Year's Eve Special
DESCRIPTION:Tune in online for a special time of music\, encouragement\, and inspiration premiering at 8:00 p.m. and re-airing at 11:30 p.m. on social platforms.
URL:https://newcov.org/event/new-years-eve-special/
LOCATION:Virtual
ATTACH;FMTTYPE=image/png:https://newcov.org/wp-content/uploads/2023/12/400x200-online-event.png
END:VEVENT
BEGIN:VEVENT
DTSTART;VALUE=DATE:20231231
DTEND;VALUE=DATE:20240101
DTSTAMP:20260419T083713
CREATED:20230414T163454Z
LAST-MODIFIED:20230414T164250Z
UID:10000872-1704009600-1704042000@newcov.org
SUMMARY:Family and Friends Day
DESCRIPTION:Bring your family\, invite your friends and join us for a special time of creative ministry during our worship service at 8 a.m. in Covington and 11 a.m. in Lithonia.
URL:https://newcov.org/event/family-and-friends-day/2023-12-31/
LOCATION:New Covenant Christian Ministries – East & West\, 1760 Phillips Road\, Lithonia\, GA\, 30058\, United States
ATTACH;FMTTYPE=image/jpeg:https://newcov.org/wp-content/uploads/2023/04/service-2.jpg
END:VEVENT
BEGIN:VEVENT
DTSTART;VALUE=DATE:20231224
DTEND;VALUE=DATE:20231225
DTSTAMP:20260419T083713
CREATED:20230614T214807Z
LAST-MODIFIED:20230614T214808Z
UID:10000868-1703376000-1703462399@newcov.org
SUMMARY:Next Gen Worship Service
DESCRIPTION:Join us for intergenerational ministry at 8 a.m. in Covington and 11 a.m. in Lithonia.
URL:https://newcov.org/event/next-gen-worship-service-2/2023-12-24/
LOCATION:New Covenant Christian Ministries – East & West\, 1760 Phillips Road\, Lithonia\, GA\, 30058\, United States
ATTACH;FMTTYPE=image/png:https://newcov.org/wp-content/uploads/2023/04/NextGen-Event.png
END:VEVENT
BEGIN:VEVENT
DTSTART;VALUE=DATE:20231208
DTEND;VALUE=DATE:20231209
DTSTAMP:20260419T083713
CREATED:20231128T043004Z
LAST-MODIFIED:20231128T043004Z
UID:10000940-1701993600-1702079999@newcov.org
SUMMARY:Christmas Musical
DESCRIPTION:Gather your family\, friends and neighbors and meet us at the Lithonia Campus on December 8th at 8:00 p.m. for The Gift of the Magi Christmas Musical. Join us as we reflect on God’s sacrificial love for the world and His gift of redemption.
URL:https://newcov.org/event/christmas-musical/
ATTACH;FMTTYPE=image/png:https://newcov.org/wp-content/uploads/2023/11/Gift-of-Magi-400x250-1.png
END:VEVENT
BEGIN:VEVENT
DTSTART;VALUE=DATE:20231126
DTEND;VALUE=DATE:20231127
DTSTAMP:20260419T083713
CREATED:20230614T214807Z
LAST-MODIFIED:20230614T214808Z
UID:10000867-1700956800-1701043199@newcov.org
SUMMARY:Next Gen Worship Service
DESCRIPTION:Join us for intergenerational ministry at 8 a.m. in Covington and 11 a.m. in Lithonia.
URL:https://newcov.org/event/next-gen-worship-service-2/2023-11-26/
LOCATION:New Covenant Christian Ministries – East & West\, 1760 Phillips Road\, Lithonia\, GA\, 30058\, United States
ATTACH;FMTTYPE=image/png:https://newcov.org/wp-content/uploads/2023/04/NextGen-Event.png
END:VEVENT
BEGIN:VEVENT
DTSTART;VALUE=DATE:20231119
DTEND;VALUE=DATE:20231120
DTSTAMP:20260419T083713
CREATED:20231026T022957Z
LAST-MODIFIED:20231026T022957Z
UID:10000938-1700352000-1700438399@newcov.org
SUMMARY:Baptism
DESCRIPTION:Baptism is scheduled for Sunday\, November 19th\, during the 11:00 a.m. service at the Lithonia Campus.  Interested candidates should click the title above and provide their contact information to receive an automatic email regarding a mandatory baptism class on Zoom. The deadline to join the list of candidates is November 12th.
URL:https://newcov.org/event/baptism-4/
LOCATION:New Covenant Christian Ministries – West\, 1760 Phillips Road\, Lithonia\, GA\, 30058\, United States
ATTACH;FMTTYPE=image/png:https://newcov.org/wp-content/uploads/2022/12/Baptism-Event.png
END:VEVENT
BEGIN:VEVENT
DTSTART;VALUE=DATE:20231029
DTEND;VALUE=DATE:20231030
DTSTAMP:20260419T083713
CREATED:20230414T163454Z
LAST-MODIFIED:20230414T164250Z
UID:10000871-1698566400-1698598800@newcov.org
SUMMARY:Family and Friends Day
DESCRIPTION:Bring your family\, invite your friends and join us for a special time of creative ministry during our worship service at 8 a.m. in Covington and 11 a.m. in Lithonia.
URL:https://newcov.org/event/family-and-friends-day/2023-10-29/
LOCATION:New Covenant Christian Ministries – East & West\, 1760 Phillips Road\, Lithonia\, GA\, 30058\, United States
ATTACH;FMTTYPE=image/jpeg:https://newcov.org/wp-content/uploads/2023/04/service-2.jpg
END:VEVENT
BEGIN:VEVENT
DTSTART;VALUE=DATE:20231022
DTEND;VALUE=DATE:20231023
DTSTAMP:20260419T083713
CREATED:20230614T214807Z
LAST-MODIFIED:20230614T214808Z
UID:10000866-1697932800-1698019199@newcov.org
SUMMARY:Next Gen Worship Service
DESCRIPTION:Join us for intergenerational ministry at 8 a.m. in Covington and 11 a.m. in Lithonia.
URL:https://newcov.org/event/next-gen-worship-service-2/2023-10-22/
LOCATION:New Covenant Christian Ministries – East & West\, 1760 Phillips Road\, Lithonia\, GA\, 30058\, United States
ATTACH;FMTTYPE=image/png:https://newcov.org/wp-content/uploads/2023/04/NextGen-Event.png
END:VEVENT
BEGIN:VEVENT
DTSTART;TZID=America/New_York:20230927T191500
DTEND;TZID=America/New_York:20230927T203000
DTSTAMP:20260419T083713
CREATED:20230901T161422Z
LAST-MODIFIED:20230901T161815Z
UID:10000931-1695842100-1695846600@newcov.org
SUMMARY:Corporate Bible Study (VIRTUAL)
DESCRIPTION:Join us at 7:15 p.m. on Facebook live\, YouTube or at www.newcov.org for Corporate Bible Study.  This is our year of RESET and we’ve been blessed to hear powerful messages on returning\, engaging\, and serving.  Now we’re looking forward to being empowered by diving deeper into God’s Word.
URL:https://newcov.org/event/corporate-bible-study-virtual-2/2023-09-27/
LOCATION:Facebook Live\, YouTube\, and Zoom
ATTACH;FMTTYPE=image/png:https://newcov.org/wp-content/uploads/2019/12/1732x1155-bible.png
END:VEVENT
BEGIN:VEVENT
DTSTART;VALUE=DATE:20230924
DTEND;VALUE=DATE:20230925
DTSTAMP:20260419T083713
CREATED:20230614T214807Z
LAST-MODIFIED:20230614T214808Z
UID:10000865-1695513600-1695599999@newcov.org
SUMMARY:Next Gen Worship Service
DESCRIPTION:Join us for intergenerational ministry at 8 a.m. in Covington and 11 a.m. in Lithonia.
URL:https://newcov.org/event/next-gen-worship-service-2/2023-09-24/
LOCATION:New Covenant Christian Ministries – East & West\, 1760 Phillips Road\, Lithonia\, GA\, 30058\, United States
ATTACH;FMTTYPE=image/png:https://newcov.org/wp-content/uploads/2023/04/NextGen-Event.png
END:VEVENT
BEGIN:VEVENT
DTSTART;TZID=America/New_York:20230920T191500
DTEND;TZID=America/New_York:20230920T203000
DTSTAMP:20260419T083713
CREATED:20230901T161422Z
LAST-MODIFIED:20230901T161815Z
UID:10000930-1695237300-1695241800@newcov.org
SUMMARY:Corporate Bible Study (VIRTUAL)
DESCRIPTION:Join us at 7:15 p.m. on Facebook live\, YouTube or at www.newcov.org for Corporate Bible Study.  This is our year of RESET and we’ve been blessed to hear powerful messages on returning\, engaging\, and serving.  Now we’re looking forward to being empowered by diving deeper into God’s Word.
URL:https://newcov.org/event/corporate-bible-study-virtual-2/2023-09-20/
LOCATION:Facebook Live\, YouTube\, and Zoom
ATTACH;FMTTYPE=image/png:https://newcov.org/wp-content/uploads/2019/12/1732x1155-bible.png
END:VEVENT
BEGIN:VEVENT
DTSTART;VALUE=DATE:20230917
DTEND;VALUE=DATE:20230918
DTSTAMP:20260419T083713
CREATED:20230420T203029Z
LAST-MODIFIED:20230901T155109Z
UID:10000879-1694908800-1694995199@newcov.org
SUMMARY:Baptism
DESCRIPTION:Baptism is scheduled for Sunday\, September 17th\, during the 11:00 a.m. service at the Lithonia Campus.  Interested candidates should click the title above and provide their contact information to receive an automatic email regarding a mandatory baptism class on Zoom. The deadline to join the list of candidates is September 10th.
URL:https://newcov.org/event/baptism-3/
LOCATION:New Covenant Christian Ministries – West\, 1760 Phillips Road\, Lithonia\, GA\, 30058\, United States
ATTACH;FMTTYPE=image/png:https://newcov.org/wp-content/uploads/2022/12/Baptism-Event.png
END:VEVENT
BEGIN:VEVENT
DTSTART;TZID=America/New_York:20230913T191500
DTEND;TZID=America/New_York:20230913T203000
DTSTAMP:20260419T083713
CREATED:20230901T161422Z
LAST-MODIFIED:20230901T161815Z
UID:10000929-1694632500-1694637000@newcov.org
SUMMARY:Corporate Bible Study (VIRTUAL)
DESCRIPTION:Join us at 7:15 p.m. on Facebook live\, YouTube or at www.newcov.org for Corporate Bible Study.  This is our year of RESET and we’ve been blessed to hear powerful messages on returning\, engaging\, and serving.  Now we’re looking forward to being empowered by diving deeper into God’s Word.
URL:https://newcov.org/event/corporate-bible-study-virtual-2/2023-09-13/
LOCATION:Facebook Live\, YouTube\, and Zoom
ATTACH;FMTTYPE=image/png:https://newcov.org/wp-content/uploads/2019/12/1732x1155-bible.png
END:VEVENT
BEGIN:VEVENT
DTSTART;VALUE=DATE:20230910
DTEND;VALUE=DATE:20230911
DTSTAMP:20260419T083713
CREATED:20230428T183953Z
LAST-MODIFIED:20230827T122415Z
UID:10000883-1694304000-1694390399@newcov.org
SUMMARY:Baby Dedication
DESCRIPTION:Baby Dedication will take place on Sunday\, September 10th during the 11:00 a.m. worship service at the Lithonia Campus. Interested families should click the title above to register no later than Sunday\, September 3rd and receive additional information. Questions can be directed to admin@newcov.org.
URL:https://newcov.org/event/baby-dedication-5/
LOCATION:New Covenant Christian Ministries – West\, 1760 Phillips Road\, Lithonia\, GA\, 30058\, United States
ATTACH;FMTTYPE=image/png:https://newcov.org/wp-content/uploads/2021/12/Baby-Dedication-Event-image-1.png
END:VEVENT
BEGIN:VEVENT
DTSTART;TZID=America/New_York:20230906T191500
DTEND;TZID=America/New_York:20230906T203000
DTSTAMP:20260419T083713
CREATED:20230901T161422Z
LAST-MODIFIED:20230901T161815Z
UID:10000928-1694027700-1694032200@newcov.org
SUMMARY:Corporate Bible Study (VIRTUAL)
DESCRIPTION:Join us at 7:15 p.m. on Facebook live\, YouTube or at www.newcov.org for Corporate Bible Study.  This is our year of RESET and we’ve been blessed to hear powerful messages on returning\, engaging\, and serving.  Now we’re looking forward to being empowered by diving deeper into God’s Word.
URL:https://newcov.org/event/corporate-bible-study-virtual-2/2023-09-06/
LOCATION:Facebook Live\, YouTube\, and Zoom
ATTACH;FMTTYPE=image/png:https://newcov.org/wp-content/uploads/2019/12/1732x1155-bible.png
END:VEVENT
BEGIN:VEVENT
DTSTART;VALUE=DATE:20230827
DTEND;VALUE=DATE:20230828
DTSTAMP:20260419T083713
CREATED:20230614T214807Z
LAST-MODIFIED:20230614T214808Z
UID:10000864-1693094400-1693180799@newcov.org
SUMMARY:Next Gen Worship Service
DESCRIPTION:Join us for intergenerational ministry at 8 a.m. in Covington and 11 a.m. in Lithonia.
URL:https://newcov.org/event/next-gen-worship-service-2/2023-08-27/
LOCATION:New Covenant Christian Ministries – East & West\, 1760 Phillips Road\, Lithonia\, GA\, 30058\, United States
ATTACH;FMTTYPE=image/png:https://newcov.org/wp-content/uploads/2023/04/NextGen-Event.png
END:VEVENT
BEGIN:VEVENT
DTSTART;VALUE=DATE:20230730
DTEND;VALUE=DATE:20230731
DTSTAMP:20260419T083713
CREATED:20230414T163454Z
LAST-MODIFIED:20230414T164250Z
UID:10000870-1690704000-1690736400@newcov.org
SUMMARY:Family and Friends Day
DESCRIPTION:Bring your family\, invite your friends and join us for a special time of creative ministry during our worship service at 8 a.m. in Covington and 11 a.m. in Lithonia.
URL:https://newcov.org/event/family-and-friends-day/2023-07-30/
LOCATION:New Covenant Christian Ministries – East & West\, 1760 Phillips Road\, Lithonia\, GA\, 30058\, United States
ATTACH;FMTTYPE=image/jpeg:https://newcov.org/wp-content/uploads/2023/04/service-2.jpg
END:VEVENT
BEGIN:VEVENT
DTSTART;VALUE=DATE:20230723
DTEND;VALUE=DATE:20230724
DTSTAMP:20260419T083713
CREATED:20230614T214807Z
LAST-MODIFIED:20230614T214808Z
UID:10000862-1690070400-1690156799@newcov.org
SUMMARY:Next Gen Worship Service
DESCRIPTION:Join us for intergenerational ministry at 8 a.m. in Covington and 11 a.m. in Lithonia.
URL:https://newcov.org/event/next-gen-worship-service-2/2023-07-23/
LOCATION:New Covenant Christian Ministries – East & West\, 1760 Phillips Road\, Lithonia\, GA\, 30058\, United States
ATTACH;FMTTYPE=image/png:https://newcov.org/wp-content/uploads/2023/04/NextGen-Event.png
END:VEVENT
BEGIN:VEVENT
DTSTART;TZID=America/New_York:20230720T180000
DTEND;TZID=America/New_York:20230724T203000
DTSTAMP:20260419T083713
CREATED:20230428T150754Z
LAST-MODIFIED:20230614T215317Z
UID:10000921-1689876000-1690230600@newcov.org
SUMMARY:Vacation Bible School
DESCRIPTION:Rising Pre-K through 12th grade students and adults are invited to attend this 5-night journey of becoming Keepers of the Kingdom.  Click the title above to REGISTER.
URL:https://newcov.org/event/vacation-bible-school/2023-07-20/
LOCATION:New Covenant Christian Ministries – West\, 1760 Phillips Road\, Lithonia\, GA\, 30058\, United States
ATTACH;FMTTYPE=image/png:https://newcov.org/wp-content/uploads/2023/04/Keepers-Kingdom-VBS-Event.png
END:VEVENT
BEGIN:VEVENT
DTSTART;TZID=America/New_York:20230719T180000
DTEND;TZID=America/New_York:20230723T203000
DTSTAMP:20260419T083713
CREATED:20230428T150754Z
LAST-MODIFIED:20230614T215317Z
UID:10000920-1689789600-1690144200@newcov.org
SUMMARY:Vacation Bible School
DESCRIPTION:Rising Pre-K through 12th grade students and adults are invited to attend this 5-night journey of becoming Keepers of the Kingdom.  Click the title above to REGISTER.
URL:https://newcov.org/event/vacation-bible-school/2023-07-19/
LOCATION:New Covenant Christian Ministries – West\, 1760 Phillips Road\, Lithonia\, GA\, 30058\, United States
ATTACH;FMTTYPE=image/png:https://newcov.org/wp-content/uploads/2023/04/Keepers-Kingdom-VBS-Event.png
END:VEVENT
BEGIN:VEVENT
DTSTART;TZID=America/New_York:20230718T180000
DTEND;TZID=America/New_York:20230722T203000
DTSTAMP:20260419T083713
CREATED:20230428T150754Z
LAST-MODIFIED:20230614T215317Z
UID:10000919-1689703200-1690057800@newcov.org
SUMMARY:Vacation Bible School
DESCRIPTION:Rising Pre-K through 12th grade students and adults are invited to attend this 5-night journey of becoming Keepers of the Kingdom.  Click the title above to REGISTER.
URL:https://newcov.org/event/vacation-bible-school/2023-07-18/
LOCATION:New Covenant Christian Ministries – West\, 1760 Phillips Road\, Lithonia\, GA\, 30058\, United States
ATTACH;FMTTYPE=image/png:https://newcov.org/wp-content/uploads/2023/04/Keepers-Kingdom-VBS-Event.png
END:VEVENT
END:VCALENDAR