BEGIN:VCALENDAR
VERSION:2.0
PRODID:-//New Covenant Christian Ministries - ECPv6.15.20//NONSGML v1.0//EN
CALSCALE:GREGORIAN
METHOD:PUBLISH
X-WR-CALNAME:New Covenant Christian Ministries
X-ORIGINAL-URL:https://newcov.org
X-WR-CALDESC:Events for New Covenant Christian Ministries
REFRESH-INTERVAL;VALUE=DURATION:PT1H
X-Robots-Tag:noindex
X-PUBLISHED-TTL:PT1H
BEGIN:VTIMEZONE
TZID:America/New_York
BEGIN:DAYLIGHT
TZOFFSETFROM:-0500
TZOFFSETTO:-0400
TZNAME:EDT
DTSTART:20250309T070000
END:DAYLIGHT
BEGIN:STANDARD
TZOFFSETFROM:-0400
TZOFFSETTO:-0500
TZNAME:EST
DTSTART:20251102T060000
END:STANDARD
BEGIN:DAYLIGHT
TZOFFSETFROM:-0500
TZOFFSETTO:-0400
TZNAME:EDT
DTSTART:20260308T070000
END:DAYLIGHT
BEGIN:STANDARD
TZOFFSETFROM:-0400
TZOFFSETTO:-0500
TZNAME:EST
DTSTART:20261101T060000
END:STANDARD
BEGIN:DAYLIGHT
TZOFFSETFROM:-0500
TZOFFSETTO:-0400
TZNAME:EDT
DTSTART:20270314T070000
END:DAYLIGHT
BEGIN:STANDARD
TZOFFSETFROM:-0400
TZOFFSETTO:-0500
TZNAME:EST
DTSTART:20271107T060000
END:STANDARD
END:VTIMEZONE
BEGIN:VEVENT
DTSTART;TZID=America/New_York:20260327T190000
DTEND;TZID=America/New_York:20260327T210000
DTSTAMP:20260425T064039
CREATED:20260304T035316Z
LAST-MODIFIED:20260304T042602Z
UID:10002351-1774638000-1774645200@newcov.org
SUMMARY:Marriage Enrichment Night
DESCRIPTION:If disagreements and communication struggles are leaving you feeling disconnected\, join InCovenant Marriage Ministry for practical tools to help you speak with clarity\, listen with intention\, and connect with your partner in a meaningful way.  For more information email couples@newcov.org.
URL:https://newcov.org/event/marriage-enrichment-night/
LOCATION:New Covenant Christian Ministries – West\, 1760 Phillips Road\, Lithonia\, GA\, 30058\, United States
ATTACH;FMTTYPE=image/png:https://newcov.org/wp-content/uploads/2026/01/Couple.png
END:VEVENT
BEGIN:VEVENT
DTSTART;TZID=America/New_York:20260328T090000
DTEND;TZID=America/New_York:20260328T130000
DTSTAMP:20260425T064039
CREATED:20260223T151915Z
LAST-MODIFIED:20260223T151915Z
UID:10002350-1774688400-1774702800@newcov.org
SUMMARY:SUPER S.A.L.T
DESCRIPTION:This impactful leadership experience will feature a dynamic general session\, three focused breakout sessions\, an engaging closing Q&A\, and a special giveaway. \nWhether you lead a division or ministry department\, serve faithfully on a team\, are seeking new opportunities to grow\, or simply want to elevate your leadership skills for the marketplace\, this event is for you. Come be inspired\, equipped\, and empowered to lead with greater clarity and confidence. Register HERE. \n 
URL:https://newcov.org/event/super-s-a-l-t/
LOCATION:GA
ATTACH;FMTTYPE=image/png:https://newcov.org/wp-content/uploads/2026/02/Super-SALT-Event.png
END:VEVENT
BEGIN:VEVENT
DTSTART;VALUE=DATE:20260329
DTEND;VALUE=DATE:20260330
DTSTAMP:20260425T064039
CREATED:20260307T003704Z
LAST-MODIFIED:20260324T012111Z
UID:10002365-1774742400-1774828799@newcov.org
SUMMARY:Journey Of A Lifetime - Marriage Classes
DESCRIPTION:Seven enrichment sessions that will lay a foundation for engaged couples and strengthen those who are already married.  Completion of these sessions is mandatory for any engaged couple who desires to be married by the leadership of New Covenant.   Follow this link to register and view the complete schedule. \nYou do not have to be a member of New Covenant to participate in these sessions.
URL:https://newcov.org/event/journey-of-a-lifetime-marriage-classes-2/
LOCATION:GA
ATTACH;FMTTYPE=image/png:https://newcov.org/wp-content/uploads/2021/08/holding-hands.png
END:VEVENT
BEGIN:VEVENT
DTSTART;VALUE=DATE:20260403
DTEND;VALUE=DATE:20260404
DTSTAMP:20260425T064039
CREATED:20260218T144421Z
LAST-MODIFIED:20260218T144421Z
UID:10002347-1775174400-1775260799@newcov.org
SUMMARY:Easter Production
DESCRIPTION:Join us at 7:30 p.m. on Good Friday\, at the Lithonia campus for Believe the Musical\, a production that brings to life the profound story of love\, sacrifice and resurrection.
URL:https://newcov.org/event/easter-production-2/
LOCATION:New Covenant Christian Ministries – West\, 1760 Phillips Road\, Lithonia\, GA\, 30058\, United States
ATTACH;FMTTYPE=image/jpeg:https://newcov.org/wp-content/uploads/2024/03/400x200-believe-calendar-copy.jpg
END:VEVENT
BEGIN:VEVENT
DTSTART;TZID=America/New_York:20260404T110000
DTEND;TZID=America/New_York:20260404T150000
DTSTAMP:20260425T064039
CREATED:20260218T144854Z
LAST-MODIFIED:20260319T024217Z
UID:10002348-1775300400-1775314800@newcov.org
SUMMARY:Community Easter Celebrations
DESCRIPTION:New Covenant will co-host faith-filed Community Easter Celebrations packed with games\, music\, food and more. \nLocations: \n\nRedan Recreation\, 1839 Phillips Road\, Lithonia\, GA\nLive Oak Elementary School\, 500 Kirkland Road\, Covington\, GA.\n\nClick HERE to volunteer. \n 
URL:https://newcov.org/event/community-easter-celebration-2/
LOCATION:GA
ATTACH;FMTTYPE=image/png:https://newcov.org/wp-content/uploads/2024/02/Easter-Celebration-400x250-1.png
END:VEVENT
BEGIN:VEVENT
DTSTART;VALUE=DATE:20260405
DTEND;VALUE=DATE:20260406
DTSTAMP:20260425T064039
CREATED:20260324T001522Z
LAST-MODIFIED:20260324T001522Z
UID:10002376-1775347200-1775433599@newcov.org
SUMMARY:Resurrection Sunday Service
DESCRIPTION:The Resurrection makes all the difference. Join us as we celebrate our Risen Lord and Savior Jesus Christ!  You are welcome to worship with us at 10 a.m. at our Covington campus and 11 a.m. at our Lithonia campus.
URL:https://newcov.org/event/resurrection-sunday-service-2/
LOCATION:GA
ATTACH;FMTTYPE=image/png:https://newcov.org/wp-content/uploads/2024/03/400x200EasterSunday-event.png
END:VEVENT
BEGIN:VEVENT
DTSTART;TZID=America/New_York:20260425T100000
DTEND;TZID=America/New_York:20260425T123000
DTSTAMP:20260425T064039
CREATED:20260410T142215Z
LAST-MODIFIED:20260410T142215Z
UID:10002379-1777111200-1777120200@newcov.org
SUMMARY:Autism & Special Needs Workshop
DESCRIPTION:This meaningful event hosted by the Support4Life team will focus on supporting individuals and families affected by autism and other special needs. Workshops and resources will provide practical tools\, greater understanding\, and intentional strategies to help us serve our church family and community. Questions can be emailed to support4life@newcov.org.
URL:https://newcov.org/event/autism-special-needs-workshop/
LOCATION:New Covenant Christian Ministries – East\, 14147 Highway 278\, Covington\, GA\, 30014\, United States
ATTACH;FMTTYPE=image/png:https://newcov.org/wp-content/uploads/2026/04/Autism-Special-Needs-Workshop-1.png
END:VEVENT
BEGIN:VEVENT
DTSTART;TZID=America/New_York:20260516T110000
DTEND;TZID=America/New_York:20260516T130000
DTSTAMP:20260425T064039
CREATED:20260304T041722Z
LAST-MODIFIED:20260304T041722Z
UID:10002352-1778929200-1778936400@newcov.org
SUMMARY:Women's Ministry Brunch
DESCRIPTION:Ladies\, you and your mom\, sisters\, aunts and besties are invited to Beauties & Brunch. Wear your dressy spring attire and hair adornments for a delightful day of laughter\, fellowship & great food. Our speaker will be New Covenant’s own Elder Alfie James. Reserve an entire table or purchase a single ticket HERE. \n 
URL:https://newcov.org/event/womens-ministry-brunch-2/
LOCATION:New Covenant Christian Ministries – West\, 1760 Phillips Road\, Lithonia\, GA\, 30058\, United States
ATTACH;FMTTYPE=image/png:https://newcov.org/wp-content/uploads/2026/03/Women-Brunch-Event.png
END:VEVENT
BEGIN:VEVENT
DTSTART;VALUE=DATE:20260517
DTEND;VALUE=DATE:20260518
DTSTAMP:20260425T064039
CREATED:20260324T005745Z
LAST-MODIFIED:20260324T005745Z
UID:10002378-1778976000-1779062399@newcov.org
SUMMARY:Baptism
DESCRIPTION:Baptism at the Lithonia Campus during the 11:00 a.m. service. \nInterested candidates should provide their contact information here to receive an automatic response regarding a mandatory baptism class on Zoom. The deadline to join the list of candidates is March 8th
URL:https://newcov.org/event/baptism-13/
LOCATION:New Covenant Christian Ministries – West\, 1760 Phillips Road\, Lithonia\, GA\, 30058\, United States
ATTACH;FMTTYPE=image/png:https://newcov.org/wp-content/uploads/2022/12/Baptism-Event.png
END:VEVENT
BEGIN:VEVENT
DTSTART;TZID=America/New_York:20260530T090000
DTEND;TZID=America/New_York:20260530T130000
DTSTAMP:20260425T064039
CREATED:20260113T190933Z
LAST-MODIFIED:20260113T190933Z
UID:10002289-1780131600-1780146000@newcov.org
SUMMARY:New Member Orientation - Super Saturday
DESCRIPTION:New members or members who have not completed Orientation can complete all sessions in one day.  Take advantage of this opportunity by registering here.
URL:https://newcov.org/event/new-member-orientation-super-saturday-3/
LOCATION:New Covenant Christian Ministries – West\, 1760 Phillips Road\, Lithonia\, GA\, 30058\, United States
ATTACH;FMTTYPE=image/png:https://newcov.org/wp-content/uploads/2025/03/New-Members-400x250-1.png
END:VEVENT
BEGIN:VEVENT
DTSTART;VALUE=DATE:20260607
DTEND;VALUE=DATE:20260608
DTSTAMP:20260425T064039
CREATED:20260113T180228Z
LAST-MODIFIED:20260210T223117Z
UID:10002325-1780790400-1780876799@newcov.org
SUMMARY:Faith Foundations - Session 2
DESCRIPTION:Faith Foundations is a 7-week session of classes designed to help you understand what it means to be saved and to grow as a Christian.  Register HERE for the 2026 sessions.  Questions can be emailed to Elder Michelle Jackson at discipleship@newcov.org. \n\nEast Campus (8:45am-9:45am)\nWest Campus (9:45am – 10:45am)
URL:https://newcov.org/event/faith-foundations-session-4/2026-06-07/
LOCATION:New Covenant Christian Ministries – East & West\, 1760 Phillips Road\, Lithonia\, GA\, 30058\, United States
ATTACH;FMTTYPE=image/png:https://newcov.org/wp-content/uploads/2024/03/Discipleship-Ministry-3.png
END:VEVENT
BEGIN:VEVENT
DTSTART;VALUE=DATE:20260614
DTEND;VALUE=DATE:20260615
DTSTAMP:20260425T064039
CREATED:20260113T180228Z
LAST-MODIFIED:20260210T223117Z
UID:10002326-1781395200-1781481599@newcov.org
SUMMARY:Faith Foundations - Session 2
DESCRIPTION:Faith Foundations is a 7-week session of classes designed to help you understand what it means to be saved and to grow as a Christian.  Register HERE for the 2026 sessions.  Questions can be emailed to Elder Michelle Jackson at discipleship@newcov.org. \n\nEast Campus (8:45am-9:45am)\nWest Campus (9:45am – 10:45am)
URL:https://newcov.org/event/faith-foundations-session-4/2026-06-14/
LOCATION:New Covenant Christian Ministries – East & West\, 1760 Phillips Road\, Lithonia\, GA\, 30058\, United States
ATTACH;FMTTYPE=image/png:https://newcov.org/wp-content/uploads/2024/03/Discipleship-Ministry-3.png
END:VEVENT
BEGIN:VEVENT
DTSTART;VALUE=DATE:20260621
DTEND;VALUE=DATE:20260622
DTSTAMP:20260425T064039
CREATED:20260113T180228Z
LAST-MODIFIED:20260210T223117Z
UID:10002327-1782000000-1782086399@newcov.org
SUMMARY:Faith Foundations - Session 2
DESCRIPTION:Faith Foundations is a 7-week session of classes designed to help you understand what it means to be saved and to grow as a Christian.  Register HERE for the 2026 sessions.  Questions can be emailed to Elder Michelle Jackson at discipleship@newcov.org. \n\nEast Campus (8:45am-9:45am)\nWest Campus (9:45am – 10:45am)
URL:https://newcov.org/event/faith-foundations-session-4/2026-06-21/
LOCATION:New Covenant Christian Ministries – East & West\, 1760 Phillips Road\, Lithonia\, GA\, 30058\, United States
ATTACH;FMTTYPE=image/png:https://newcov.org/wp-content/uploads/2024/03/Discipleship-Ministry-3.png
END:VEVENT
BEGIN:VEVENT
DTSTART;VALUE=DATE:20260628
DTEND;VALUE=DATE:20260629
DTSTAMP:20260425T064039
CREATED:20260113T180228Z
LAST-MODIFIED:20260210T223117Z
UID:10002328-1782604800-1782691199@newcov.org
SUMMARY:Faith Foundations - Session 2
DESCRIPTION:Faith Foundations is a 7-week session of classes designed to help you understand what it means to be saved and to grow as a Christian.  Register HERE for the 2026 sessions.  Questions can be emailed to Elder Michelle Jackson at discipleship@newcov.org. \n\nEast Campus (8:45am-9:45am)\nWest Campus (9:45am – 10:45am)
URL:https://newcov.org/event/faith-foundations-session-4/2026-06-28/
LOCATION:New Covenant Christian Ministries – East & West\, 1760 Phillips Road\, Lithonia\, GA\, 30058\, United States
ATTACH;FMTTYPE=image/png:https://newcov.org/wp-content/uploads/2024/03/Discipleship-Ministry-3.png
END:VEVENT
BEGIN:VEVENT
DTSTART;VALUE=DATE:20260705
DTEND;VALUE=DATE:20260706
DTSTAMP:20260425T064039
CREATED:20260113T180228Z
LAST-MODIFIED:20260210T223117Z
UID:10002329-1783209600-1783295999@newcov.org
SUMMARY:Faith Foundations - Session 2
DESCRIPTION:Faith Foundations is a 7-week session of classes designed to help you understand what it means to be saved and to grow as a Christian.  Register HERE for the 2026 sessions.  Questions can be emailed to Elder Michelle Jackson at discipleship@newcov.org. \n\nEast Campus (8:45am-9:45am)\nWest Campus (9:45am – 10:45am)
URL:https://newcov.org/event/faith-foundations-session-4/2026-07-05/
LOCATION:New Covenant Christian Ministries – East & West\, 1760 Phillips Road\, Lithonia\, GA\, 30058\, United States
ATTACH;FMTTYPE=image/png:https://newcov.org/wp-content/uploads/2024/03/Discipleship-Ministry-3.png
END:VEVENT
BEGIN:VEVENT
DTSTART;VALUE=DATE:20260712
DTEND;VALUE=DATE:20260713
DTSTAMP:20260425T064039
CREATED:20260113T180228Z
LAST-MODIFIED:20260210T223117Z
UID:10002330-1783814400-1783900799@newcov.org
SUMMARY:Faith Foundations - Session 2
DESCRIPTION:Faith Foundations is a 7-week session of classes designed to help you understand what it means to be saved and to grow as a Christian.  Register HERE for the 2026 sessions.  Questions can be emailed to Elder Michelle Jackson at discipleship@newcov.org. \n\nEast Campus (8:45am-9:45am)\nWest Campus (9:45am – 10:45am)
URL:https://newcov.org/event/faith-foundations-session-4/2026-07-12/
LOCATION:New Covenant Christian Ministries – East & West\, 1760 Phillips Road\, Lithonia\, GA\, 30058\, United States
ATTACH;FMTTYPE=image/png:https://newcov.org/wp-content/uploads/2024/03/Discipleship-Ministry-3.png
END:VEVENT
BEGIN:VEVENT
DTSTART;VALUE=DATE:20260719
DTEND;VALUE=DATE:20260720
DTSTAMP:20260425T064039
CREATED:20260113T180228Z
LAST-MODIFIED:20260210T223117Z
UID:10002331-1784419200-1784505599@newcov.org
SUMMARY:Faith Foundations - Session 2
DESCRIPTION:Faith Foundations is a 7-week session of classes designed to help you understand what it means to be saved and to grow as a Christian.  Register HERE for the 2026 sessions.  Questions can be emailed to Elder Michelle Jackson at discipleship@newcov.org. \n\nEast Campus (8:45am-9:45am)\nWest Campus (9:45am – 10:45am)
URL:https://newcov.org/event/faith-foundations-session-4/2026-07-19/
LOCATION:New Covenant Christian Ministries – East & West\, 1760 Phillips Road\, Lithonia\, GA\, 30058\, United States
ATTACH;FMTTYPE=image/png:https://newcov.org/wp-content/uploads/2024/03/Discipleship-Ministry-3.png
END:VEVENT
BEGIN:VEVENT
DTSTART;TZID=America/New_York:20260808T090000
DTEND;TZID=America/New_York:20260808T130000
DTSTAMP:20260425T064039
CREATED:20260113T191101Z
LAST-MODIFIED:20260113T191101Z
UID:10002290-1786179600-1786194000@newcov.org
SUMMARY:New Member Orientation - Super Saturday
DESCRIPTION:New members or members who have not completed Orientation can complete all sessions in one day.  Take advantage of this opportunity by registering here.
URL:https://newcov.org/event/new-member-orientation-super-saturday-4/
LOCATION:New Covenant Christian Ministries – West\, 1760 Phillips Road\, Lithonia\, GA\, 30058\, United States
ATTACH;FMTTYPE=image/png:https://newcov.org/wp-content/uploads/2025/03/New-Members-400x250-1.png
END:VEVENT
BEGIN:VEVENT
DTSTART;VALUE=DATE:20260927
DTEND;VALUE=DATE:20260928
DTSTAMP:20260425T064039
CREATED:20260210T222718Z
LAST-MODIFIED:20260210T223157Z
UID:10002339-1790467200-1790553599@newcov.org
SUMMARY:Faith Foundations - Session 3
DESCRIPTION:Faith Foundations is a 7-week session of classes designed to help you understand what it means to be saved and to grow as a Christian.  Register HERE for the 2026 sessions.  Questions can be emailed to Elder Michelle Jackson at discipleship@newcov.org. \n\nEast Campus (8:45am-9:45am)\nWest Campus (9:45am – 10:45am)
URL:https://newcov.org/event/faith-foundations-session-3/2026-09-27/
LOCATION:New Covenant Christian Ministries – East & West\, 1760 Phillips Road\, Lithonia\, GA\, 30058\, United States
ATTACH;FMTTYPE=image/png:https://newcov.org/wp-content/uploads/2024/03/Discipleship-Ministry-3.png
END:VEVENT
BEGIN:VEVENT
DTSTART;VALUE=DATE:20261004
DTEND;VALUE=DATE:20261005
DTSTAMP:20260425T064039
CREATED:20260210T222718Z
LAST-MODIFIED:20260210T223157Z
UID:10002340-1791072000-1791158399@newcov.org
SUMMARY:Faith Foundations - Session 3
DESCRIPTION:Faith Foundations is a 7-week session of classes designed to help you understand what it means to be saved and to grow as a Christian.  Register HERE for the 2026 sessions.  Questions can be emailed to Elder Michelle Jackson at discipleship@newcov.org. \n\nEast Campus (8:45am-9:45am)\nWest Campus (9:45am – 10:45am)
URL:https://newcov.org/event/faith-foundations-session-3/2026-10-04/
LOCATION:New Covenant Christian Ministries – East & West\, 1760 Phillips Road\, Lithonia\, GA\, 30058\, United States
ATTACH;FMTTYPE=image/png:https://newcov.org/wp-content/uploads/2024/03/Discipleship-Ministry-3.png
END:VEVENT
BEGIN:VEVENT
DTSTART;VALUE=DATE:20261011
DTEND;VALUE=DATE:20261012
DTSTAMP:20260425T064039
CREATED:20260210T222718Z
LAST-MODIFIED:20260210T223157Z
UID:10002341-1791676800-1791763199@newcov.org
SUMMARY:Faith Foundations - Session 3
DESCRIPTION:Faith Foundations is a 7-week session of classes designed to help you understand what it means to be saved and to grow as a Christian.  Register HERE for the 2026 sessions.  Questions can be emailed to Elder Michelle Jackson at discipleship@newcov.org. \n\nEast Campus (8:45am-9:45am)\nWest Campus (9:45am – 10:45am)
URL:https://newcov.org/event/faith-foundations-session-3/2026-10-11/
LOCATION:New Covenant Christian Ministries – East & West\, 1760 Phillips Road\, Lithonia\, GA\, 30058\, United States
ATTACH;FMTTYPE=image/png:https://newcov.org/wp-content/uploads/2024/03/Discipleship-Ministry-3.png
END:VEVENT
BEGIN:VEVENT
DTSTART;VALUE=DATE:20261018
DTEND;VALUE=DATE:20261019
DTSTAMP:20260425T064039
CREATED:20260210T222718Z
LAST-MODIFIED:20260210T223157Z
UID:10002342-1792281600-1792367999@newcov.org
SUMMARY:Faith Foundations - Session 3
DESCRIPTION:Faith Foundations is a 7-week session of classes designed to help you understand what it means to be saved and to grow as a Christian.  Register HERE for the 2026 sessions.  Questions can be emailed to Elder Michelle Jackson at discipleship@newcov.org. \n\nEast Campus (8:45am-9:45am)\nWest Campus (9:45am – 10:45am)
URL:https://newcov.org/event/faith-foundations-session-3/2026-10-18/
LOCATION:New Covenant Christian Ministries – East & West\, 1760 Phillips Road\, Lithonia\, GA\, 30058\, United States
ATTACH;FMTTYPE=image/png:https://newcov.org/wp-content/uploads/2024/03/Discipleship-Ministry-3.png
END:VEVENT
BEGIN:VEVENT
DTSTART;VALUE=DATE:20261025
DTEND;VALUE=DATE:20261026
DTSTAMP:20260425T064039
CREATED:20260210T222718Z
LAST-MODIFIED:20260210T223157Z
UID:10002343-1792886400-1792972799@newcov.org
SUMMARY:Faith Foundations - Session 3
DESCRIPTION:Faith Foundations is a 7-week session of classes designed to help you understand what it means to be saved and to grow as a Christian.  Register HERE for the 2026 sessions.  Questions can be emailed to Elder Michelle Jackson at discipleship@newcov.org. \n\nEast Campus (8:45am-9:45am)\nWest Campus (9:45am – 10:45am)
URL:https://newcov.org/event/faith-foundations-session-3/2026-10-25/
LOCATION:New Covenant Christian Ministries – East & West\, 1760 Phillips Road\, Lithonia\, GA\, 30058\, United States
ATTACH;FMTTYPE=image/png:https://newcov.org/wp-content/uploads/2024/03/Discipleship-Ministry-3.png
END:VEVENT
BEGIN:VEVENT
DTSTART;VALUE=DATE:20261101
DTEND;VALUE=DATE:20261102
DTSTAMP:20260425T064039
CREATED:20260210T222718Z
LAST-MODIFIED:20260210T223157Z
UID:10002344-1793491200-1793573999@newcov.org
SUMMARY:Faith Foundations - Session 3
DESCRIPTION:Faith Foundations is a 7-week session of classes designed to help you understand what it means to be saved and to grow as a Christian.  Register HERE for the 2026 sessions.  Questions can be emailed to Elder Michelle Jackson at discipleship@newcov.org. \n\nEast Campus (8:45am-9:45am)\nWest Campus (9:45am – 10:45am)
URL:https://newcov.org/event/faith-foundations-session-3/2026-11-01/
LOCATION:New Covenant Christian Ministries – East & West\, 1760 Phillips Road\, Lithonia\, GA\, 30058\, United States
ATTACH;FMTTYPE=image/png:https://newcov.org/wp-content/uploads/2024/03/Discipleship-Ministry-3.png
END:VEVENT
BEGIN:VEVENT
DTSTART;VALUE=DATE:20261108
DTEND;VALUE=DATE:20261109
DTSTAMP:20260425T064039
CREATED:20260210T222718Z
LAST-MODIFIED:20260210T223157Z
UID:10002345-1794096000-1794182399@newcov.org
SUMMARY:Faith Foundations - Session 3
DESCRIPTION:Faith Foundations is a 7-week session of classes designed to help you understand what it means to be saved and to grow as a Christian.  Register HERE for the 2026 sessions.  Questions can be emailed to Elder Michelle Jackson at discipleship@newcov.org. \n\nEast Campus (8:45am-9:45am)\nWest Campus (9:45am – 10:45am)
URL:https://newcov.org/event/faith-foundations-session-3/2026-11-08/
LOCATION:New Covenant Christian Ministries – East & West\, 1760 Phillips Road\, Lithonia\, GA\, 30058\, United States
ATTACH;FMTTYPE=image/png:https://newcov.org/wp-content/uploads/2024/03/Discipleship-Ministry-3.png
END:VEVENT
BEGIN:VEVENT
DTSTART;TZID=America/New_York:20261114T090000
DTEND;TZID=America/New_York:20261114T130000
DTSTAMP:20260425T064039
CREATED:20260113T191208Z
LAST-MODIFIED:20260113T191208Z
UID:10002291-1794646800-1794661200@newcov.org
SUMMARY:New Member Orientation - Super Saturday
DESCRIPTION:New members or members who have not completed Orientation can complete all sessions in one day.  Take advantage of this opportunity by registering here.
URL:https://newcov.org/event/new-member-orientation-super-saturday-5/
LOCATION:New Covenant Christian Ministries – West\, 1760 Phillips Road\, Lithonia\, GA\, 30058\, United States
ATTACH;FMTTYPE=image/png:https://newcov.org/wp-content/uploads/2025/03/New-Members-400x250-1.png
END:VEVENT
END:VCALENDAR