BEGIN:VCALENDAR
VERSION:2.0
PRODID:-//New Covenant Christian Ministries - ECPv6.15.20//NONSGML v1.0//EN
CALSCALE:GREGORIAN
METHOD:PUBLISH
X-ORIGINAL-URL:https://newcov.org
X-WR-CALDESC:Events for New Covenant Christian Ministries
REFRESH-INTERVAL;VALUE=DURATION:PT1H
X-Robots-Tag:noindex
X-PUBLISHED-TTL:PT1H
BEGIN:VTIMEZONE
TZID:America/New_York
BEGIN:DAYLIGHT
TZOFFSETFROM:-0500
TZOFFSETTO:-0400
TZNAME:EDT
DTSTART:20250309T070000
END:DAYLIGHT
BEGIN:STANDARD
TZOFFSETFROM:-0400
TZOFFSETTO:-0500
TZNAME:EST
DTSTART:20251102T060000
END:STANDARD
BEGIN:DAYLIGHT
TZOFFSETFROM:-0500
TZOFFSETTO:-0400
TZNAME:EDT
DTSTART:20260308T070000
END:DAYLIGHT
BEGIN:STANDARD
TZOFFSETFROM:-0400
TZOFFSETTO:-0500
TZNAME:EST
DTSTART:20261101T060000
END:STANDARD
BEGIN:DAYLIGHT
TZOFFSETFROM:-0500
TZOFFSETTO:-0400
TZNAME:EDT
DTSTART:20270314T070000
END:DAYLIGHT
BEGIN:STANDARD
TZOFFSETFROM:-0400
TZOFFSETTO:-0500
TZNAME:EST
DTSTART:20271107T060000
END:STANDARD
END:VTIMEZONE
BEGIN:VEVENT
DTSTART;VALUE=DATE:20260405
DTEND;VALUE=DATE:20260406
DTSTAMP:20260424T133246
CREATED:20260324T001522Z
LAST-MODIFIED:20260324T001522Z
UID:10002376-1775347200-1775433599@newcov.org
SUMMARY:Resurrection Sunday Service
DESCRIPTION:The Resurrection makes all the difference. Join us as we celebrate our Risen Lord and Savior Jesus Christ!  You are welcome to worship with us at 10 a.m. at our Covington campus and 11 a.m. at our Lithonia campus.
URL:https://newcov.org/event/resurrection-sunday-service-2/
LOCATION:GA
ATTACH;FMTTYPE=image/png:https://newcov.org/wp-content/uploads/2024/03/400x200EasterSunday-event.png
END:VEVENT
END:VCALENDAR