BEGIN:VCALENDAR
VERSION:2.0
PRODID:-//New Covenant Christian Ministries - ECPv6.15.20//NONSGML v1.0//EN
CALSCALE:GREGORIAN
METHOD:PUBLISH
X-WR-CALNAME:New Covenant Christian Ministries
X-ORIGINAL-URL:https://newcov.org
X-WR-CALDESC:Events for New Covenant Christian Ministries
REFRESH-INTERVAL;VALUE=DURATION:PT1H
X-Robots-Tag:noindex
X-PUBLISHED-TTL:PT1H
BEGIN:VTIMEZONE
TZID:America/New_York
BEGIN:DAYLIGHT
TZOFFSETFROM:-0500
TZOFFSETTO:-0400
TZNAME:EDT
DTSTART:20250309T070000
END:DAYLIGHT
BEGIN:STANDARD
TZOFFSETFROM:-0400
TZOFFSETTO:-0500
TZNAME:EST
DTSTART:20251102T060000
END:STANDARD
BEGIN:DAYLIGHT
TZOFFSETFROM:-0500
TZOFFSETTO:-0400
TZNAME:EDT
DTSTART:20260308T070000
END:DAYLIGHT
BEGIN:STANDARD
TZOFFSETFROM:-0400
TZOFFSETTO:-0500
TZNAME:EST
DTSTART:20261101T060000
END:STANDARD
BEGIN:DAYLIGHT
TZOFFSETFROM:-0500
TZOFFSETTO:-0400
TZNAME:EDT
DTSTART:20270314T070000
END:DAYLIGHT
BEGIN:STANDARD
TZOFFSETFROM:-0400
TZOFFSETTO:-0500
TZNAME:EST
DTSTART:20271107T060000
END:STANDARD
END:VTIMEZONE
BEGIN:VEVENT
DTSTART;TZID=America/New_York:20260314T100000
DTEND;TZID=America/New_York:20260314T120000
DTSTAMP:20260424T170101
CREATED:20260205T194106Z
LAST-MODIFIED:20260218T013839Z
UID:10002297-1773482400-1773489600@newcov.org
SUMMARY:The College Conversation
DESCRIPTION:Parents and students are invited to a practical and encouraging discussion designed to take the confusion out of the college process.  The conversations will provide honest insights into two-year\, technical\, and four-year college options\, scholarships\, and related resources. Enrollment experts from local colleges and universities will be on-site including Georgia State University which will offer instant admission decisions during the event.  Come get clarity and take next steps with confidence.   Register for the conversation HERE. \n  \nIMPORTANT INFORMATION REGARDING GEORGIA STATE’S INSTANT DECISION PROCESS:\nThe process is open to all applicants of Georgia State’s Atlanta and Perimeter campuses.\n\nAn instant decision is not guaranteed for all participants. Admission decisions are based on the materials submitted\, including transcripts and test scores\, if applicable.\nTo participate in Instant Decision Day\, your application must be submitted before New Covenant’s College Conversation. Once your application is complete\, you may bring your official transcripts with you for review.\nRegister to be considered for the instant decision HERE.\nIf you’ve already completed your application and submitted your official transcripts\, you’re all set. If you’re unsure\, check your application status to see what you’re missing.\n\n  \n 
URL:https://newcov.org/event/the-college-conversation/
LOCATION:New Covenant Christian Ministries – West\, 1760 Phillips Road\, Lithonia\, GA\, 30058\, United States
ATTACH;FMTTYPE=image/png:https://newcov.org/wp-content/uploads/2026/02/College-Conversation-Web-Event.png
END:VEVENT
BEGIN:VEVENT
DTSTART;TZID=America/New_York:20260314T100000
DTEND;TZID=America/New_York:20260314T120000
DTSTAMP:20260424T170101
CREATED:20260212T182514Z
LAST-MODIFIED:20260218T023733Z
UID:10002346-1773482400-1773489600@newcov.org
SUMMARY:Man Talk 3
DESCRIPTION:Senior Campus Pastor Billy R. Johnson and Campus Pastor Kenneth Bryant will lead an in‑depth discussion on the meaning and expression of a consecrated life for the kingdom man.  All men ages 15 and older are invited to participate. During this gathering\, the young brothers ages 15–25 will offer valuable insight from their generational perspective. Please confirm your participation here so that adequate accommodations are in place for this gathering. \n 
URL:https://newcov.org/event/man-talk-3/
LOCATION:New Covenant Christian Ministries – West\, 1760 Phillips Road\, Lithonia\, GA\, 30058\, United States
ATTACH;FMTTYPE=image/png:https://newcov.org/wp-content/uploads/2025/05/Man-Talk-Event.png
END:VEVENT
BEGIN:VEVENT
DTSTART;TZID=America/New_York:20260314T100000
DTEND;TZID=America/New_York:20260314T140000
DTSTAMP:20260424T170101
CREATED:20260218T184420Z
LAST-MODIFIED:20260218T184420Z
UID:10002349-1773482400-1773496800@newcov.org
SUMMARY:Prom Dress Giveaway
DESCRIPTION:Hosted by the Youth & Young Adults at the East Campus on March 14th.  Teen girls will be able to choose from a selection of gently used gowns and accessories.  Donations can be placed in the foyer at each campus until Sunday\, March 8. \nTo volunteer or be a recipient\, follow THIS LINK. \nContact:  youth@newcov.org \n  \n 
URL:https://newcov.org/event/prom-dress-giveaway/
LOCATION:New Covenant Christian Ministries – East\, 14147 Highway 278\, Covington\, GA\, 30014\, United States
ATTACH;FMTTYPE=image/jpeg:https://newcov.org/wp-content/uploads/2026/02/Prom-Dress-Giveaway-Event.jpg
END:VEVENT
END:VCALENDAR