BEGIN:VCALENDAR
VERSION:2.0
PRODID:-//New Covenant Christian Ministries - ECPv6.15.20//NONSGML v1.0//EN
CALSCALE:GREGORIAN
METHOD:PUBLISH
X-WR-CALNAME:New Covenant Christian Ministries
X-ORIGINAL-URL:https://newcov.org
X-WR-CALDESC:Events for New Covenant Christian Ministries
REFRESH-INTERVAL;VALUE=DURATION:PT1H
X-Robots-Tag:noindex
X-PUBLISHED-TTL:PT1H
BEGIN:VTIMEZONE
TZID:America/New_York
BEGIN:DAYLIGHT
TZOFFSETFROM:-0500
TZOFFSETTO:-0400
TZNAME:EDT
DTSTART:20250309T070000
END:DAYLIGHT
BEGIN:STANDARD
TZOFFSETFROM:-0400
TZOFFSETTO:-0500
TZNAME:EST
DTSTART:20251102T060000
END:STANDARD
BEGIN:DAYLIGHT
TZOFFSETFROM:-0500
TZOFFSETTO:-0400
TZNAME:EDT
DTSTART:20260308T070000
END:DAYLIGHT
BEGIN:STANDARD
TZOFFSETFROM:-0400
TZOFFSETTO:-0500
TZNAME:EST
DTSTART:20261101T060000
END:STANDARD
BEGIN:DAYLIGHT
TZOFFSETFROM:-0500
TZOFFSETTO:-0400
TZNAME:EDT
DTSTART:20270314T070000
END:DAYLIGHT
BEGIN:STANDARD
TZOFFSETFROM:-0400
TZOFFSETTO:-0500
TZNAME:EST
DTSTART:20271107T060000
END:STANDARD
END:VTIMEZONE
BEGIN:VEVENT
DTSTART;TZID=America/New_York:20260228T090000
DTEND;TZID=America/New_York:20260228T130000
DTSTAMP:20260424T170103
CREATED:20260113T190819Z
LAST-MODIFIED:20260206T192208Z
UID:10002288-1772269200-1772283600@newcov.org
SUMMARY:New Member Orientation - Super Saturday
DESCRIPTION:New members or members who have not completed Orientation can complete all sessions in one day.  Take advantage of this opportunity by registering here.
URL:https://newcov.org/event/new-member-orientation-super-saturday-2/
LOCATION:New Covenant Christian Ministries – West\, 1760 Phillips Road\, Lithonia\, GA\, 30058\, United States
ATTACH;FMTTYPE=image/png:https://newcov.org/wp-content/uploads/2025/03/New-Members-400x250-1.png
END:VEVENT
BEGIN:VEVENT
DTSTART;TZID=America/New_York:20260228T100000
DTEND;TZID=America/New_York:20260228T150000
DTSTAMP:20260424T170103
CREATED:20260203T185754Z
LAST-MODIFIED:20260213T162804Z
UID:10002295-1772272800-1772290800@newcov.org
SUMMARY:Drama & Mime Workshop
DESCRIPTION:This workshop will be facilitated by actor Nic Star and mime artist Wayne Reynolds.  Whether you’re a dancer who wants to learn the art of mime\, an actor seeking to strengthen your craft\, or a first-timer who is curious about these art forms\, this workshop is for you. Register here and come ready to learn\, grow\, and be inspired as we develop our talents for the Kingdom.  Questions can be emailed to pgardner@newcov.org. \n 
URL:https://newcov.org/event/drama-mime-workshop/
LOCATION:New Covenant Christian Ministries – West\, 1760 Phillips Road\, Lithonia\, GA\, 30058\, United States
ATTACH;FMTTYPE=image/png:https://newcov.org/wp-content/uploads/2024/01/Worship-Arts-400x200-2.png
END:VEVENT
END:VCALENDAR