BEGIN:VCALENDAR
VERSION:2.0
PRODID:-//New Covenant Christian Ministries - ECPv6.15.20//NONSGML v1.0//EN
CALSCALE:GREGORIAN
METHOD:PUBLISH
X-ORIGINAL-URL:https://newcov.org
X-WR-CALDESC:Events for New Covenant Christian Ministries
REFRESH-INTERVAL;VALUE=DURATION:PT1H
X-Robots-Tag:noindex
X-PUBLISHED-TTL:PT1H
BEGIN:VTIMEZONE
TZID:America/New_York
BEGIN:DAYLIGHT
TZOFFSETFROM:-0500
TZOFFSETTO:-0400
TZNAME:EDT
DTSTART:20250309T070000
END:DAYLIGHT
BEGIN:STANDARD
TZOFFSETFROM:-0400
TZOFFSETTO:-0500
TZNAME:EST
DTSTART:20251102T060000
END:STANDARD
BEGIN:DAYLIGHT
TZOFFSETFROM:-0500
TZOFFSETTO:-0400
TZNAME:EDT
DTSTART:20260308T070000
END:DAYLIGHT
BEGIN:STANDARD
TZOFFSETFROM:-0400
TZOFFSETTO:-0500
TZNAME:EST
DTSTART:20261101T060000
END:STANDARD
BEGIN:DAYLIGHT
TZOFFSETFROM:-0500
TZOFFSETTO:-0400
TZNAME:EDT
DTSTART:20270314T070000
END:DAYLIGHT
BEGIN:STANDARD
TZOFFSETFROM:-0400
TZOFFSETTO:-0500
TZNAME:EST
DTSTART:20271107T060000
END:STANDARD
END:VTIMEZONE
BEGIN:VEVENT
DTSTART;VALUE=DATE:20260108
DTEND;VALUE=DATE:20260129
DTSTAMP:20260424T223117
CREATED:20260107T003348Z
LAST-MODIFIED:20260111T120752Z
UID:10001546-1767830400-1769644799@newcov.org
SUMMARY:21 Days of Prayer & Fasting
DESCRIPTION:Our 2026 theme is Consecrated for His Purpose\, a reminder that God still sets His people apart—not to escape the world\, but to stand boldly in it.   \nTo begin our year\, we invite you to join us in a time of fasting and prayer January 8-28\, 2026.   To support our time of consecration\, prayer and fasting\, a daily guide is available here.   Additionally\, we will gather on a corporate prayer call each Wednesday morning in January at 7:00 a.m. and then culminate the day with a focused hour of Bible Study online at 7:15 p.m. each Wednesday evening.  \nCorporate Prayer Call:  Dial (425) 436-6373 and enter Access Code 859138# \nOnline Bible Study:  Tune in live on Facebook\, YouTube and www.newcov.org \nListen to Recent Prayer Call Recording:  Dial (425) 436-6309 and enter Access Code 859138#.  Disregard reference key prompt and enter # key again.
URL:https://newcov.org/event/21-days-of-prayer-fasting/
LOCATION:GA
ATTACH;FMTTYPE=image/png:https://newcov.org/wp-content/uploads/2026/01/Prayer-Fasting-2026.png
END:VEVENT
BEGIN:VEVENT
DTSTART;TZID=America/New_York:20260124T090000
DTEND;TZID=America/New_York:20260124T113000
DTSTAMP:20260424T223117
CREATED:20260107T011031Z
LAST-MODIFIED:20260123T034539Z
UID:10001547-1769245200-1769254200@newcov.org
SUMMARY:S.A.L.T. Training Session
DESCRIPTION:Due to the expected inclement weather this weekend\, all meetings and worship services at both our East and West campuses scheduled for Saturday\, January 24th\, and Sunday\, January 25th\, have been cancelled.
URL:https://newcov.org/event/s-a-l-t-training-session/
LOCATION:New Covenant Christian Ministries – West\, 1760 Phillips Road\, Lithonia\, GA\, 30058\, United States
ATTACH;FMTTYPE=image/png:https://newcov.org/wp-content/uploads/2024/01/S.A.L.T.-Canceled.png
END:VEVENT
END:VCALENDAR